Workbook
Name Table_herbicides: Table1[]

Sheet Information
D2: WAMITT
D3: The Weeds Action Management Integrated Threshold Tool
D4: for Australian cotton production
D7: WAMITT threshold models and concept created by Dr Graham Charles
D8: Technical Specialist Weeds, CottonInfo
D9: graham.charles15@outlook.com
D11: Interface and additional modelling by Dr David Thornby
D12: Innokas Intellectual Services
D13: david@innokasintel.com
D16: WAMITT and underlying modelling work was
D17: funded by the Australian Cotton Research and Development Corporation
D35: Head to the 'Front Page' tab to use the tool.
E37: Enter values or select from dropdowns in the brown cells
D38: ❓ | E38: Click the ? cells to get more information

Sheet Front Page
B1: WAMITT
D2: Expected yield value:
B3: Paddock name | C3: Tester | D3: Cotton price | E3: 550 | F3: ($/bale)
B4: Average weed height (cm) | C4: 10 | D4: Cotton yield | E4: 12 | F4: (bales/ha)
B5: Average weed density (weeds per m²) | C5: 5 | D5: Anticipated value: | E5: =E4*E3 -> 6600 | F5: ($/ha)
B7: How do you want to calculate growing degree days? | C7: base 15.5 C | D7: ❓
B8: What situation describes your weed problem? | C8: Large broadleaf 15.5 | D8: < Click the cell at left to select a model
B10: Choose your nearest location | C10: Murray/Murrumbidgee
B12: How many degree days have passed since crop planting? | D12: =GrowthEqns!A19 -> Enter GDD in base 15.5 deg C
C13: 200 | D13: 100 | E13: 520 | F13: =IF(ChartData!A11="12",'Front Page'!C13,IF(ChartData!A11="15.5",'Front Page'!D13,'Front Page'!E13)) -> 100
B14: How many degree days after planting did these weeds emerge?
C15: 0 | D15: 0 | E15: 100 | F15: =IF(ChartData!A13="12",'Front Page'!C15,IF(ChartData!A11="15.5",'Front Page'!D15,'Front Page'!E15)) -> 0
C17: Predicted yield loss from this weed burden: | D17: =Equations!K10 -> 0.016077562
B21: How would you like to specify a weed control tactic?
C22: By product name | D22: < Click the cell at left to select a method
B23: Specify a herbicide below | C23: Typical rate | D23: Actual rate | E23: $/ha
B24: trifluralin | C24: =_xlfn.CONCAT(VLOOKUP(B24,Table1[[Active ingredient]:[Unit (L or kg)]],2,FALSE)," ",VLOOKUP(B24,Table1[[Active ingredient]:[Unit (L or kg)]],4,FALSE),"/ha") -> 0.8 L/ha | D24: 5 | E24: =VLOOKUP(B24,Table1[[Active ingredient]:[Unit (L or kg)]],3,FALSE)*'Front Page'!D24 -> 36.25 | F24: =IF(D24="","Actual rate must not be empty","")
B25: Boxer Gold | C25: =_xlfn.CONCAT(VLOOKUP(B25,Table1[],3,FALSE)," ",VLOOKUP(B25,Table1[],5,FALSE),"/ha") -> 2.5 L/ha | D25: 1 | E25: =VLOOKUP(B25,Table1[],4,FALSE)*'Front Page'!D25 -> 9.4 | F25: =IF(D25="","Actual rate must not be empty","")
B26: Herbicide (enter yours here) | C26: An herbicide | D26: 1 | E26: 26 | F26: =IF(E26="","$/ha must not be empty","")
D27: Herbicide Cost | E27: =IF(ISNUMBER(SEARCH("active", C22)), E24, IF(ISNUMBER(SEARCH("product", C22)), E25, E26)) -> 9.4 | F27: /ha
G28: ❓ | H28: What do the curves mean?
B29: Application cost ($/ha) (Adjuvants, machinery etc) | C29: 15 | D29: Total cost | E29: =E27+C29 -> 24.4 | F29: /ha | G29: ❓ | H29: What do the straight lines mean?
B30: Yield Loss Threshold: | C30: =Equations!C21 -> 0.0036969697 | D30: ❓ | G30: Analysis outcome: | H30: =IF(ISNA(Equations!K14),"The threshold value is too large for normal analysis",Equations!K14) -> Potential value of lost yield is greater than weed control cost. Control weeds ASAP.
B31: Manual Threshold: | C31: 0.005 | D31: ❓ | G31: Please note: | H31: =Equations!K16 -> The Australian Cotton HRMS suggests using 6 different modes of action every two years. Consider using a different option next time, to manage resistance.
B32: Define the Critical Period with: | C32: Calculated threshold | H32: =IF(AND(Equations!T20="yes",ChartData!D69>0),Equations!P29,"")

Sheet GrowthEqns
A1: Location List | D1: Equations | F1: a | G1: b | H1: c | I1: GGD/D | J1: GDD/cumGDD = ax^2+bx+c
A2: Central QLD | D2: Central QLD12 | F2: -2.4631e-06 | G2: 0.0092155 | H2: 7.9474 | I2: =F2*$B$14^2+G2*$B$14+H2 -> 8.844319
A3: Darling Downs | D3: Central QLD15.5 | F3: -4.3416e-06 | G3: 0.011997 | H3: 4.8613 | I3: =F3*$B$14^2+G3*$B$14+H3 -> 6.017584
A4: St George | D4: Central QLD15-32 | F4: -4.0902e-06 | G4: 0.010586 | H4: 4.8391 | I4: =F4*$B$14^2+G4*$B$14+H4 -> 5.856798
A5: Gwydir/Namoi | D5: Gwydir/Namoi12 | F5: -5.8945e-06 | G5: 0.015802 | H5: 3.9285 | I5: =F5*$B$14^2+G5*$B$14+H5 -> 5.449755
A6: Macquarie | D6: Gwydir/Namoi15.5 | F6: -1.2539e-05 | G6: 0.022027 | H6: 1.6323 | I6: =F6*$B$14^2+G6*$B$14+H6 -> 3.70961
A7: Murray/Murrumbidgee | D7: Gwydir/Namoi15-32 | F7: -1.2367e-05 | G7: 0.020426 | H7: 1.7444 | I7: =F7*$B$14^2+G7*$B$14+H7 -> 3.66333
A8: Northern QLD | D8: Macquarie12 | F8: -1.0856e-05 | G8: 0.020865 | H8: 2.2145 | I8: =F8*$B$14^2+G8*$B$14+H8 -> 4.19244
A9: Katherine/Kununurra | D9: Macquarie15.5 | F9: -2.532e-05 | G9: 0.02941 | H9: 0.52141 | I9: =F9*$B$14^2+G9*$B$14+H9 -> 3.20921
D10: Macquarie15-32 | F10: -2.5067e-05 | G10: 0.02768 | H10: 0.65847 | I10: =F10*$B$14^2+G10*$B$14+H10 -> 3.1758
A11: Selected location | B11: ='Front Page'!C10 -> Murray/Murrumbidgee | D11: Darling Downs12 | F11: -4.8155e-06 | G11: 0.012951 | H11: 5.5662 | I11: =F11*$B$14^2+G11*$B$14+H11 -> 6.813145
A12: Current base | B12: =ChartData!A11 -> 15.5 | D12: Darling Downs15.5 | F12: -9.4924e-06 | G12: 0.017352 | H12: 2.9131 | I12: =F12*$B$14^2+G12*$B$14+H12 -> 4.553376
A13: Concat | B13: =_xlfn.CONCAT(B11,B12) -> Murray/Murrumbidgee15.5 | D13: Darling Downs15-32 | F13: -9.2189e-06 | G13: 0.016323 | H13: 2.9621 | I13: =F13*$B$14^2+G13*$B$14+H13 -> 4.502211
A14: Current GDD | B14: =ChartData!B72 -> 100 | D14: St George12 | F14: -6.5761e-06 | G14: 0.017584 | H14: 4.2054 | I14: =F14*$B$14^2+G14*$B$14+H14 -> 5.898039
A15: Current GDD/day today | B15: =VLOOKUP(B13,D:I,6,FALSE) -> 3.07578 | D15: St George15.5 | F15: -1.2552e-05 | G15: 0.023322 | H15: 1.8314 | I15: =F15*$B$14^2+G15*$B$14+H15 -> 4.03808
A16: Selected weed type | B16: =IF(ISNUMBER(SEARCH("Multi",'Front Page'!C8)),"Mixed",IF(ISNUMBER(SEARCH("Large",'Front Page'!C8)),"Large","Small")) -> Large | D16: St George15-32 | F16: -1.2199e-05 | G16: 0.021374 | H16: 1.9933 | I16: =F16*$B$14^2+G16*$B$14+H16 -> 4.00871
D17: Murray/Murrumbidgee12 | F17: -9.1317e-06 | G17: 0.020869 | H17: 2.3868 | I17: =F17*$B$14^2+G17*$B$14+H17 -> 4.382383
A18: Statement for front page | D18: Murray/Murrumbidgee15.5 | F18: -1.9323e-05 | G18: 0.028882 | H18: 0.38081 | I18: =F18*$B$14^2+G18*$B$14+H18 -> 3.07578
A19: =_xlfn.CONCAT("Enter GDD in base ",B12," deg C") -> Enter GDD in base 15.5 deg C | D19: Murray/Murrumbidgee15-32 | F19: -1.7951e-05 | G19: 0.024043 | H19: 0.99585 | I19: =F19*$B$14^2+G19*$B$14+H19 -> 3.22064
D20: Northern QLD12 | F20: 9.6572e-07 | G20: -0.0028293 | H20: 18.24 | I20: =F20*$B$14^2+G20*$B$14+H20 -> 17.966727
D21: Northern QLD15.5 | F21: 1.5453e-06 | G21: -0.003587 | H21: 14.753 | I21: =F21*$B$14^2+G21*$B$14+H21 -> 14.409753
D22: Northern QLD15-32 | F22: 1.5288e-07 | G22: -0.00075906 | H22: 12.287 | I22: =F22*$B$14^2+G22*$B$14+H22 -> 12.212623
D23: Katherine/Kununurra12 | F23: -2.6704e-07 | G23: -0.0011191 | H23: 17.985 | I23: =F23*$B$14^2+G23*$B$14+H23 -> 17.87042
D24: Katherine/Kununurra15.5 | F24: -5.1894e-07 | G24: -0.001272 | H24: 14.429 | I24: =F24*$B$14^2+G24*$B$14+H24 -> 14.296611
D25: Katherine/Kununurra15-32 | F25: -1.0259e-06 | G25: -0.00035824 | H25: 12.867 | I25: =F25*$B$14^2+G25*$B$14+H25 -> 12.820917
A28: Growth % per GDD | B28: L | C28: k | D28: k0 | E28: Current % increase per GDD
A29: Large 12 | B29: 0.01045 | C29: -0.006479 | D29: 583.7 | E29: =B29/(1+EXP(-C29*($B$36-D29))) -> 0.010013914 | F29: y=L/(1+exp(-k*(x-x0)))
A30: Large 15 | B30: 0.009836 | C30: -0.013744 | D30: 497.67379 | E30: =B30/(1+EXP(-C30*($B$36-D30))) -> 0.0097945721
A31: Small 12 | B31: 0.0205 | C31: -0.008082 | D31: 552.4 | E31: =B31/(1+EXP(-C31*($B$36-D31))) -> 0.019983857
A32: Small 15 | B32: 0.02007 | C32: -0.01294 | D32: 445.2 | E32: =B32/(1+EXP(-C32*($B$36-D32))) -> 0.019842153
A33: Mixed 12 | B33: 0.01667 | C33: 4.408 | D33: 523.4 | E33: =B33/(1+($B$36/D33)^C33) -> 0.016658701 | F33: y=L/(1+(x/x0)^k)
A34: Mixed 15 | B34: 0.01659 | C34: 4.629 | D34: 418 | E34: =B34/(1+($B$36/D34)^C34) -> 0.016567928
A36: Current age of cohort | B36: ='Front Page'!F13-'Front Page'!F15 -> 100 | C36: GDD
A37: Chosen % incr/GDD | B37: =VLOOKUP(D39,A29:E34,5) -> 0.0097945721
A39: Select model: | B39: =B16 -> Large | C39: =IF(B12="12","12","15") -> 15 | D39: =_xlfn.CONCAT(B39," ",C39) -> Large 15

Sheet Herbicides
A1: Product | B1: Active ingredient | C1: Typical rate | D1: Price per unit ($) | E1: Unit (L or kg) | F1: price at typical rate | H1: Unused from CPMG: | M1: Selection methods:
A2: Guerilla | B2: amitrole+paraquat | C2: 1 | D2: 9 | E2: L | F2: =Table1[[#This Row],[Typical rate]]*Table1[[#This Row],[Price per unit ($)]] -> 9 | H2: bromoxynil | I2: not suitable timing for CPWC (13.75/L) | M2: By active ingredient
A3: Factor WG | B3: butroxydim | C3: 0.13 | D3: 119.78 | E3: kg | F3: =Table1[[#This Row],[Typical rate]]*Table1[[#This Row],[Price per unit ($)]] -> 15.5714 | H3: 2,2-DPA | I3: no price in guide | M3: By product name
A4: Affinity Force | B4: carfentrazone | C4: 0.085 | D4: 178.8 | E4: L | F4: =Table1[[#This Row],[Typical rate]]*Table1[[#This Row],[Price per unit ($)]] -> 15.198 | H4: chlorthal-dimethyl | I4: deregistered | M4: Manual entry
A5: Status | B5: clethodim | C5: 0.3 | D5: 9.53 | E5: L | F5: =Table1[[#This Row],[Typical rate]]*Table1[[#This Row],[Price per unit ($)]] -> 2.859 | H5: metolachlor | I5: no suitable timing (29.75/L)
A6: Xtendimax 2 | B6: dicamba | C6: 0.18 | D6: 30 | E6: L | F6: =Table1[[#This Row],[Typical rate]]*Table1[[#This Row],[Price per unit ($)]] -> 5.4 | H6: sethoxydim | I6: products available?
A7: Decision | B7: diclofop + sethoxydim | C7: 1 | D7: 24 | E7: L | F7: =Table1[[#This Row],[Typical rate]]*Table1[[#This Row],[Price per unit ($)]] -> 24 | H7: Xtendimax 2 | I7: Pricing unavailable
A8: Cheetah Gold | B8: diclofop + sethoxydim + fenoxaprop | C8: 1 | D8: 20.5 | E8: L | F8: =Table1[[#This Row],[Typical rate]]*Table1[[#This Row],[Price per unit ($)]] -> 20.5 | H8: 2,4-D | I8: not suitable timing for CPWC (8.29/L)
A9: Diuron 900 | B9: diuron | C9: 0.5 | D9: 17.03 | E9: kg | F9: =Table1[[#This Row],[Typical rate]]*Table1[[#This Row],[Price per unit ($)]] -> 8.515
A10: Terrain | B10: flumioxazin | C10: 0.03 | D10: 176.13 | E10: kg | F10: =Table1[[#This Row],[Typical rate]]*Table1[[#This Row],[Price per unit ($)]] -> 5.2839
A11: Starane Advanced | B11: fluroxypyr | C11: 0.45 | D11: 25.5 | E11: L | F11: =Table1[[#This Row],[Typical rate]]*Table1[[#This Row],[Price per unit ($)]] -> 11.475
A12: Biffo | B12: glufosinate | C12: 3.75 | D12: 11.5 | E12: L | F12: =Table1[[#This Row],[Typical rate]]*Table1[[#This Row],[Price per unit ($)]] -> 43.125
A13: Liberty | B13: glufosinate | C13: 1.5 | D13: 19.73 | E13: L | F13: =Table1[[#This Row],[Typical rate]]*Table1[[#This Row],[Price per unit ($)]] -> 29.595
A14: CRUCIAL | B14: glyphosate | C14: 1.2 | D14: 6.98 | E14: L | F14: =Table1[[#This Row],[Typical rate]]*Table1[[#This Row],[Price per unit ($)]] -> 8.376
A15: Roundup Ready PL | B15: glyphosate | C15: 1.15 | D15: 6.6 | E15: L | F15: =Table1[[#This Row],[Typical rate]]*Table1[[#This Row],[Price per unit ($)]] -> 7.59
A16: Roundup Ready with PLANTSHIELD | B16: glyphosate | C16: 1.3 | D16: 9.73 | E16: kg | F16: =Table1[[#This Row],[Typical rate]]*Table1[[#This Row],[Price per unit ($)]] -> 12.649
A17: Roundup UltraMax | B17: glyphosate | C17: 1 | D17: 6.95 | E17: L | F17: =Table1[[#This Row],[Typical rate]]*Table1[[#This Row],[Price per unit ($)]] -> 6.95
A18: Weedmaster DST | B18: glyphosate | C18: 1.5 | D18: 6.1 | E18: L | F18: =Table1[[#This Row],[Typical rate]]*Table1[[#This Row],[Price per unit ($)]] -> 9.15
A19: Verdict 520 | B19: haloxyfop | C19: 0.75 | D19: 46 | E19: L | F19: =Table1[[#This Row],[Typical rate]]*Table1[[#This Row],[Price per unit ($)]] -> 34.5
A20: Balance WG | B20: isoxaflutole | C20: 0.1 | D20: 130.59 | E20: kg | F20: =Table1[[#This Row],[Typical rate]]*Table1[[#This Row],[Price per unit ($)]] -> 13.059
... A35: TriflurX | B35: trifluralin | C35: 0.8 | D35: 7.25 | E35: L | F35: =Table1[[#This Row],[Typical rate]]*Table1[[#This Row],[Price per unit ($)]] -> 5.8
A37: Product (Alphabetical)
A38: Achieve WG
A39: Affinity Force
A40: Aggressor
A41: Balance WG
A42: Biffo
A43: Boxer Gold
A44: Cheetah Gold
A45: CRUCIAL
A46: Decision
A47: Diuron 900
A48: Dual Gold
... A71: Xtendimax 2

Sheet ChartData
A1: Current model selection: | C1: Indicated yield | D1: SELECTED MODEL | F1: Original tool equation | H1: Mungs (2020) | J1: Sunflower (2019) | L1: New Sunf 2025 simplified | N1: New Sunflowers (2025) | P1: Extended sunnys 15.5 | R1: Extended sunnys 12 | T1: Extended sunnys 15/32 | V1: Ext mungs 12 | X1: Ext mungs 15.5 | Z1: Ext mungs 15/32 | AB1: Multi 12 | AD1: Multi 15.5 | AF1: Multi 15/32 | AH1: Manual threshold | AI1: Latest mungs 12 | AK1: Latest mungs 15.5 | AM1: Latest mungs 15/32 | AO1: Latest sunnys 12 | AQ1: Latest sunnys 15.5 | AS1: Latest sunnys 15/32
A2: ='Front Page'!C8 -> Large broadleaf 15.5 | B2: GDD | C2: loss limit | D2: CTWR | E2: CWFP | F2: CTWR yield | G2: CWFP yield | H2: CTWR yield | I2: CWFP yield | J2: CTWR yield | K2: CWFP yield | L2: CTWR simp | M2: CWFP simp | N2: CTWR orig | O2: CWFP orig | P2: CTWR | Q2: CWFP | R2: CTWR | S2: CWFP | T2: CTWR | U2: CWFP | V2: CTWR | W2: CWFP | X2: CTWR | Y2: CWFP | Z2: CTWR | AA2: CWFP | AB2: CTWR | AC2: CWFP | AD2: CTWR | AE2: CWFP | AF2: CTWR | AG2: CWFP | AH2: =IF('Front Page'!$C$31>0,1-'Front Page'!$C$31,"") -> 0.995 | AI2: CTWR | AJ2: CWFP | AK2: CTWR | AL2: CWFP | AM2: CTWR | AN2: CWFP | AO2: CTWR | AP2: CWFP | AQ2: CTWR | AR2: CWFP | AS2: CTWR | AT2: CWFP
A3: Model Index: | B3: 0 | C3: =1-'Front Page'!$C$30 -> 0.99630303 | D3: =IF($A$4=1,F3,IF($A$4=2,AB3,IF($A$4=4,AF3,IF($A$4=5,N3,IF($A$4=3,AD3,IF($A$4=6,AQ3,IF($A$4=7,AO3,IF($A$4=8,AS3,IF($A$4=9,AI3,IF($A$4=10,AK3,IF($A$4=11,AM3))))))))))) -> 100 | E3: =IF($A$62="reversed",NA(),IF($A$4=1,G3,IF($A$4=2,AC3,IF($A$4=4,AG3,IF($A$4=5,O3,IF($A$4=3,AE3,IF($A$4=6,AR3,IF($A$4=7,AP3,IF($A$4=8,AT3,IF($A$4=9,AJ3,IF($A$4=10,AL3,IF($A$4=11,AN3)))))))))))) -> 34.510092 | F3: =Equations!$E$4/(1+EXP(Equations!$F$4*ChartData!B3*(Equations!$G$4*Equations!$C$4+Equations!$D$4))) -> 100 | G3: =Equations!$E$7*EXP(-EXP(-Equations!$F$7*(ChartData!B3-Equations!$G$7+Equations!$H$7*Equations!$C$7+Equations!$I$7*Equations!$D$7))) -> 72.179253 | H3: =Models!$B$13+Models!$C$13*EXP(Models!$D$13*ChartData!B3+(Models!$E$13*ChartData!B3*Models!$E$3)) -> 100 | I3: =Models!$B$50*EXP(-EXP(Models!$D$50*(ChartData!B3+Models!$C$50-(Models!$E$50*Models!$B$5)))) -> 61.371495 | J3: =Models!$B$12/(1+EXP(Models!$D$12*(ChartData!B3-Models!$C$12+Models!$E$12*ChartData!B3*Models!$B$5))) -> 120.99992 | K3: =Models!$B$49*EXP(-EXP(Models!$D$49*(ChartData!B3-Models!$C$49+(Models!$E$49*ChartData!B3*Models!$B$5)))) -> 0.8309687 | L3: =Models!$B$15/(1+EXP(Models!$D$15*(ChartData!B3*(1+Models!$D$15*Models!$B$5)-Models!$C$15))) -> 101.56277 | M3: =Models!$B$52*EXP(-EXP(Models!$D$52*(ChartData!B3*(1+Models!$D$52*Models!$B$5)-Models!$C$52))) -> 0.89783662 | N3: =Models!$B$15/(1+EXP(Models!$D$15*(ChartData!B3-Models!$D$15+Models!$E$15*ChartData!B3*Models!$B$5))) -> 100.00026 | O3: =Models!$B$52*EXP(-EXP(Models!$D$52*(ChartData!B3-Models!$C$52+Models!$E$52*ChartData!B3*Models!$B$5))) -> 0.89783662 | P3: =Models!$B$16*Models!$I$16+(100-Models!$B$16*Models!$I$16)/(1+EXP(Models!$C$16*(ChartData!B3-Models!$E$16+Models!$B$4*Models!$F$16+Models!$B$4*Models!$G$16*Models!$I$16+Models!$B$5*Models!$H$16))) -> 98.760577 | Q3: =Models!$B$53*EXP(-EXP(Models!$D$53*(ChartData!B3+Models!$C$53+Models!$B$5*Models!$E$53+Models!$B$4*Models!$F$53))) -> 32.831734 | R3: =Models!$B$17*Models!$I$17+(100-Models!$B$17*Models!$I$17)/(1+EXP(Models!$C$17*(ChartData!B3-Models!$E$17+Models!$B$4*Models!$F$17+Models!$B$4*Models!$G$17*Models!$I$17+Models!$B$5*Models!$H$17))) -> 98.936331 | S3: =Models!$B$54*EXP(-EXP(Models!$D$54*(ChartData!B3+Models!$C$54+Models!$B$5*Models!$E$54+Models!$B$4*Models!$F$54))) -> 27.829263 | T3: =Models!$B$18*Models!$I$18+(100-Models!$B$18*Models!$I$18)/(1+EXP(Models!$C$18*(ChartData!B3-Models!$E$18+Models!$B$4*Models!$F$18+Models!$B$4*Models!$G$18*Models!$I$18+Models!$B$5*Models!$H$18))) -> 98.953621 | U3: =Models!$B$55*EXP(-EXP(Models!$D$55*(ChartData!B3+Models!$C$55+Models!$B$5*Models!$E$55+Models!$B$4*Models!$F$55))) -> 34.510463 | V3: =Models!$B$19*Models!$I$19+(100-Models!$B$19*Models!$I$19)/(1+EXP(Models!$C$19*(ChartData!$B3-Models!$E$19+Models!$B$5*ChartData!$B3*Models!$F$19+Models!$B$4*Models!$G$19))) -> 92.820505 | W3: =Models!$B$56*EXP(-EXP(Models!$D$56*(ChartData!B3+Models!$C$56+Models!$B$5*Models!$E$56+Models!$B$4*Models!$F$56))) -> 72.484399 | X3: =Models!$B$20*Models!$I$20+(100-Models!$B$20*Models!$I$20)/(1+EXP(Models!$C$20*(ChartData!$B3-Models!$E$20+Models!$B$5*ChartData!$B3*Models!$F$20+Models!$B$4*Models!$G$20))) -> 92.754049 | Y3: =Models!$B$57*EXP(-EXP(Models!$D$57*(ChartData!B3+Models!$C$57+Models!$B$5*Models!$E$57+Models!$B$4*Models!$F$57))) -> 73.037333 | Z3: =Models!$B$21*Models!$I$21+(100-Models!$B$21*Models!$I$21)/(1+EXP(Models!$C$21*(ChartData!$B3-Models!$E$21+Models!$B$5*ChartData!$B3*Models!$F$21+Models!$B$4*Models!$G$21))) -> 93.82448 | AA3: =Models!$B$58*EXP(-EXP(Models!$D$58*(ChartData!B3+Models!$C$58+Models!$B$5*Models!$E$58+Models!$B$4*Models!$F$58))) -> 73.052199 | AB3: =200/(1+EXP(Models!$D$22*((Models!$E$22*Models!$B$4+Models!$B$5)*ChartData!B3))) -> 100 | AC3: =100*EXP(-EXP(Models!$D$59*(ChartData!B3-Models!$C$59+Models!$E$59*Models!$B$4+Models!$F$59*Models!$B$5))) -> 66.837566 | AD3: =200/(1+EXP(Models!$D$23*((Models!$E$23*Models!$B$4+Models!$B$5)*ChartData!B3))) -> 100 | AE3: =100*EXP(-EXP(Models!$D$60*(ChartData!B3-Models!$C$60+Models!$E$60*Models!$B$4+Models!$F$60*Models!$B$5))) -> 67.137335 | AF3: =200/(1+EXP(Models!$D$24*((Models!$E$24*Models!$B$4+Models!$B$5)*ChartData!B3))) -> 100 | AG3: =100*EXP(-EXP(Models!$D$61*(ChartData!B3-Models!$C$61+Models!$E$61*Models!$B$4+Models!$F$61*Models!$B$5))) -> 67.197388 | AH3: =IF('Front Page'!$C$31>0,1-'Front Page'!$C$31,"") -> 0.995 | AI3: =Models!$B$25*Models!$I$25+(200-Models!$B$25*Models!$I$25)/(1+EXP(Models!$C$25*B3*(Models!$B$4*Models!$F$25+Models!$B$5+Models!$I$25*Models!$G$25))) -> 100 | AJ3: =100*EXP(-EXP(Models!$D$62*(ChartData!B3-Models!$C$62+Models!$E$62*Models!$B$4+Models!$F$62*Models!$B$5))) -> 72.484142 | AK3: =Models!$B$26*Models!$I$26+(200-Models!$B$26*Models!$I$26)/(1+EXP(Models!$C$26*B3*(Models!$B$4*Models!$F$26+Models!$B$5+Models!$I$26*Models!$G$26))) -> 100 | AL3: =100*EXP(-EXP(Models!$D$63*(ChartData!B3-Models!$C$63+Models!$E$63*Models!$B$4+Models!$F$63*Models!$B$5))) -> 73.037184 | AM3: =Models!$B$27*Models!$I$27+(200-Models!$B$27*Models!$I$27)/(1+EXP(Models!$C$27*B3*(Models!$B$4*Models!$F$27+Models!$B$5+Models!$I$27*Models!$G$27))) -> 107.78715 | AN3: =100*EXP(-EXP(Models!$D$64*(ChartData!B3-Models!$C$64+Models!$E$64*Models!$B$4+Models!$F$64*Models!$B$5))) -> 73.051816 | AO3: =Models!$B$28*Models!$I$28+(200-Models!$B$28*Models!$I$28)/(1+EXP(Models!$C$28*B3*(Models!$B$4*Models!$F$28+Models!$B$5+Models!$I$28*Models!$G$28))) -> 100 | AP3: =100*EXP(-EXP(Models!$D$65*(ChartData!B3-Models!$C$65+Models!$E$65*Models!$B$4+Models!$F$65*Models!$B$5))) -> 27.835953 | AQ3: =Models!$B$29*Models!$I$29+(200-Models!$B$29*Models!$I$29)/(1+EXP(Models!$C$29*B3*(Models!$B$4*Models!$F$29+Models!$B$5+Models!$I$29*Models!$G$29))) -> 100 | AR3: =100*EXP(-EXP(Models!$D$66*(ChartData!B3-Models!$C$66+Models!$E$66*Models!$B$4+Models!$F$66*Models!$B$5))) -> 34.510092 | AS3: =Models!$B$30*Models!$I$30+(200-Models!$B$30*Models!$I$30)/(1+EXP(Models!$C$30*B3*(Models!$B$4*Models!$F$30+Models!$B$5+Models!$I$30*Models!$G$30))) -> 104.81432 | AT3: =100*EXP(-EXP(Models!$D$67*(ChartData!B3-Models!$C$67+Models!$E$67*Models!$B$4+Models!$F$67*Models!$B$5))) -> 30.614112
A4: =IF(ISNUMBER(SEARCH("original",$A$2)),1, IF(ISNUMBER(SEARCH("Multi-species 12",$A$2)),2, IF(ISNUMBER(SEARCH("Multi-species 15/32",$A$2)),4, IF(ISNUMBER(SEARCH("New Sunflowers",$A$2)),5, IF(ISNUMBER(SEARCH("Multi-species 15.5",$A$2)),3, IF(ISNUMBER(SEARCH("Large broadleaf 15.5",$A$2)),6, IF(ISNUMBER(SEARCH("Large broadleaf 12",$A$2)),7, IF(ISNUMBER(SEARCH("Large broadleaf 15/32",$A$2)),8, IF(ISNUMBER(SEARCH("Small broadleaf 12",$A$2)),9,IF(ISNUMBER(SEARCH("Small broadleaf 15.5",$A$2)),10,IF(ISNUMBER(SEARCH("Small broadleaf 15/32",$A$2)),11))))))))))) -> 6 | B4: 10 | C4: =1-'Front Page'!$C$30 -> 0.99630303 | D4: =IF($A$4=1,F4,IF($A$4=2,AB4,IF($A$4=4,AF4,IF($A$4=5,N4,IF($A$4=3,AD4,IF($A$4=6,AQ4,IF($A$4=7,AO4,IF($A$4=8,AS4,IF($A$4=9,AI4,IF($A$4=10,AK4,IF($A$4=11,AM4))))))))))) -> 99.839211 | E4: =IF($A$62="reversed",NA(),IF($A$4=1,G4,IF($A$4=2,AC4,IF($A$4=4,AG4,IF($A$4=5,O4,IF($A$4=3,AE4,IF($A$4=6,AR4,IF($A$4=7,AP4,IF($A$4=8,AT4,IF($A$4=9,AJ4,IF($A$4=10,AL4,IF($A$4=11,AN4)))))))))))) -> 36.750764 | F4: =Equations!$E$4/(1+EXP(Equations!$F$4*ChartData!B4*(Equations!$G$4*Equations!$C$4+Equations!$D$4))) -> 99.904492 | G4: =Equations!$E$7*EXP(-EXP(-Equations!$F$7*(ChartData!B4-Equations!$G$7+Equations!$H$7*Equations!$C$7+Equations!$I$7*Equations!$D$7))) -> 72.95995 | H4: =Models!$B$13+Models!$C$13*EXP(Models!$D$13*ChartData!B4+(Models!$E$13*ChartData!B4*Models!$E$3)) -> 99.697252 | I4: =Models!$B$50*EXP(-EXP(Models!$D$50*(ChartData!B4+Models!$C$50-(Models!$E$50*Models!$B$5)))) -> 62.047693 | J4: =Models!$B$12/(1+EXP(Models!$D$12*(ChartData!B4-Models!$C$12+Models!$E$12*ChartData!B4*Models!$B$5))) -> 120.99989 | K4: =Models!$B$49*EXP(-EXP(Models!$D$49*(ChartData!B4-Models!$C$49+(Models!$E$49*ChartData!B4*Models!$B$5)))) -> 1.1494077 | L4: =Models!$B$15/(1+EXP(Models!$D$15*(ChartData!B4*(1+Models!$D$15*Models!$B$5)-Models!$C$15))) -> 100.41332 | M4: =Models!$B$52*EXP(-EXP(Models!$D$52*(ChartData!B4*(1+Models!$D$52*Models!$B$5)-Models!$C$52))) -> 1.2710678 | N4: =Models!$B$15/(1+EXP(Models!$D$15*(ChartData!B4-Models!$D$15+Models!$E$15*ChartData!B4*Models!$B$5))) -> 98.712948 | O4: =Models!$B$52*EXP(-EXP(Models!$D$52*(ChartData!B4-Models!$C$52+Models!$E$52*ChartData!B4*Models!$B$5))) -> 1.3159756 | P4: =Models!$B$16*Models!$I$16+(100-Models!$B$16*Models!$I$16)/(1+EXP(Models!$C$16*(ChartData!B4-Models!$E$16+Models!$B$4*Models!$F$16+Models!$B$4*Models!$G$16*Models!$I$16+Models!$B$5*Models!$H$16))) -> 98.732219 | Q4: =Models!$B$53*EXP(-EXP(Models!$D$53*(ChartData!B4+Models!$C$53+Models!$B$5*Models!$E$53+Models!$B$4*Models!$F$53))) -> 34.887863 | R4: =Models!$B$17*Models!$I$17+(100-Models!$B$17*Models!$I$17)/(1+EXP(Models!$C$17*(ChartData!B4-Models!$E$17+Models!$B$4*Models!$F$17+Models!$B$4*Models!$G$17*Models!$I$17+Models!$B$5*Models!$H$17))) -> 98.917044 | S4: =Models!$B$54*EXP(-EXP(Models!$D$54*(ChartData!B4+Models!$C$54+Models!$B$5*Models!$E$54+Models!$B$4*Models!$F$54))) -> 29.167342 | T4: =Models!$B$18*Models!$I$18+(100-Models!$B$18*Models!$I$18)/(1+EXP(Models!$C$18*(ChartData!B4-Models!$E$18+Models!$B$4*Models!$F$18+Models!$B$4*Models!$G$18*Models!$I$18+Models!$B$5*Models!$H$18))) -> 98.925232 | U4: =Models!$B$55*EXP(-EXP(Models!$D$55*(ChartData!B4+Models!$C$55+Models!$B$5*Models!$E$55+Models!$B$4*Models!$F$55))) -> 36.751172 | V4: =Models!$B$19*Models!$I$19+(100-Models!$B$19*Models!$I$19)/(1+EXP(Models!$C$19*(ChartData!$B4-Models!$E$19+Models!$B$5*ChartData!$B4*Models!$F$19+Models!$B$4*Models!$G$19))) -> 92.77887 | W4: =Models!$B$56*EXP(-EXP(Models!$D$56*(ChartData!B4+Models!$C$56+Models!$B$5*Models!$E$56+Models!$B$4*Models!$F$56))) -> 73.123013 | X4: =Models!$B$20*Models!$I$20+(100-Models!$B$20*Models!$I$20)/(1+EXP(Models!$C$20*(ChartData!$B4-Models!$E$20+Models!$B$5*ChartData!$B4*Models!$F$20+Models!$B$4*Models!$G$20))) -> 92.692058 | Y4: =Models!$B$57*EXP(-EXP(Models!$D$57*(ChartData!B4+Models!$C$57+Models!$B$5*Models!$E$57+Models!$B$4*Models!$F$57))) -> 73.983091 | Z4: =Models!$B$21*Models!$I$21+(100-Models!$B$21*Models!$I$21)/(1+EXP(Models!$C$21*(ChartData!$B4-Models!$E$21+Models!$B$5*ChartData!$B4*Models!$F$21+Models!$B$4*Models!$G$21))) -> 93.766331 | AA4: =Models!$B$58*EXP(-EXP(Models!$D$58*(ChartData!B4+Models!$C$58+Models!$B$5*Models!$E$58+Models!$B$4*Models!$F$58))) -> 74.049167 | AB4: =200/(1+EXP(Models!$D$22*((Models!$E$22*Models!$B$4+Models!$B$5)*ChartData!B4))) -> 99.930209 | AC4: =100*EXP(-EXP(Models!$D$59*(ChartData!B4-Models!$C$59+Models!$E$59*Models!$B$4+Models!$F$59*Models!$B$5))) -> 67.355607 | AD4: =200/(1+EXP(Models!$D$23*((Models!$E$23*Models!$B$4+Models!$B$5)*ChartData!B4))) -> 99.898678 | AE4: =100*EXP(-EXP(Models!$D$60*(ChartData!B4-Models!$C$60+Models!$E$60*Models!$B$4+Models!$F$60*Models!$B$5))) -> 67.898259 | AF4: =200/(1+EXP(Models!$D$24*((Models!$E$24*Models!$B$4+Models!$B$5)*ChartData!B4))) -> 99.888595 | AG4: =100*EXP(-EXP(Models!$D$61*(ChartData!B4-Models!$C$61+Models!$E$61*Models!$B$4+Models!$F$61*Models!$B$5))) -> 68.013755 | AH4: =IF('Front Page'!$C$31>0,1-'Front Page'!$C$31,"") -> 0.995 | AI4: =Models!$B$25*Models!$I$25+(200-Models!$B$25*Models!$I$25)/(1+EXP(Models!$C$25*B4*(Models!$B$4*Models!$F$25+Models!$B$5+Models!$I$25*Models!$G$25))) -> 99.904981 | AJ4: =100*EXP(-EXP(Models!$D$62*(ChartData!B4-Models!$C$62+Models!$E$62*Models!$B$4+Models!$F$62*Models!$B$5))) -> 73.122761 | AK4: =Models!$B$26*Models!$I$26+(200-Models!$B$26*Models!$I$26)/(1+EXP(Models!$C$26*B4*(Models!$B$4*Models!$F$26+Models!$B$5+Models!$I$26*Models!$G$26))) -> 99.865412 | AL4: =100*EXP(-EXP(Models!$D$63*(ChartData!B4-Models!$C$63+Models!$E$63*Models!$B$4+Models!$F$63*Models!$B$5))) -> 73.982924 | AM4: =Models!$B$27*Models!$I$27+(200-Models!$B$27*Models!$I$27)/(1+EXP(Models!$C$27*B4*(Models!$B$4*Models!$F$27+Models!$B$5+Models!$I$27*Models!$G$27))) -> 107.39667 | AN4: =100*EXP(-EXP(Models!$D$64*(ChartData!B4-Models!$C$64+Models!$E$64*Models!$B$4+Models!$F$64*Models!$B$5))) -> 74.048795 | AO4: =Models!$B$28*Models!$I$28+(200-Models!$B$28*Models!$I$28)/(1+EXP(Models!$C$28*B4*(Models!$B$4*Models!$F$28+Models!$B$5+Models!$I$28*Models!$G$28))) -> 99.890466 | AP4: =100*EXP(-EXP(Models!$D$65*(ChartData!B4-Models!$C$65+Models!$E$65*Models!$B$4+Models!$F$65*Models!$B$5))) -> 29.174095 | AQ4: =Models!$B$29*Models!$I$29+(200-Models!$B$29*Models!$I$29)/(1+EXP(Models!$C$29*B4*(Models!$B$4*Models!$F$29+Models!$B$5+Models!$I$29*Models!$G$29))) -> 99.839211 | AR4: =100*EXP(-EXP(Models!$D$66*(ChartData!B4-Models!$C$66+Models!$E$66*Models!$B$4+Models!$F$66*Models!$B$5))) -> 36.750764 | AS4: =Models!$B$30*Models!$I$30+(200-Models!$B$30*Models!$I$30)/(1+EXP(Models!$C$30*B4*(Models!$B$4*Models!$F$30+Models!$B$5+Models!$I$30*Models!$G$30))) -> 104.61397 | AT4: =100*EXP(-EXP(Models!$D$67*(ChartData!B4-Models!$C$67+Models!$E$67*Models!$B$4+Models!$F$67*Models!$B$5))) -> 32.412994
B5: 20 | C5: =1-'Front Page'!$C$30 -> 0.99630303 | D5: =IF($A$4=1,F5,IF($A$4=2,AB5,IF($A$4=4,AF5,IF($A$4=5,N5,IF($A$4=3,AD5,IF($A$4=6,AQ5,IF($A$4=7,AO5,IF($A$4=8,AS5,IF($A$4=9,AI5,IF($A$4=10,AK5,IF($A$4=11,AM5))))))))))) -> 99.678422 | E5: =IF($A$62="reversed",NA(),IF($A$4=1,G5,IF($A$4=2,AC5,IF($A$4=4,AG5,IF($A$4=5,O5,IF($A$4=3,AE5,IF($A$4=6,AR5,IF($A$4=7,AP5,IF($A$4=8,AT5,IF($A$4=9,AJ5,IF($A$4=10,AL5,IF($A$4=11,AN5)))))))))))) -> 38.991615 | F5: =Equations!$E$4/(1+EXP(Equations!$F$4*ChartData!B5*(Equations!$G$4*Equations!$C$4+Equations!$D$4))) -> 99.808983 | G5: =Equations!$E$7*EXP(-EXP(-Equations!$F$7*(ChartData!B5-Equations!$G$7+Equations!$H$7*Equations!$C$7+Equations!$I$7*Equations!$D$7))) -> 73.722916 | H5: =Models!$B$13+Models!$C$13*EXP(Models!$D$13*ChartData!B5+(Models!$E$13*ChartData!B5*Models!$E$3)) -> 99.395635 | I5: =Models!$B$50*EXP(-EXP(Models!$D$50*(ChartData!B5+Models!$C$50-(Models!$E$50*Models!$B$5)))) -> 62.715915 | J5: =Models!$B$12/(1+EXP(Models!$D$12*(ChartData!B5-Models!$C$12+Models!$E$12*ChartData!B5*Models!$B$5))) -> 120.99984 | K5: =Models!$B$49*EXP(-EXP(Models!$D$49*(ChartData!B5-Models!$C$49+(Models!$E$49*ChartData!B5*Models!$B$5)))) -> 1.555329 | L5: =Models!$B$15/(1+EXP(Models!$D$15*(ChartData!B5*(1+Models!$D$15*Models!$B$5)-Models!$C$15))) -> 99.263768 | M5: =Models!$B$52*EXP(-EXP(Models!$D$52*(ChartData!B5*(1+Models!$D$52*Models!$B$5)-Models!$C$52))) -> 1.7538988 | N5: =Models!$B$15/(1+EXP(Models!$D$15*(ChartData!B5-Models!$D$15+Models!$E$15*ChartData!B5*Models!$B$5))) -> 97.426065 | O5: =Models!$B$52*EXP(-EXP(Models!$D$52*(ChartData!B5-Models!$C$52+Models!$E$52*ChartData!B5*Models!$B$5))) -> 1.8699381 | P5: =Models!$B$16*Models!$I$16+(100-Models!$B$16*Models!$I$16)/(1+EXP(Models!$C$16*(ChartData!B5-Models!$E$16+Models!$B$4*Models!$F$16+Models!$B$4*Models!$G$16*Models!$I$16+Models!$B$5*Models!$H$16))) -> 98.703219 | Q5: =Models!$B$53*EXP(-EXP(Models!$D$53*(ChartData!B5+Models!$C$53+Models!$B$5*Models!$E$53+Models!$B$4*Models!$F$53))) -> 36.950148 | R5: =Models!$B$17*Models!$I$17+(100-Models!$B$17*Models!$I$17)/(1+EXP(Models!$C$17*(ChartData!B5-Models!$E$17+Models!$B$4*Models!$F$17+Models!$B$4*Models!$G$17*Models!$I$17+Models!$B$5*Models!$H$17))) -> 98.897411 | S5: =Models!$B$54*EXP(-EXP(Models!$D$54*(ChartData!B5+Models!$C$54+Models!$B$5*Models!$E$54+Models!$B$4*Models!$F$54))) -> 30.517094 | T5: =Models!$B$18*Models!$I$18+(100-Models!$B$18*Models!$I$18)/(1+EXP(Models!$C$18*(ChartData!B5-Models!$E$18+Models!$B$4*Models!$F$18+Models!$B$4*Models!$G$18*Models!$I$18+Models!$B$5*Models!$H$18))) -> 98.896082 | U5: =Models!$B$55*EXP(-EXP(Models!$D$55*(ChartData!B5+Models!$C$55+Models!$B$5*Models!$E$55+Models!$B$4*Models!$F$55))) -> 38.99206 | V5: =Models!$B$19*Models!$I$19+(100-Models!$B$19*Models!$I$19)/(1+EXP(Models!$C$19*(ChartData!$B5-Models!$E$19+Models!$B$5*ChartData!$B5*Models!$F$19+Models!$B$4*Models!$G$19))) -> 92.737013 | W5: =Models!$B$56*EXP(-EXP(Models!$D$56*(ChartData!B5+Models!$C$56+Models!$B$5*Models!$E$56+Models!$B$4*Models!$F$56))) -> 73.749617 | X5: =Models!$B$20*Models!$I$20+(100-Models!$B$20*Models!$I$20)/(1+EXP(Models!$C$20*(ChartData!$B5-Models!$E$20+Models!$B$5*ChartData!$B5*Models!$F$20+Models!$B$4*Models!$G$20))) -> 92.629578 | Y5: =Models!$B$57*EXP(-EXP(Models!$D$57*(ChartData!B5+Models!$C$57+Models!$B$5*Models!$E$57+Models!$B$4*Models!$F$57))) -> 74.901625 | Z5: =Models!$B$21*Models!$I$21+(100-Models!$B$21*Models!$I$21)/(1+EXP(Models!$C$21*(ChartData!$B5-Models!$E$21+Models!$B$5*ChartData!$B5*Models!$F$21+Models!$B$4*Models!$G$21))) -> 93.707677 | AA5: =Models!$B$58*EXP(-EXP(Models!$D$58*(ChartData!B5+Models!$C$58+Models!$B$5*Models!$E$58+Models!$B$4*Models!$F$58))) -> 75.01583 | AB5: =200/(1+EXP(Models!$D$22*((Models!$E$22*Models!$B$4+Models!$B$5)*ChartData!B5))) -> 99.860417 | AC5: =100*EXP(-EXP(Models!$D$59*(ChartData!B5-Models!$C$59+Models!$E$59*Models!$B$4+Models!$F$59*Models!$B$5))) -> 67.867622 | AD5: =200/(1+EXP(Models!$D$23*((Models!$E$23*Models!$B$4+Models!$B$5)*ChartData!B5))) -> 99.797357 | AE5: =100*EXP(-EXP(Models!$D$60*(ChartData!B5-Models!$C$60+Models!$E$60*Models!$B$4+Models!$F$60*Models!$B$5))) -> 68.645919 | AF5: =200/(1+EXP(Models!$D$24*((Models!$E$24*Models!$B$4+Models!$B$5)*ChartData!B5))) -> 99.777191 | AG5: =100*EXP(-EXP(Models!$D$61*(ChartData!B5-Models!$C$61+Models!$E$61*Models!$B$4+Models!$F$61*Models!$B$5))) -> 68.814793 | AH5: =IF('Front Page'!$C$31>0,1-'Front Page'!$C$31,"") -> 0.995 | AI5: =Models!$B$25*Models!$I$25+(200-Models!$B$25*Models!$I$25)/(1+EXP(Models!$C$25*B5*(Models!$B$4*Models!$F$25+Models!$B$5+Models!$I$25*Models!$G$25))) -> 99.809962 | AJ5: =100*EXP(-EXP(Models!$D$62*(ChartData!B5-Models!$C$62+Models!$E$62*Models!$B$4+Models!$F$62*Models!$B$5))) -> 73.74937 | AK5: =Models!$B$26*Models!$I$26+(200-Models!$B$26*Models!$I$26)/(1+EXP(Models!$C$26*B5*(Models!$B$4*Models!$F$26+Models!$B$5+Models!$I$26*Models!$G$26))) -> 99.730825 | AL5: =100*EXP(-EXP(Models!$D$63*(ChartData!B5-Models!$C$63+Models!$E$63*Models!$B$4+Models!$F$63*Models!$B$5))) -> 74.901441 | AM5: =Models!$B$27*Models!$I$27+(200-Models!$B$27*Models!$I$27)/(1+EXP(Models!$C$27*B5*(Models!$B$4*Models!$F$27+Models!$B$5+Models!$I$27*Models!$G$27))) -> 107.00619 | AN5: =100*EXP(-EXP(Models!$D$64*(ChartData!B5-Models!$C$64+Models!$E$64*Models!$B$4+Models!$F$64*Models!$B$5))) -> 75.015471 | AO5: =Models!$B$28*Models!$I$28+(200-Models!$B$28*Models!$I$28)/(1+EXP(Models!$C$28*B5*(Models!$B$4*Models!$F$28+Models!$B$5+Models!$I$28*Models!$G$28))) -> 99.780932 | AP5: =100*EXP(-EXP(Models!$D$65*(ChartData!B5-Models!$C$65+Models!$E$65*Models!$B$4+Models!$F$65*Models!$B$5))) -> 30.523901 | AQ5: =Models!$B$29*Models!$I$29+(200-Models!$B$29*Models!$I$29)/(1+EXP(Models!$C$29*B5*(Models!$B$4*Models!$F$29+Models!$B$5+Models!$I$29*Models!$G$29))) -> 99.678422 | AR5: =100*EXP(-EXP(Models!$D$66*(ChartData!B5-Models!$C$66+Models!$E$66*Models!$B$4+Models!$F$66*Models!$B$5))) -> 38.991615 | AS5: =Models!$B$30*Models!$I$30+(200-Models!$B$30*Models!$I$30)/(1+EXP(Models!$C$30*B5*(Models!$B$4*Models!$F$30+Models!$B$5+Models!$I$30*Models!$G$30))) -> 104.41362 | AT5: =100*EXP(-EXP(Models!$D$67*(ChartData!B5-Models!$C$67+Models!$E$67*Models!$B$4+Models!$F$67*Models!$B$5))) -> 34.22319
A6: Model Index is used to determine which dataset appears in columns D&E | B6: 30 | C6: =1-'Front Page'!$C$30 -> 0.99630303 | D6: =IF($A$4=1,F6,IF($A$4=2,AB6,IF($A$4=4,AF6,IF($A$4=5,N6,IF($A$4=3,AD6,IF($A$4=6,AQ6,IF($A$4=7,AO6,IF($A$4=8,AS6,IF($A$4=9,AI6,IF($A$4=10,AK6,IF($A$4=11,AM6))))))))))) -> 99.517635 | E6: =IF($A$62="reversed",NA(),IF($A$4=1,G6,IF($A$4=2,AC6,IF($A$4=4,AG6,IF($A$4=5,O6,IF($A$4=3,AE6,IF($A$4=6,AR6,IF($A$4=7,AP6,IF($A$4=8,AT6,IF($A$4=9,AJ6,IF($A$4=10,AL6,IF($A$4=11,AN6)))))))))))) -> 41.224577 | F6: =Equations!$E$4/(1+EXP(Equations!$F$4*ChartData!B6*(Equations!$G$4*Equations!$C$4+Equations!$D$4))) -> 99.713475 | G6: =Equations!$E$7*EXP(-EXP(-Equations!$F$7*(ChartData!B6-Equations!$G$7+Equations!$H$7*Equations!$C$7+Equations!$I$7*Equations!$D$7))) -> 74.468292 | H6: =Models!$B$13+Models!$C$13*EXP(Models!$D$13*ChartData!B6+(Models!$E$13*ChartData!B6*Models!$E$3)) -> 99.095144 | I6: =Models!$B$50*EXP(-EXP(Models!$D$50*(ChartData!B6+Models!$C$50-(Models!$E$50*Models!$B$5)))) -> 63.376095 | J6: =Models!$B$12/(1+EXP(Models!$D$12*(ChartData!B6-Models!$C$12+Models!$E$12*ChartData!B6*Models!$B$5))) -> 120.99977 | K6: =Models!$B$49*EXP(-EXP(Models!$D$49*(ChartData!B6-Models!$C$49+(Models!$E$49*ChartData!B6*Models!$B$5)))) -> 2.0619366 | L6: =Models!$B$15/(1+EXP(Models!$D$15*(ChartData!B6*(1+Models!$D$15*Models!$B$5)-Models!$C$15))) -> 98.114408 | M6: =Models!$B$52*EXP(-EXP(Models!$D$52*(ChartData!B6*(1+Models!$D$52*Models!$B$5)-Models!$C$52))) -> 2.3633395 | N6: =Models!$B$15/(1+EXP(Models!$D$15*(ChartData!B6-Models!$D$15+Models!$E$15*ChartData!B6*Models!$B$5))) -> 96.140034 | O6: =Models!$B$52*EXP(-EXP(Models!$D$52*(ChartData!B6-Models!$C$52+Models!$E$52*ChartData!B6*Models!$B$5))) -> 2.5824286 | P6: =Models!$B$16*Models!$I$16+(100-Models!$B$16*Models!$I$16)/(1+EXP(Models!$C$16*(ChartData!B6-Models!$E$16+Models!$B$4*Models!$F$16+Models!$B$4*Models!$G$16*Models!$I$16+Models!$B$5*Models!$H$16))) -> 98.673566 | Q6: =Models!$B$53*EXP(-EXP(Models!$D$53*(ChartData!B6+Models!$C$53+Models!$B$5*Models!$E$53+Models!$B$4*Models!$F$53))) -> 39.011954 | R6: =Models!$B$17*Models!$I$17+(100-Models!$B$17*Models!$I$17)/(1+EXP(Models!$C$17*(ChartData!B6-Models!$E$17+Models!$B$4*Models!$F$17+Models!$B$4*Models!$G$17*Models!$I$17+Models!$B$5*Models!$H$17))) -> 98.877427 | S6: =Models!$B$54*EXP(-EXP(Models!$D$54*(ChartData!B6+Models!$C$54+Models!$B$5*Models!$E$54+Models!$B$4*Models!$F$54))) -> 31.876321 | T6: =Models!$B$18*Models!$I$18+(100-Models!$B$18*Models!$I$18)/(1+EXP(Models!$C$18*(ChartData!B6-Models!$E$18+Models!$B$4*Models!$F$18+Models!$B$4*Models!$G$18*Models!$I$18+Models!$B$5*Models!$H$18))) -> 98.866151 | U6: =Models!$B$55*EXP(-EXP(Models!$D$55*(ChartData!B6+Models!$C$55+Models!$B$5*Models!$E$55+Models!$B$4*Models!$F$55))) -> 41.225056 | V6: =Models!$B$19*Models!$I$19+(100-Models!$B$19*Models!$I$19)/(1+EXP(Models!$C$19*(ChartData!$B6-Models!$E$19+Models!$B$5*ChartData!$B6*Models!$F$19+Models!$B$4*Models!$G$19))) -> 92.694932 | W6: =Models!$B$56*EXP(-EXP(Models!$D$56*(ChartData!B6+Models!$C$56+Models!$B$5*Models!$E$56+Models!$B$4*Models!$F$56))) -> 74.364293 | X6: =Models!$B$20*Models!$I$20+(100-Models!$B$20*Models!$I$20)/(1+EXP(Models!$C$20*(ChartData!$B6-Models!$E$20+Models!$B$5*ChartData!$B6*Models!$F$20+Models!$B$4*Models!$G$20))) -> 92.566608 | Y6: =Models!$B$57*EXP(-EXP(Models!$D$57*(ChartData!B6+Models!$C$57+Models!$B$5*Models!$E$57+Models!$B$4*Models!$F$57))) -> 75.793258 | Z6: =Models!$B$21*Models!$I$21+(100-Models!$B$21*Models!$I$21)/(1+EXP(Models!$C$21*(ChartData!$B6-Models!$E$21+Models!$B$5*ChartData!$B6*Models!$F$21+Models!$B$4*Models!$G$21))) -> 93.648515 | AA6: =Models!$B$58*EXP(-EXP(Models!$D$58*(ChartData!B6+Models!$C$58+Models!$B$5*Models!$E$58+Models!$B$4*Models!$F$58))) -> 75.952576 | AB6: =200/(1+EXP(Models!$D$22*((Models!$E$22*Models!$B$4+Models!$B$5)*ChartData!B6))) -> 99.790626 | AC6: =100*EXP(-EXP(Models!$D$59*(ChartData!B6-Models!$C$59+Models!$E$59*Models!$B$4+Models!$F$59*Models!$B$5))) -> 68.373605 | AD6: =200/(1+EXP(Models!$D$23*((Models!$E$23*Models!$B$4+Models!$B$5)*ChartData!B6))) -> 99.696036 | AE6: =100*EXP(-EXP(Models!$D$60*(ChartData!B6-Models!$C$60+Models!$E$60*Models!$B$4+Models!$F$60*Models!$B$5))) -> 69.380316 | AF6: =200/(1+EXP(Models!$D$24*((Models!$E$24*Models!$B$4+Models!$B$5)*ChartData!B6))) -> 99.665787 | AG6: =100*EXP(-EXP(Models!$D$61*(ChartData!B6-Models!$C$61+Models!$E$61*Models!$B$4+Models!$F$61*Models!$B$5))) -> 69.600506 | AH6: =IF('Front Page'!$C$31>0,1-'Front Page'!$C$31,"") -> 0.995 | AI6: =Models!$B$25*Models!$I$25+(200-Models!$B$25*Models!$I$25)/(1+EXP(Models!$C$25*B6*(Models!$B$4*Models!$F$25+Models!$B$5+Models!$I$25*Models!$G$25))) -> 99.714943 | AJ6: =100*EXP(-EXP(Models!$D$62*(ChartData!B6-Models!$C$62+Models!$E$62*Models!$B$4+Models!$F$62*Models!$B$5))) -> 74.36405 | AK6: =Models!$B$26*Models!$I$26+(200-Models!$B$26*Models!$I$26)/(1+EXP(Models!$C$26*B6*(Models!$B$4*Models!$F$26+Models!$B$5+Models!$I$26*Models!$G$26))) -> 99.596239 | AL6: =100*EXP(-EXP(Models!$D$63*(ChartData!B6-Models!$C$63+Models!$E$63*Models!$B$4+Models!$F$63*Models!$B$5))) -> 75.793058 | AM6: =Models!$B$27*Models!$I$27+(200-Models!$B$27*Models!$I$27)/(1+EXP(Models!$C$27*B6*(Models!$B$4*Models!$F$27+Models!$B$5+Models!$I$27*Models!$G$27))) -> 106.61575 | AN6: =100*EXP(-EXP(Models!$D$64*(ChartData!B6-Models!$C$64+Models!$E$64*Models!$B$4+Models!$F$64*Models!$B$5))) -> 75.952227 | AO6: =Models!$B$28*Models!$I$28+(200-Models!$B$28*Models!$I$28)/(1+EXP(Models!$C$28*B6*(Models!$B$4*Models!$F$28+Models!$B$5+Models!$I$28*Models!$G$28))) -> 99.671399 | AP6: =100*EXP(-EXP(Models!$D$65*(ChartData!B6-Models!$C$65+Models!$E$65*Models!$B$4+Models!$F$65*Models!$B$5))) -> 31.88317 | AQ6: =Models!$B$29*Models!$I$29+(200-Models!$B$29*Models!$I$29)/(1+EXP(Models!$C$29*B6*(Models!$B$4*Models!$F$29+Models!$B$5+Models!$I$29*Models!$G$29))) -> 99.517635 | AR6: =100*EXP(-EXP(Models!$D$66*(ChartData!B6-Models!$C$66+Models!$E$66*Models!$B$4+Models!$F$66*Models!$B$5))) -> 41.224577 | AS6: =Models!$B$30*Models!$I$30+(200-Models!$B$30*Models!$I$30)/(1+EXP(Models!$C$30*B6*(Models!$B$4*Models!$F$30+Models!$B$5+Models!$I$30*Models!$G$30))) -> 104.21328 | AT6: =100*EXP(-EXP(Models!$D$67*(ChartData!B6-Models!$C$67+Models!$E$67*Models!$B$4+Models!$F$67*Models!$B$5))) -> 36.039883
A7: All items in List below will have an Index value | B7: 40 | C7: =1-'Front Page'!$C$30 -> 0.99630303 | D7: =IF($A$4=1,F7,IF($A$4=2,AB7,IF($A$4=4,AF7,IF($A$4=5,N7,IF($A$4=3,AD7,IF($A$4=6,AQ7,IF($A$4=7,AO7,IF($A$4=8,AS7,IF($A$4=9,AI7,IF($A$4=10,AK7,IF($A$4=11,AM7))))))))))) -> 99.356851 | E7: =IF($A$62="reversed",NA(),IF($A$4=1,G7,IF($A$4=2,AC7,IF($A$4=4,AG7,IF($A$4=5,O7,IF($A$4=3,AE7,IF($A$4=6,AR7,IF($A$4=7,AP7,IF($A$4=8,AT7,IF($A$4=9,AJ7,IF($A$4=10,AL7,IF($A$4=11,AN7)))))))))))) -> 43.442138 | F7: =Equations!$E$4/(1+EXP(Equations!$F$4*ChartData!B7*(Equations!$G$4*Equations!$C$4+Equations!$D$4))) -> 99.617968 | G7: =Equations!$E$7*EXP(-EXP(-Equations!$F$7*(ChartData!B7-Equations!$G$7+Equations!$H$7*Equations!$C$7+Equations!$I$7*Equations!$D$7))) -> 75.196239 | H7: =Models!$B$13+Models!$C$13*EXP(Models!$D$13*ChartData!B7+(Models!$E$13*ChartData!B7*Models!$E$3)) -> 98.795774 | I7: =Models!$B$50*EXP(-EXP(Models!$D$50*(ChartData!B7+Models!$C$50-(Models!$E$50*Models!$B$5)))) -> 64.028175 | J7: =Models!$B$12/(1+EXP(Models!$D$12*(ChartData!B7-Models!$C$12+Models!$E$12*ChartData!B7*Models!$B$5))) -> 120.99967 | K7: =Models!$B$49*EXP(-EXP(Models!$D$49*(ChartData!B7-Models!$C$49+(Models!$E$49*ChartData!B7*Models!$B$5)))) -> 2.6818569 | L7: =Models!$B$15/(1+EXP(Models!$D$15*(ChartData!B7*(1+Models!$D$15*Models!$B$5)-Models!$C$15))) -> 96.965547 | M7: =Models!$B$52*EXP(-EXP(Models!$D$52*(ChartData!B7*(1+Models!$D$52*Models!$B$5)-Models!$C$52))) -> 3.1152595 | N7: =Models!$B$15/(1+EXP(Models!$D$15*(ChartData!B7-Models!$D$15+Models!$E$15*ChartData!B7*Models!$B$5))) -> 94.85528 | O7: =Models!$B$52*EXP(-EXP(Models!$D$52*(ChartData!B7-Models!$C$52+Models!$E$52*ChartData!B7*Models!$B$5))) -> 3.4742044 | P7: =Models!$B$16*Models!$I$16+(100-Models!$B$16*Models!$I$16)/(1+EXP(Models!$C$16*(ChartData!B7-Models!$E$16+Models!$B$4*Models!$F$16+Models!$B$4*Models!$G$16*Models!$I$16+Models!$B$5*Models!$H$16))) -> 98.643244 | Q7: =Models!$B$53*EXP(-EXP(Models!$D$53*(ChartData!B7+Models!$C$53+Models!$B$5*Models!$E$53+Models!$B$4*Models!$F$53))) -> 41.067013 | R7: =Models!$B$17*Models!$I$17+(100-Models!$B$17*Models!$I$17)/(1+EXP(Models!$C$17*(ChartData!B7-Models!$E$17+Models!$B$4*Models!$F$17+Models!$B$4*Models!$G$17*Models!$I$17+Models!$B$5*Models!$H$17))) -> 98.857084 | S7: =Models!$B$54*EXP(-EXP(Models!$D$54*(ChartData!B7+Models!$C$54+Models!$B$5*Models!$E$54+Models!$B$4*Models!$F$54))) -> 33.24286 | T7: =Models!$B$18*Models!$I$18+(100-Models!$B$18*Models!$I$18)/(1+EXP(Models!$C$18*(ChartData!B7-Models!$E$18+Models!$B$4*Models!$F$18+Models!$B$4*Models!$G$18*Models!$I$18+Models!$B$5*Models!$H$18))) -> 98.835419 | U7: =Models!$B$55*EXP(-EXP(Models!$D$55*(ChartData!B7+Models!$C$55+Models!$B$5*Models!$E$55+Models!$B$4*Models!$F$55))) -> 43.442649 | V7: =Models!$B$19*Models!$I$19+(100-Models!$B$19*Models!$I$19)/(1+EXP(Models!$C$19*(ChartData!$B7-Models!$E$19+Models!$B$5*ChartData!$B7*Models!$F$19+Models!$B$4*Models!$G$19))) -> 92.652627 | W7: =Models!$B$56*EXP(-EXP(Models!$D$56*(ChartData!B7+Models!$C$56+Models!$B$5*Models!$E$56+Models!$B$4*Models!$F$56))) -> 74.967129 | X7: =Models!$B$20*Models!$I$20+(100-Models!$B$20*Models!$I$20)/(1+EXP(Models!$C$20*(ChartData!$B7-Models!$E$20+Models!$B$5*ChartData!$B7*Models!$F$20+Models!$B$4*Models!$G$20))) -> 92.503143 | Y7: =Models!$B$57*EXP(-EXP(Models!$D$57*(ChartData!B7+Models!$C$57+Models!$B$5*Models!$E$57+Models!$B$4*Models!$F$57))) -> 76.658349 | Z7: =Models!$B$21*Models!$I$21+(100-Models!$B$21*Models!$I$21)/(1+EXP(Models!$C$21*(ChartData!$B7-Models!$E$21+Models!$B$5*ChartData!$B7*Models!$F$21+Models!$B$4*Models!$G$21))) -> 93.58884 | AA7: =Models!$B$58*EXP(-EXP(Models!$D$58*(ChartData!B7+Models!$C$58+Models!$B$5*Models!$E$58+Models!$B$4*Models!$F$58))) -> 76.859831 | AB7: =200/(1+EXP(Models!$D$22*((Models!$E$22*Models!$B$4+Models!$B$5)*ChartData!B7))) -> 99.720835 | AC7: =100*EXP(-EXP(Models!$D$59*(ChartData!B7-Models!$C$59+Models!$E$59*Models!$B$4+Models!$F$59*Models!$B$5))) -> 68.873557 | AD7: =200/(1+EXP(Models!$D$23*((Models!$E$23*Models!$B$4+Models!$B$5)*ChartData!B7))) -> 99.594716 | AE7: =100*EXP(-EXP(Models!$D$60*(ChartData!B7-Models!$C$60+Models!$E$60*Models!$B$4+Models!$F$60*Models!$B$5))) -> 70.101467 | AF7: =200/(1+EXP(Models!$D$24*((Models!$E$24*Models!$B$4+Models!$B$5)*ChartData!B7))) -> 99.554385 | AG7: =100*EXP(-EXP(Models!$D$61*(ChartData!B7-Models!$C$61+Models!$E$61*Models!$B$4+Models!$F$61*Models!$B$5))) -> 70.370918 | AH7: =IF('Front Page'!$C$31>0,1-'Front Page'!$C$31,"") -> 0.995 | AI7: =Models!$B$25*Models!$I$25+(200-Models!$B$25*Models!$I$25)/(1+EXP(Models!$C$25*B7*(Models!$B$4*Models!$F$25+Models!$B$5+Models!$I$25*Models!$G$25))) -> 99.619925 | AJ7: =100*EXP(-EXP(Models!$D$62*(ChartData!B7-Models!$C$62+Models!$E$62*Models!$B$4+Models!$F$62*Models!$B$5))) -> 74.966891 | AK7: =Models!$B$26*Models!$I$26+(200-Models!$B$26*Models!$I$26)/(1+EXP(Models!$C$26*B7*(Models!$B$4*Models!$F$26+Models!$B$5+Models!$I$26*Models!$G$26))) -> 99.461655 | AL7: =100*EXP(-EXP(Models!$D$63*(ChartData!B7-Models!$C$63+Models!$E$63*Models!$B$4+Models!$F$63*Models!$B$5))) -> 76.658135 | AM7: =Models!$B$27*Models!$I$27+(200-Models!$B$27*Models!$I$27)/(1+EXP(Models!$C$27*B7*(Models!$B$4*Models!$F$27+Models!$B$5+Models!$I$27*Models!$G$27))) -> 106.22535 | AN7: =100*EXP(-EXP(Models!$D$64*(ChartData!B7-Models!$C$64+Models!$E$64*Models!$B$4+Models!$F$64*Models!$B$5))) -> 76.859493 | AO7: =Models!$B$28*Models!$I$28+(200-Models!$B$28*Models!$I$28)/(1+EXP(Models!$C$28*B7*(Models!$B$4*Models!$F$28+Models!$B$5+Models!$I$28*Models!$G$28))) -> 99.561866 | AP7: =100*EXP(-EXP(Models!$D$65*(ChartData!B7-Models!$C$65+Models!$E$65*Models!$B$4+Models!$F$65*Models!$B$5))) -> 33.24974 | AQ7: =Models!$B$29*Models!$I$29+(200-Models!$B$29*Models!$I$29)/(1+EXP(Models!$C$29*B7*(Models!$B$4*Models!$F$29+Models!$B$5+Models!$I$29*Models!$G$29))) -> 99.356851 | AR7: =100*EXP(-EXP(Models!$D$66*(ChartData!B7-Models!$C$66+Models!$E$66*Models!$B$4+Models!$F$66*Models!$B$5))) -> 43.442138 | AS7: =Models!$B$30*Models!$I$30+(200-Models!$B$30*Models!$I$30)/(1+EXP(Models!$C$30*B7*(Models!$B$4*Models!$F$30+Models!$B$5+Models!$I$30*Models!$G$30))) -> 104.01294 | AT7: =100*EXP(-EXP(Models!$D$67*(ChartData!B7-Models!$C$67+Models!$E$67*Models!$B$4+Models!$F$67*Models!$B$5))) -> 37.85844
A8: All cells in D&E must refer to the full table of possible models | B8: 50 | C8: =1-'Front Page'!$C$30 -> 0.99630303 | D8: =IF($A$4=1,F8,IF($A$4=2,AB8,IF($A$4=4,AF8,IF($A$4=5,N8,IF($A$4=3,AD8,IF($A$4=6,AQ8,IF($A$4=7,AO8,IF($A$4=8,AS8,IF($A$4=9,AI8,IF($A$4=10,AK8,IF($A$4=11,AM8))))))))))) -> 99.19607 | E8: =IF($A$62="reversed",NA(),IF($A$4=1,G8,IF($A$4=2,AC8,IF($A$4=4,AG8,IF($A$4=5,O8,IF($A$4=3,AE8,IF($A$4=6,AR8,IF($A$4=7,AP8,IF($A$4=8,AT8,IF($A$4=9,AJ8,IF($A$4=10,AL8,IF($A$4=11,AN8)))))))))))) -> 45.637382 | F8: =Equations!$E$4/(1+EXP(Equations!$F$4*ChartData!B8*(Equations!$G$4*Equations!$C$4+Equations!$D$4))) -> 99.522461 | G8: =Equations!$E$7*EXP(-EXP(-Equations!$F$7*(ChartData!B8-Equations!$G$7+Equations!$H$7*Equations!$C$7+Equations!$I$7*Equations!$D$7))) -> 75.906931 | H8: =Models!$B$13+Models!$C$13*EXP(Models!$D$13*ChartData!B8+(Models!$E$13*ChartData!B8*Models!$E$3)) -> 98.497522 | I8: =Models!$B$50*EXP(-EXP(Models!$D$50*(ChartData!B8+Models!$C$50-(Models!$E$50*Models!$B$5)))) -> 64.672103 | J8: =Models!$B$12/(1+EXP(Models!$D$12*(ChartData!B8-Models!$C$12+Models!$E$12*ChartData!B8*Models!$B$5))) -> 120.99952 | K8: =Models!$B$49*EXP(-EXP(Models!$D$49*(ChartData!B8-Models!$C$49+(Models!$E$49*ChartData!B8*Models!$B$5)))) -> 3.4266106 | L8: =Models!$B$15/(1+EXP(Models!$D$15*(ChartData!B8*(1+Models!$D$15*Models!$B$5)-Models!$C$15))) -> 95.817487 | M8: =Models!$B$52*EXP(-EXP(Models!$D$52*(ChartData!B8*(1+Models!$D$52*Models!$B$5)-Models!$C$52))) -> 4.0235884 | N8: =Models!$B$15/(1+EXP(Models!$D$15*(ChartData!B8-Models!$D$15+Models!$E$15*ChartData!B8*Models!$B$5))) -> 93.572227 | O8: =Models!$B$52*EXP(-EXP(Models!$D$52*(ChartData!B8-Models!$C$52+Models!$E$52*ChartData!B8*Models!$B$5))) -> 4.5627964 | P8: =Models!$B$16*Models!$I$16+(100-Models!$B$16*Models!$I$16)/(1+EXP(Models!$C$16*(ChartData!B8-Models!$E$16+Models!$B$4*Models!$F$16+Models!$B$4*Models!$G$16*Models!$I$16+Models!$B$5*Models!$H$16))) -> 98.612238 | Q8: =Models!$B$53*EXP(-EXP(Models!$D$53*(ChartData!B8+Models!$C$53+Models!$B$5*Models!$E$53+Models!$B$4*Models!$F$53))) -> 43.10946 | R8: =Models!$B$17*Models!$I$17+(100-Models!$B$17*Models!$I$17)/(1+EXP(Models!$C$17*(ChartData!B8-Models!$E$17+Models!$B$4*Models!$F$17+Models!$B$4*Models!$G$17*Models!$I$17+Models!$B$5*Models!$H$17))) -> 98.836377 | S8: =Models!$B$54*EXP(-EXP(Models!$D$54*(ChartData!B8+Models!$C$54+Models!$B$5*Models!$E$54+Models!$B$4*Models!$F$54))) -> 34.614594 | T8: =Models!$B$18*Models!$I$18+(100-Models!$B$18*Models!$I$18)/(1+EXP(Models!$C$18*(ChartData!B8-Models!$E$18+Models!$B$4*Models!$F$18+Models!$B$4*Models!$G$18*Models!$I$18+Models!$B$5*Models!$H$18))) -> 98.803866 | U8: =Models!$B$55*EXP(-EXP(Models!$D$55*(ChartData!B8+Models!$C$55+Models!$B$5*Models!$E$55+Models!$B$4*Models!$F$55))) -> 45.637923 | V8: =Models!$B$19*Models!$I$19+(100-Models!$B$19*Models!$I$19)/(1+EXP(Models!$C$19*(ChartData!$B8-Models!$E$19+Models!$B$5*ChartData!$B8*Models!$F$19+Models!$B$4*Models!$G$19))) -> 92.610097 | W8: =Models!$B$56*EXP(-EXP(Models!$D$56*(ChartData!B8+Models!$C$56+Models!$B$5*Models!$E$56+Models!$B$4*Models!$F$56))) -> 75.558221 | X8: =Models!$B$20*Models!$I$20+(100-Models!$B$20*Models!$I$20)/(1+EXP(Models!$C$20*(ChartData!$B8-Models!$E$20+Models!$B$5*ChartData!$B8*Models!$F$20+Models!$B$4*Models!$G$20))) -> 92.43918 | Y8: =Models!$B$57*EXP(-EXP(Models!$D$57*(ChartData!B8+Models!$C$57+Models!$B$5*Models!$E$57+Models!$B$4*Models!$F$57))) -> 77.497291 | Z8: =Models!$B$21*Models!$I$21+(100-Models!$B$21*Models!$I$21)/(1+EXP(Models!$C$21*(ChartData!$B8-Models!$E$21+Models!$B$5*ChartData!$B8*Models!$F$21+Models!$B$4*Models!$G$21))) -> 93.52865 | AA8: =Models!$B$58*EXP(-EXP(Models!$D$58*(ChartData!B8+Models!$C$58+Models!$B$5*Models!$E$58+Models!$B$4*Models!$F$58))) -> 77.738064 | AB8: =200/(1+EXP(Models!$D$22*((Models!$E$22*Models!$B$4+Models!$B$5)*ChartData!B8))) -> 99.651044 | AC8: =100*EXP(-EXP(Models!$D$59*(ChartData!B8-Models!$C$59+Models!$E$59*Models!$B$4+Models!$F$59*Models!$B$5))) -> 69.36748 | AD8: =200/(1+EXP(Models!$D$23*((Models!$E$23*Models!$B$4+Models!$B$5)*ChartData!B8))) -> 99.493397 | AE8: =100*EXP(-EXP(Models!$D$60*(ChartData!B8-Models!$C$60+Models!$E$60*Models!$B$4+Models!$F$60*Models!$B$5))) -> 70.809398 | AF8: =200/(1+EXP(Models!$D$24*((Models!$E$24*Models!$B$4+Models!$B$5)*ChartData!B8))) -> 99.442983 | AG8: =100*EXP(-EXP(Models!$D$61*(ChartData!B8-Models!$C$61+Models!$E$61*Models!$B$4+Models!$F$61*Models!$B$5))) -> 71.12607 | AH8: =IF('Front Page'!$C$31>0,1-'Front Page'!$C$31,"") -> 0.995 | AI8: =Models!$B$25*Models!$I$25+(200-Models!$B$25*Models!$I$25)/(1+EXP(Models!$C$25*B8*(Models!$B$4*Models!$F$25+Models!$B$5+Models!$I$25*Models!$G$25))) -> 99.524908 | AJ8: =100*EXP(-EXP(Models!$D$62*(ChartData!B8-Models!$C$62+Models!$E$62*Models!$B$4+Models!$F$62*Models!$B$5))) -> 75.557987 | AK8: =Models!$B$26*Models!$I$26+(200-Models!$B$26*Models!$I$26)/(1+EXP(Models!$C$26*B8*(Models!$B$4*Models!$F$26+Models!$B$5+Models!$I$26*Models!$G$26))) -> 99.327072 | AL8: =100*EXP(-EXP(Models!$D$63*(ChartData!B8-Models!$C$63+Models!$E$63*Models!$B$4+Models!$F$63*Models!$B$5))) -> 77.497064 | AM8: =Models!$B$27*Models!$I$27+(200-Models!$B$27*Models!$I$27)/(1+EXP(Models!$C$27*B8*(Models!$B$4*Models!$F$27+Models!$B$5+Models!$I$27*Models!$G$27))) -> 105.835 | AN8: =100*EXP(-EXP(Models!$D$64*(ChartData!B8-Models!$C$64+Models!$E$64*Models!$B$4+Models!$F$64*Models!$B$5))) -> 77.737737 | AO8: =Models!$B$28*Models!$I$28+(200-Models!$B$28*Models!$I$28)/(1+EXP(Models!$C$28*B8*(Models!$B$4*Models!$F$28+Models!$B$5+Models!$I$28*Models!$G$28))) -> 99.452335 | AP8: =100*EXP(-EXP(Models!$D$65*(ChartData!B8-Models!$C$65+Models!$E$65*Models!$B$4+Models!$F$65*Models!$B$5))) -> 34.621495 | AQ8: =Models!$B$29*Models!$I$29+(200-Models!$B$29*Models!$I$29)/(1+EXP(Models!$C$29*B8*(Models!$B$4*Models!$F$29+Models!$B$5+Models!$I$29*Models!$G$29))) -> 99.19607 | AR8: =100*EXP(-EXP(Models!$D$66*(ChartData!B8-Models!$C$66+Models!$E$66*Models!$B$4+Models!$F$66*Models!$B$5))) -> 45.637382 | AS8: =Models!$B$30*Models!$I$30+(200-Models!$B$30*Models!$I$30)/(1+EXP(Models!$C$30*B8*(Models!$B$4*Models!$F$30+Models!$B$5+Models!$I$30*Models!$G$30))) -> 103.8126 | AT8: =100*EXP(-EXP(Models!$D$67*(ChartData!B8-Models!$C$67+Models!$E$67*Models!$B$4+Models!$F$67*Models!$B$5))) -> 39.674439
B9: 60 | C9: =1-'Front Page'!$C$30 -> 0.99630303 | D9: =IF($A$4=1,F9,IF($A$4=2,AB9,IF($A$4=4,AF9,IF($A$4=5,N9,IF($A$4=3,AD9,IF($A$4=6,AQ9,IF($A$4=7,AO9,IF($A$4=8,AS9,IF($A$4=9,AI9,IF($A$4=10,AK9,IF($A$4=11,AM9))))))))))) -> 99.035293 | E9: =IF($A$62="reversed",NA(),IF($A$4=1,G9,IF($A$4=2,AC9,IF($A$4=4,AG9,IF($A$4=5,O9,IF($A$4=3,AE9,IF($A$4=6,AR9,IF($A$4=7,AP9,IF($A$4=8,AT9,IF($A$4=9,AJ9,IF($A$4=10,AL9,IF($A$4=11,AN9)))))))))))) -> 47.804012 | F9: =Equations!$E$4/(1+EXP(Equations!$F$4*ChartData!B9*(Equations!$G$4*Equations!$C$4+Equations!$D$4))) -> 99.426955 | G9: =Equations!$E$7*EXP(-EXP(-Equations!$F$7*(ChartData!B9-Equations!$G$7+Equations!$H$7*Equations!$C$7+Equations!$I$7*Equations!$D$7))) -> 76.600559 | H9: =Models!$B$13+Models!$C$13*EXP(Models!$D$13*ChartData!B9+(Models!$E$13*ChartData!B9*Models!$E$3)) -> 98.200383 | I9: =Models!$B$50*EXP(-EXP(Models!$D$50*(ChartData!B9+Models!$C$50-(Models!$E$50*Models!$B$5)))) -> 65.307838 | J9: =Models!$B$12/(1+EXP(Models!$D$12*(ChartData!B9-Models!$C$12+Models!$E$12*ChartData!B9*Models!$B$5))) -> 120.99931 | K9: =Models!$B$49*EXP(-EXP(Models!$D$49*(ChartData!B9-Models!$C$49+(Models!$E$49*ChartData!B9*Models!$B$5)))) -> 4.3061221 | L9: =Models!$B$15/(1+EXP(Models!$D$15*(ChartData!B9*(1+Models!$D$15*Models!$B$5)-Models!$C$15))) -> 94.67053 | M9: =Models!$B$52*EXP(-EXP(Models!$D$52*(ChartData!B9*(1+Models!$D$52*Models!$B$5)-Models!$C$52))) -> 5.0996073 | N9: =Models!$B$15/(1+EXP(Models!$D$15*(ChartData!B9-Models!$D$15+Models!$E$15*ChartData!B9*Models!$B$5))) -> 92.291296 | O9: =Models!$B$52*EXP(-EXP(Models!$D$52*(ChartData!B9-Models!$C$52+Models!$E$52*ChartData!B9*Models!$B$5))) -> 5.861427 | P9: =Models!$B$16*Models!$I$16+(100-Models!$B$16*Models!$I$16)/(1+EXP(Models!$C$16*(ChartData!B9-Models!$E$16+Models!$B$4*Models!$F$16+Models!$B$4*Models!$G$16*Models!$I$16+Models!$B$5*Models!$H$16))) -> 98.580534 | Q9: =Models!$B$53*EXP(-EXP(Models!$D$53*(ChartData!B9+Models!$C$53+Models!$B$5*Models!$E$53+Models!$B$4*Models!$F$53))) -> 45.133853 | R9: =Models!$B$17*Models!$I$17+(100-Models!$B$17*Models!$I$17)/(1+EXP(Models!$C$17*(ChartData!B9-Models!$E$17+Models!$B$4*Models!$F$17+Models!$B$4*Models!$G$17*Models!$I$17+Models!$B$5*Models!$H$17))) -> 98.815299 | S9: =Models!$B$54*EXP(-EXP(Models!$D$54*(ChartData!B9+Models!$C$54+Models!$B$5*Models!$E$54+Models!$B$4*Models!$F$54))) -> 35.989462 | T9: =Models!$B$18*Models!$I$18+(100-Models!$B$18*Models!$I$18)/(1+EXP(Models!$C$18*(ChartData!B9-Models!$E$18+Models!$B$4*Models!$F$18+Models!$B$4*Models!$G$18*Models!$I$18+Models!$B$5*Models!$H$18))) -> 98.771469 | U9: =Models!$B$55*EXP(-EXP(Models!$D$55*(ChartData!B9+Models!$C$55+Models!$B$5*Models!$E$55+Models!$B$4*Models!$F$55))) -> 47.804581 | V9: =Models!$B$19*Models!$I$19+(100-Models!$B$19*Models!$I$19)/(1+EXP(Models!$C$19*(ChartData!$B9-Models!$E$19+Models!$B$5*ChartData!$B9*Models!$F$19+Models!$B$4*Models!$G$19))) -> 92.56734 | W9: =Models!$B$56*EXP(-EXP(Models!$D$56*(ChartData!B9+Models!$C$56+Models!$B$5*Models!$E$56+Models!$B$4*Models!$F$56))) -> 76.137671 | X9: =Models!$B$20*Models!$I$20+(100-Models!$B$20*Models!$I$20)/(1+EXP(Models!$C$20*(ChartData!$B9-Models!$E$20+Models!$B$5*ChartData!$B9*Models!$F$20+Models!$B$4*Models!$G$20))) -> 92.374717 | Y9: =Models!$B$57*EXP(-EXP(Models!$D$57*(ChartData!B9+Models!$C$57+Models!$B$5*Models!$E$57+Models!$B$4*Models!$F$57))) -> 78.310504 | Z9: =Models!$B$21*Models!$I$21+(100-Models!$B$21*Models!$I$21)/(1+EXP(Models!$C$21*(ChartData!$B9-Models!$E$21+Models!$B$5*ChartData!$B9*Models!$F$21+Models!$B$4*Models!$G$21))) -> 93.467941 | AA9: =Models!$B$58*EXP(-EXP(Models!$D$58*(ChartData!B9+Models!$C$58+Models!$B$5*Models!$E$58+Models!$B$4*Models!$F$58))) -> 78.587777 | AB9: =200/(1+EXP(Models!$D$22*((Models!$E$22*Models!$B$4+Models!$B$5)*ChartData!B9))) -> 99.581254 | AC9: =100*EXP(-EXP(Models!$D$59*(ChartData!B9-Models!$C$59+Models!$E$59*Models!$B$4+Models!$F$59*Models!$B$5))) -> 69.855378 | AD9: =200/(1+EXP(Models!$D$23*((Models!$E$23*Models!$B$4+Models!$B$5)*ChartData!B9))) -> 99.392078 | AE9: =100*EXP(-EXP(Models!$D$60*(ChartData!B9-Models!$C$60+Models!$E$60*Models!$B$4+Models!$F$60*Models!$B$5))) -> 71.504153 | AF9: =200/(1+EXP(Models!$D$24*((Models!$E$24*Models!$B$4+Models!$B$5)*ChartData!B9))) -> 99.331582 | AG9: =100*EXP(-EXP(Models!$D$61*(ChartData!B9-Models!$C$61+Models!$E$61*Models!$B$4+Models!$F$61*Models!$B$5))) -> 71.866021 | AH9: =IF('Front Page'!$C$31>0,1-'Front Page'!$C$31,"") -> 0.995 | AI9: =Models!$B$25*Models!$I$25+(200-Models!$B$25*Models!$I$25)/(1+EXP(Models!$C$25*B9*(Models!$B$4*Models!$F$25+Models!$B$5+Models!$I$25*Models!$G$25))) -> 99.429891 | AJ9: =100*EXP(-EXP(Models!$D$62*(ChartData!B9-Models!$C$62+Models!$E$62*Models!$B$4+Models!$F$62*Models!$B$5))) -> 76.137443 | AK9: =Models!$B$26*Models!$I$26+(200-Models!$B$26*Models!$I$26)/(1+EXP(Models!$C$26*B9*(Models!$B$4*Models!$F$26+Models!$B$5+Models!$I$26*Models!$G$26))) -> 99.192492 | AL9: =100*EXP(-EXP(Models!$D$63*(ChartData!B9-Models!$C$63+Models!$E$63*Models!$B$4+Models!$F$63*Models!$B$5))) -> 78.310265 | AM9: =Models!$B$27*Models!$I$27+(200-Models!$B$27*Models!$I$27)/(1+EXP(Models!$C$27*B9*(Models!$B$4*Models!$F$27+Models!$B$5+Models!$I$27*Models!$G$27))) -> 105.44472 | AN9: =100*EXP(-EXP(Models!$D$64*(ChartData!B9-Models!$C$64+Models!$E$64*Models!$B$4+Models!$F$64*Models!$B$5))) -> 78.587461 | AO9: =Models!$B$28*Models!$I$28+(200-Models!$B$28*Models!$I$28)/(1+EXP(Models!$C$28*B9*(Models!$B$4*Models!$F$28+Models!$B$5+Models!$I$28*Models!$G$28))) -> 99.342804 | AP9: =100*EXP(-EXP(Models!$D$65*(ChartData!B9-Models!$C$65+Models!$E$65*Models!$B$4+Models!$F$65*Models!$B$5))) -> 35.996374 | AQ9: =Models!$B$29*Models!$I$29+(200-Models!$B$29*Models!$I$29)/(1+EXP(Models!$C$29*B9*(Models!$B$4*Models!$F$29+Models!$B$5+Models!$I$29*Models!$G$29))) -> 99.035293 | AR9: =100*EXP(-EXP(Models!$D$66*(ChartData!B9-Models!$C$66+Models!$E$66*Models!$B$4+Models!$F$66*Models!$B$5))) -> 47.804012 | AS9: =Models!$B$30*Models!$I$30+(200-Models!$B$30*Models!$I$30)/(1+EXP(Models!$C$30*B9*(Models!$B$4*Models!$F$30+Models!$B$5+Models!$I$30*Models!$G$30))) -> 103.61228 | AT9: =100*EXP(-EXP(Models!$D$67*(ChartData!B9-Models!$C$67+Models!$E$67*Models!$B$4+Models!$F$67*Models!$B$5))) -> 41.483686
