Workbook
Name Table_herbicides: Table1[]

Sheet Information
D2: WAMITT
D3: The Weeds Action Management Integrated Threshold Tool
D4: for Australian cotton production
D7: WAMITT threshold models and concept created by Dr Graham Charles
D8: Technical Specialist Weeds, CottonInfo
D9: graham.charles15@outlook.com
D11: Interface and additional modelling by Dr David Thornby
D12: Innokas Intellectual Services
D13: david@innokasintel.com
D16: WAMITT and underlying modelling work was
D17: funded by the Australian Cotton Research and Development Corporation
D35: Head to the 'Front Page' tab to use the tool.
E37: Enter values or select from dropdowns in the brown cells
D38: ❓ | E38: Click the ? cells to get more information

Sheet Front Page
B1: WAMITT
D2: Expected yield value:
B3: Paddock name | C3: Tester | D3: Cotton price | E3: 550 | F3: ($/bale)
B4: Average weed height (cm) | C4: 10 | D4: Cotton yield | E4: 12 | F4: (bales/ha)
B5: Average weed density (weeds per m²) | C5: 5 | D5: Anticipated value: | E5: =E4*E3 -> 6600 | F5: ($/ha)
B7: How do you want to calculate growing degree days? | C7: base 15.5 C | D7: ❓
B8: What situation describes your weed problem? | C8: Large broadleaf 15.5 | D8: < Click the cell at left to select a model
B10: Choose your nearest location | C10: Murray/Murrumbidgee
B12: How many degree days have passed since crop planting? | D12: =GrowthEqns!A19 -> Enter GDD in base 15.5 deg C
C13: 200 | D13: 100 | E13: 520 | F13: =IF(ChartData!A11="12",'Front Page'!C13,IF(ChartData!A11="15.5",'Front Page'!D13,'Front Page'!E13)) -> 100
B14: How many degree days after planting did these weeds emerge?
C15: 0 | D15: 0 | E15: 100 | F15: =IF(ChartData!A13="12",'Front Page'!C15,IF(ChartData!A11="15.5",'Front Page'!D15,'Front Page'!E15)) -> 0
C17: Predicted yield loss from this weed burden: | D17: =Equations!K10 -> 0.016077562
B21: How would you like to specify a weed control tactic?
C22: By product name | D22: < Click the cell at left to select a method
B23: Specify a herbicide below | C23: Typical rate | D23: Actual rate | E23: $/ha
B24: trifluralin | C24: =_xlfn.CONCAT(VLOOKUP(B24,Table1[[Active ingredient]:[Unit (L or kg)]],2,FALSE)," ",VLOOKUP(B24,Table1[[Active ingredient]:[Unit (L or kg)]],4,FALSE),"/ha") -> 0.8 L/ha | D24: 5 | E24: =VLOOKUP(B24,Table1[[Active ingredient]:[Unit (L or kg)]],3,FALSE)*'Front Page'!D24 -> 36.25 | F24: =IF(D24="","Actual rate must not be empty","")
B25: Boxer Gold | C25: =_xlfn.CONCAT(VLOOKUP(B25,Table1[],3,FALSE)," ",VLOOKUP(B25,Table1[],5,FALSE),"/ha") -> 2.5 L/ha | D25: 1 | E25: =VLOOKUP(B25,Table1[],4,FALSE)*'Front Page'!D25 -> 9.4 | F25: =IF(D25="","Actual rate must not be empty","")
B26: Herbicide (enter yours here) | C26: An herbicide | D26: 1 | E26: 26 | F26: =IF(E26="","$/ha must not be empty","")
D27: Herbicide Cost | E27: =IF(ISNUMBER(SEARCH("active", C22)), E24, IF(ISNUMBER(SEARCH("product", C22)), E25, E26)) -> 9.4 | F27: /ha
G28: ❓ | H28: What do the curves mean?
B29: Application cost ($/ha) (Adjuvants, machinery etc) | C29: 15 | D29: Total cost | E29: =E27+C29 -> 24.4 | F29: /ha | G29: ❓ | H29: What do the straight lines mean?
B30: Yield Loss Threshold: | C30: =Equations!C21 -> 0.0036969697 | D30: ❓ | G30: Analysis outcome: | H30: =IF(ISNA(Equations!K14),"The threshold value is too large for normal analysis",Equations!K14) -> Potential value of lost yield is greater than weed control cost. Control weeds ASAP.
B31: Manual Threshold: | C31: 0.005 | D31: ❓ | G31: Please note: | H31: =Equations!K16 -> The Australian Cotton HRMS suggests using 6 different modes of action every two years. Consider using a different option next time, to manage resistance.
B32: Define the Critical Period with: | C32: Calculated threshold | H32: =IF(AND(Equations!T20="yes",ChartData!D69>0),Equations!P29,"")

Sheet GrowthEqns
A1: Location List | D1: Equations | F1: a | G1: b | H1: c | I1: GGD/D | J1: GDD/cumGDD = ax^2+bx+c
A2: Central QLD | D2: Central QLD12 | F2: -2.4631e-06 | G2: 0.0092155 | H2: 7.9474 | I2: =F2*$B$14^2+G2*$B$14+H2 -> 8.844319
A3: Darling Downs | D3: Central QLD15.5 | F3: -4.3416e-06 | G3: 0.011997 | H3: 4.8613 | I3: =F3*$B$14^2+G3*$B$14+H3 -> 6.017584
A4: St George | D4: Central QLD15-32 | F4: -4.0902e-06 | G4: 0.010586 | H4: 4.8391 | I4: =F4*$B$14^2+G4*$B$14+H4 -> 5.856798
A5: Gwydir/Namoi | D5: Gwydir/Namoi12 | F5: -5.8945e-06 | G5: 0.015802 | H5: 3.9285 | I5: =F5*$B$14^2+G5*$B$14+H5 -> 5.449755
A6: Macquarie | D6: Gwydir/Namoi15.5 | F6: -1.2539e-05 | G6: 0.022027 | H6: 1.6323 | I6: =F6*$B$14^2+G6*$B$14+H6 -> 3.70961
A7: Murray/Murrumbidgee | D7: Gwydir/Namoi15-32 | F7: -1.2367e-05 | G7: 0.020426 | H7: 1.7444 | I7: =F7*$B$14^2+G7*$B$14+H7 -> 3.66333
A8: Northern QLD | D8: Macquarie12 | F8: -1.0856e-05 | G8: 0.020865 | H8: 2.2145 | I8: =F8*$B$14^2+G8*$B$14+H8 -> 4.19244
A9: Katherine/Kununurra | D9: Macquarie15.5 | F9: -2.532e-05 | G9: 0.02941 | H9: 0.52141 | I9: =F9*$B$14^2+G9*$B$14+H9 -> 3.20921
D10: Macquarie15-32 | F10: -2.5067e-05 | G10: 0.02768 | H10: 0.65847 | I10: =F10*$B$14^2+G10*$B$14+H10 -> 3.1758
A11: Selected location | B11: ='Front Page'!C10 -> Murray/Murrumbidgee | D11: Darling Downs12 | F11: -4.8155e-06 | G11: 0.012951 | H11: 5.5662 | I11: =F11*$B$14^2+G11*$B$14+H11 -> 6.813145
A12: Current base | B12: =ChartData!A11 -> 15.5 | D12: Darling Downs15.5 | F12: -9.4924e-06 | G12: 0.017352 | H12: 2.9131 | I12: =F12*$B$14^2+G12*$B$14+H12 -> 4.553376
A13: Concat | B13: =_xlfn.CONCAT(B11,B12) -> Murray/Murrumbidgee15.5 | D13: Darling Downs15-32 | F13: -9.2189e-06 | G13: 0.016323 | H13: 2.9621 | I13: =F13*$B$14^2+G13*$B$14+H13 -> 4.502211
A14: Current GDD | B14: =ChartData!B72 -> 100 | D14: St George12 | F14: -6.5761e-06 | G14: 0.017584 | H14: 4.2054 | I14: =F14*$B$14^2+G14*$B$14+H14 -> 5.898039
A15: Current GDD/day today | B15: =VLOOKUP(B13,D:I,6,FALSE) -> 3.07578 | D15: St George15.5 | F15: -1.2552e-05 | G15: 0.023322 | H15: 1.8314 | I15: =F15*$B$14^2+G15*$B$14+H15 -> 4.03808
A16: Selected weed type | B16: =IF(ISNUMBER(SEARCH("Multi",'Front Page'!C8)),"Mixed",IF(ISNUMBER(SEARCH("Large",'Front Page'!C8)),"Large","Small")) -> Large | D16: St George15-32 | F16: -1.2199e-05 | G16: 0.021374 | H16: 1.9933 | I16: =F16*$B$14^2+G16*$B$14+H16 -> 4.00871
D17: Murray/Murrumbidgee12 | F17: -9.1317e-06 | G17: 0.020869 | H17: 2.3868 | I17: =F17*$B$14^2+G17*$B$14+H17 -> 4.382383
A18: Statement for front page | D18: Murray/Murrumbidgee15.5 | F18: -1.9323e-05 | G18: 0.028882 | H18: 0.38081 | I18: =F18*$B$14^2+G18*$B$14+H18 -> 3.07578
A19: =_xlfn.CONCAT("Enter GDD in base ",B12," deg C") -> Enter GDD in base 15.5 deg C | D19: Murray/Murrumbidgee15-32 | F19: -1.7951e-05 | G19: 0.024043 | H19: 0.99585 | I19: =F19*$B$14^2+G19*$B$14+H19 -> 3.22064
D20: Northern QLD12 | F20: 9.6572e-07 | G20: -0.0028293 | H20: 18.24 | I20: =F20*$B$14^2+G20*$B$14+H20 -> 17.966727
D21: Northern QLD15.5 | F21: 1.5453e-06 | G21: -0.003587 | H21: 14.753 | I21: =F21*$B$14^2+G21*$B$14+H21 -> 14.409753
D22: Northern QLD15-32 | F22: 1.5288e-07 | G22: -0.00075906 | H22: 12.287 | I22: =F22*$B$14^2+G22*$B$14+H22 -> 12.212623
D23: Katherine/Kununurra12 | F23: -2.6704e-07 | G23: -0.0011191 | H23: 17.985 | I23: =F23*$B$14^2+G23*$B$14+H23 -> 17.87042
D24: Katherine/Kununurra15.5 | F24: -5.1894e-07 | G24: -0.001272 | H24: 14.429 | I24: =F24*$B$14^2+G24*$B$14+H24 -> 14.296611
D25: Katherine/Kununurra15-32 | F25: -1.0259e-06 | G25: -0.00035824 | H25: 12.867 | I25: =F25*$B$14^2+G25*$B$14+H25 -> 12.820917
A28: Growth % per GDD | B28: L | C28: k | D28: k0 | E28: Current % increase per GDD
A29: Large 12 | B29: 0.01045 | C29: -0.006479 | D29: 583.7 | E29: =B29/(1+EXP(-C29*($B$36-D29))) -> 0.010013914 | F29: y=L/(1+exp(-k*(x-x0)))
A30: Large 15 | B30: 0.009836 | C30: -0.013744 | D30: 497.67379 | E30: =B30/(1+EXP(-C30*($B$36-D30))) -> 0.0097945721
A31: Small 12 | B31: 0.0205 | C31: -0.008082 | D31: 552.4 | E31: =B31/(1+EXP(-C31*($B$36-D31))) -> 0.019983857
A32: Small 15 | B32: 0.02007 | C32: -0.01294 | D32: 445.2 | E32: =B32/(1+EXP(-C32*($B$36-D32))) -> 0.019842153
A33: Mixed 12 | B33: 0.01667 | C33: 4.408 | D33: 523.4 | E33: =B33/(1+($B$36/D33)^C33) -> 0.016658701 | F33: y=L/(1+(x/x0)^k)
A34: Mixed 15 | B34: 0.01659 | C34: 4.629 | D34: 418 | E34: =B34/(1+($B$36/D34)^C34) -> 0.016567928
A36: Current age of cohort | B36: ='Front Page'!F13-'Front Page'!F15 -> 100 | C36: GDD
A37: Chosen % incr/GDD | B37: =VLOOKUP(D39,A29:E34,5) -> 0.0097945721
A39: Select model: | B39: =B16 -> Large | C39: =IF(B12="12","12","15") -> 15 | D39: =_xlfn.CONCAT(B39," ",C39) -> Large 15

Sheet Herbicides
A1: Product | B1: Active ingredient | C1: Typical rate | D1: Price per unit ($) | E1: Unit (L or kg) | F1: price at typical rate | H1: Unused from CPMG: | M1: Selection methods:
A2: Guerilla | B2: amitrole+paraquat | C2: 1 | D2: 9 | E2: L | F2: =Table1[[#This Row],[Typical rate]]*Table1[[#This Row],[Price per unit ($)]] -> 9 | H2: bromoxynil | I2: not suitable timing for CPWC (13.75/L) | M2: By active ingredient
A3: Factor WG | B3: butroxydim | C3: 0.13 | D3: 119.78 | E3: kg | F3: =Table1[[#This Row],[Typical rate]]*Table1[[#This Row],[Price per unit ($)]] -> 15.5714 | H3: 2,2-DPA | I3: no price in guide | M3: By product name
A4: Affinity Force | B4: carfentrazone | C4: 0.085 | D4: 178.8 | E4: L | F4: =Table1[[#This Row],[Typical rate]]*Table1[[#This Row],[Price per unit ($)]] -> 15.198 | H4: chlorthal-dimethyl | I4: deregistered | M4: Manual entry
A5: Status | B5: clethodim | C5: 0.3 | D5: 9.53 | E5: L | F5: =Table1[[#This Row],[Typical rate]]*Table1[[#This Row],[Price per unit ($)]] -> 2.859 | H5: metolachlor | I5: no suitable timing (29.75/L)
A6: Xtendimax 2 | B6: dicamba | C6: 0.18 | D6: 30 | E6: L | F6: =Table1[[#This Row],[Typical rate]]*Table1[[#This Row],[Price per unit ($)]] -> 5.4 | H6: sethoxydim | I6: products available?
A7: Decision | B7: diclofop + sethoxydim | C7: 1 | D7: 24 | E7: L | F7: =Table1[[#This Row],[Typical rate]]*Table1[[#This Row],[Price per unit ($)]] -> 24 | H7: Xtendimax 2 | I7: Pricing unavailable
A8: Cheetah Gold | B8: diclofop + sethoxydim + fenoxaprop | C8: 1 | D8: 20.5 | E8: L | F8: =Table1[[#This Row],[Typical rate]]*Table1[[#This Row],[Price per unit ($)]] -> 20.5 | H8: 2,4-D | I8: not suitable timing for CPWC (8.29/L)
A9: Diuron 900 | B9: diuron | C9: 0.5 | D9: 17.03 | E9: kg | F9: =Table1[[#This Row],[Typical rate]]*Table1[[#This Row],[Price per unit ($)]] -> 8.515
A10: Terrain | B10: flumioxazin | C10: 0.03 | D10: 176.13 | E10: kg | F10: =Table1[[#This Row],[Typical rate]]*Table1[[#This Row],[Price per unit ($)]] -> 5.2839
A11: Starane Advanced | B11: fluroxypyr | C11: 0.45 | D11: 25.5 | E11: L | F11: =Table1[[#This Row],[Typical rate]]*Table1[[#This Row],[Price per unit ($)]] -> 11.475
A12: Biffo | B12: glufosinate | C12: 3.75 | D12: 11.5 | E12: L | F12: =Table1[[#This Row],[Typical rate]]*Table1[[#This Row],[Price per unit ($)]] -> 43.125
A13: Liberty | B13: glufosinate | C13: 1.5 | D13: 19.73 | E13: L | F13: =Table1[[#This Row],[Typical rate]]*Table1[[#This Row],[Price per unit ($)]] -> 29.595
A14: CRUCIAL | B14: glyphosate | C14: 1.2 | D14: 6.98 | E14: L | F14: =Table1[[#This Row],[Typical rate]]*Table1[[#This Row],[Price per unit ($)]] -> 8.376
A15: Roundup Ready PL | B15: glyphosate | C15: 1.15 | D15: 6.6 | E15: L | F15: =Table1[[#This Row],[Typical rate]]*Table1[[#This Row],[Price per unit ($)]] -> 7.59
A16: Roundup Ready with PLANTSHIELD | B16: glyphosate | C16: 1.3 | D16: 9.73 | E16: kg | F16: =Table1[[#This Row],[Typical rate]]*Table1[[#This Row],[Price per unit ($)]] -> 12.649
A17: Roundup UltraMax | B17: glyphosate | C17: 1 | D17: 6.95 | E17: L | F17: =Table1[[#This Row],[Typical rate]]*Table1[[#This Row],[Price per unit ($)]] -> 6.95
A18: Weedmaster DST | B18: glyphosate | C18: 1.5 | D18: 6.1 | E18: L | F18: =Table1[[#This Row],[Typical rate]]*Table1[[#This Row],[Price per unit ($)]] -> 9.15
A19: Verdict 520 | B19: haloxyfop | C19: 0.75 | D19: 46 | E19: L | F19: =Table1[[#This Row],[Typical rate]]*Table1[[#This Row],[Price per unit ($)]] -> 34.5
A20: Balance WG | B20: isoxaflutole | C20: 0.1 | D20: 130.59 | E20: kg | F20: =Table1[[#This Row],[Typical rate]]*Table1[[#This Row],[Price per unit ($)]] -> 13.059
... A35: TriflurX | B35: trifluralin | C35: 0.8 | D35: 7.25 | E35: L | F35: =Table1[[#This Row],[Typical rate]]*Table1[[#This Row],[Price per unit ($)]] -> 5.8
A37: Product (Alphabetical)
A38: Achieve WG
A39: Affinity Force
A40: Aggressor
A41: Balance WG
A42: Biffo
A43: Boxer Gold
A44: Cheetah Gold
A45: CRUCIAL
A46: Decision
A47: Diuron 900
A48: Dual Gold
... A71: Xtendimax 2

Sheet ChartData
A1: Current model selection: | C1: Indicated yield | D1: SELECTED MODEL | F1: Original tool equation | H1: Mungs (2020) | J1: Sunflower (2019) | L1: New Sunf 2025 simplified | N1: New Sunflowers (2025) | P1: Extended sunnys 15.5 | R1: Extended sunnys 12 | T1: Extended sunnys 15/32 | V1: Ext mungs 12 | X1: Ext mungs 15.5 | Z1: Ext mungs 15/32 | AB1: Multi 12 | AD1: Multi 15.5 | AF1: Multi 15/32 | AH1: Manual threshold | AI1: Latest mungs 12 | AK1: Latest mungs 15.5 | AM1: Latest mungs 15/32 | AO1: Latest sunnys 12 | AQ1: Latest sunnys 15.5 | AS1: Latest sunnys 15/32
A2: ='Front Page'!C8 -> Large broadleaf 15.5 | B2: GDD | C2: loss limit | D2: CTWR | E2: CWFP | F2: CTWR yield | G2: CWFP yield | H2: CTWR yield | I2: CWFP yield | J2: CTWR yield | K2: CWFP yield | L2: CTWR simp | M2: CWFP simp | N2: CTWR orig | O2: CWFP orig | P2: CTWR | Q2: CWFP | R2: CTWR | S2: CWFP | T2: CTWR | U2: CWFP | V2: CTWR | W2: CWFP | X2: CTWR | Y2: CWFP | Z2: CTWR | AA2: CWFP | AB2: CTWR | AC2: CWFP | AD2: CTWR | AE2: CWFP | AF2: CTWR | AG2: CWFP | AH2: =IF('Front Page'!$C$31>0,1-'Front Page'!$C$31,"") -> 0.995 | AI2: CTWR | AJ2: CWFP | AK2: CTWR | AL2: CWFP | AM2: CTWR | AN2: CWFP | AO2: CTWR | AP2: CWFP | AQ2: CTWR | AR2: CWFP | AS2: CTWR | AT2: CWFP
A3: Model Index: | B3: 0 | C3: =1-'Front Page'!$C$30 -> 0.99630303 | D3: =IF($A$4=1,F3,IF($A$4=2,AB3,IF($A$4=4,AF3,IF($A$4=5,N3,IF($A$4=3,AD3,IF($A$4=6,AQ3,IF($A$4=7,AO3,IF($A$4=8,AS3,IF($A$4=9,AI3,IF($A$4=10,AK3,IF($A$4=11,AM3))))))))))) -> 100 | E3: =IF($A$62="reversed",NA(),IF($A$4=1,G3,IF($A$4=2,AC3,IF($A$4=4,AG3,IF($A$4=5,O3,IF($A$4=3,AE3,IF($A$4=6,AR3,IF($A$4=7,AP3,IF($A$4=8,AT3,IF($A$4=9,AJ3,IF($A$4=10,AL3,IF($A$4=11,AN3)))))))))))) -> 34.510092 | F3: =Equations!$E$4/(1+EXP(Equations!$F$4*ChartData!B3*(Equations!$G$4*Equations!$C$4+Equations!$D$4))) -> 100 | G3: =Equations!$E$7*EXP(-EXP(-Equations!$F$7*(ChartData!B3-Equations!$G$7+Equations!$H$7*Equations!$C$7+Equations!$I$7*Equations!$D$7))) -> 72.179253 | H3: =Models!$B$13+Models!$C$13*EXP(Models!$D$13*ChartData!B3+(Models!$E$13*ChartData!B3*Models!$E$3)) -> 100 | I3: =Models!$B$50*EXP(-EXP(Models!$D$50*(ChartData!B3+Models!$C$50-(Models!$E$50*Models!$B$5)))) -> 61.371495 | J3: =Models!$B$12/(1+EXP(Models!$D$12*(ChartData!B3-Models!$C$12+Models!$E$12*ChartData!B3*Models!$B$5))) -> 120.99992 | K3: =Models!$B$49*EXP(-EXP(Models!$D$49*(ChartData!B3-Models!$C$49+(Models!$E$49*ChartData!B3*Models!$B$5)))) -> 0.8309687 | L3: =Models!$B$15/(1+EXP(Models!$D$15*(ChartData!B3*(1+Models!$D$15*Models!$B$5)-Models!$C$15))) -> 101.56277 | M3: =Models!$B$52*EXP(-EXP(Models!$D$52*(ChartData!B3*(1+Models!$D$52*Models!$B$5)-Models!$C$52))) -> 0.89783662 | N3: =Models!$B$15/(1+EXP(Models!$D$15*(ChartData!B3-Models!$D$15+Models!$E$15*ChartData!B3*Models!$B$5))) -> 100.00026 | O3: =Models!$B$52*EXP(-EXP(Models!$D$52*(ChartData!B3-Models!$C$52+Models!$E$52*ChartData!B3*Models!$B$5))) -> 0.89783662 | P3: =Models!$B$16*Models!$I$16+(100-Models!$B$16*Models!$I$16)/(1+EXP(Models!$C$16*(ChartData!B3-Models!$E$16+Models!$B$4*Models!$F$16+Models!$B$4*Models!$G$16*Models!$I$16+Models!$B$5*Models!$H$16))) -> 98.760577 | Q3: =Models!$B$53*EXP(-EXP(Models!$D$53*(ChartData!B3+Models!$C$53+Models!$B$5*Models!$E$53+Models!$B$4*Models!$F$53))) -> 32.831734 | R3: =Models!$B$17*Models!$I$17+(100-Models!$B$17*Models!$I$17)/(1+EXP(Models!$C$17*(ChartData!B3-Models!$E$17+Models!$B$4*Models!$F$17+Models!$B$4*Models!$G$17*Models!$I$17+Models!$B$5*Models!$H$17))) -> 98.936331 | S3: =Models!$B$54*EXP(-EXP(Models!$D$54*(ChartData!B3+Models!$C$54+Models!$B$5*Models!$E$54+Models!$B$4*Models!$F$54))) -> 27.829263 | T3: =Models!$B$18*Models!$I$18+(100-Models!$B$18*Models!$I$18)/(1+EXP(Models!$C$18*(ChartData!B3-Models!$E$18+Models!$B$4*Models!$F$18+Models!$B$4*Models!$G$18*Models!$I$18+Models!$B$5*Models!$H$18))) -> 98.953621 | U3: =Models!$B$55*EXP(-EXP(Models!$D$55*(ChartData!B3+Models!$C$55+Models!$B$5*Models!$E$55+Models!$B$4*Models!$F$55))) -> 34.510463 | V3: =Models!$B$19*Models!$I$19+(100-Models!$B$19*Models!$I$19)/(1+EXP(Models!$C$19*(ChartData!$B3-Models!$E$19+Models!$B$5*ChartData!$B3*Models!$F$19+Models!$B$4*Models!$G$19))) -> 92.820505 | W3: =Models!$B$56*EXP(-EXP(Models!$D$56*(ChartData!B3+Models!$C$56+Models!$B$5*Models!$E$56+Models!$B$4*Models!$F$56))) -> 72.484399 | X3: =Models!$B$20*Models!$I$20+(100-Models!$B$20*Models!$I$20)/(1+EXP(Models!$C$20*(ChartData!$B3-Models!$E$20+Models!$B$5*ChartData!$B3*Models!$F$20+Models!$B$4*Models!$G$20))) -> 92.754049 | Y3: =Models!$B$57*EXP(-EXP(Models!$D$57*(ChartData!B3+Models!$C$57+Models!$B$5*Models!$E$57+Models!$B$4*Models!$F$57))) -> 73.037333 | Z3: =Models!$B$21*Models!$I$21+(100-Models!$B$21*Models!$I$21)/(1+EXP(Models!$C$21*(ChartData!$B3-Models!$E$21+Models!$B$5*ChartData!$B3*Models!$F$21+Models!$B$4*Models!$G$21))) -> 93.82448 | AA3: =Models!$B$58*EXP(-EXP(Models!$D$58*(ChartData!B3+Models!$C$58+Models!$B$5*Models!$E$58+Models!$B$4*Models!$F$58))) -> 73.052199 | AB3: =200/(1+EXP(Models!$D$22*((Models!$E$22*Models!$B$4+Models!$B$5)*ChartData!B3))) -> 100 | AC3: =100*EXP(-EXP(Models!$D$59*(ChartData!B3-Models!$C$59+Models!$E$59*Models!$B$4+Models!$F$59*Models!$B$5))) -> 66.837566 | AD3: =200/(1+EXP(Models!$D$23*((Models!$E$23*Models!$B$4+Models!$B$5)*ChartData!B3))) -> 100 | AE3: =100*EXP(-EXP(Models!$D$60*(ChartData!B3-Models!$C$60+Models!$E$60*Models!$B$4+Models!$F$60*Models!$B$5))) -> 67.137335 | AF3: =200/(1+EXP(Models!$D$24*((Models!$E$24*Models!$B$4+Models!$B$5)*ChartData!B3))) -> 100 | AG3: =100*EXP(-EXP(Models!$D$61*(ChartData!B3-Models!$C$61+Models!$E$61*Models!$B$4+Models!$F$61*Models!$B$5))) -> 67.197388 | AH3: =IF('Front Page'!$C$31>0,1-'Front Page'!$C$31,"") -> 0.995 | AI3: =Models!$B$25*Models!$I$25+(200-Models!$B$25*Models!$I$25)/(1+EXP(Models!$C$25*B3*(Models!$B$4*Models!$F$25+Models!$B$5+Models!$I$25*Models!$G$25))) -> 100 | AJ3: =100*EXP(-EXP(Models!$D$62*(ChartData!B3-Models!$C$62+Models!$E$62*Models!$B$4+Models!$F$62*Models!$B$5))) -> 72.484142 | AK3: =Models!$B$26*Models!$I$26+(200-Models!$B$26*Models!$I$26)/(1+EXP(Models!$C$26*B3*(Models!$B$4*Models!$F$26+Models!$B$5+Models!$I$26*Models!$G$26))) -> 100 | AL3: =100*EXP(-EXP(Models!$D$63*(ChartData!B3-Models!$C$63+Models!$E$63*Models!$B$4+Models!$F$63*Models!$B$5))) -> 73.037184 | AM3: =Models!$B$27*Models!$I$27+(200-Models!$B$27*Models!$I$27)/(1+EXP(Models!$C$27*B3*(Models!$B$4*Models!$F$27+Models!$B$5+Models!$I$27*Models!$G$27))) -> 107.78715 | AN3: =100*EXP(-EXP(Models!$D$64*(ChartData!B3-Models!$C$64+Models!$E$64*Models!$B$4+Models!$F$64*Models!$B$5))) -> 73.051816 | AO3: =Models!$B$28*Models!$I$28+(200-Models!$B$28*Models!$I$28)/(1+EXP(Models!$C$28*B3*(Models!$B$4*Models!$F$28+Models!$B$5+Models!$I$28*Models!$G$28))) -> 100 | AP3: =100*EXP(-EXP(Models!$D$65*(ChartData!B3-Models!$C$65+Models!$E$65*Models!$B$4+Models!$F$65*Models!$B$5))) -> 27.835953 | AQ3: =Models!$B$29*Models!$I$29+(200-Models!$B$29*Models!$I$29)/(1+EXP(Models!$C$29*B3*(Models!$B$4*Models!$F$29+Models!$B$5+Models!$I$29*Models!$G$29))) -> 100 | AR3: =100*EXP(-EXP(Models!$D$66*(ChartData!B3-Models!$C$66+Models!$E$66*Models!$B$4+Models!$F$66*Models!$B$5))) -> 34.510092 | AS3: =Models!$B$30*Models!$I$30+(200-Models!$B$30*Models!$I$30)/(1+EXP(Models!$C$30*B3*(Models!$B$4*Models!$F$30+Models!$B$5+Models!$I$30*Models!$G$30))) -> 104.81432 | AT3: =100*EXP(-EXP(Models!$D$67*(ChartData!B3-Models!$C$67+Models!$E$67*Models!$B$4+Models!$F$67*Models!$B$5))) -> 30.614112
A4: =IF(ISNUMBER(SEARCH("original",$A$2)),1, IF(ISNUMBER(SEARCH("Multi-species 12",$A$2)),2, IF(ISNUMBER(SEARCH("Multi-species 15/32",$A$2)),4, IF(ISNUMBER(SEARCH("New Sunflowers",$A$2)),5, IF(ISNUMBER(SEARCH("Multi-species 15.5",$A$2)),3, IF(ISNUMBER(SEARCH("Large broadleaf 15.5",$A$2)),6, IF(ISNUMBER(SEARCH("Large broadleaf 12",$A$2)),7, IF(ISNUMBER(SEARCH("Large broadleaf 15/32",$A$2)),8, IF(ISNUMBER(SEARCH("Small broadleaf 12",$A$2)),9,IF(ISNUMBER(SEARCH("Small broadleaf 15.5",$A$2)),10,IF(ISNUMBER(SEARCH("Small broadleaf 15/32",$A$2)),11))))))))))) -> 6 | B4: 10 | C4: =1-'Front Page'!$C$30 -> 0.99630303 | D4: =IF($A$4=1,F4,IF($A$4=2,AB4,IF($A$4=4,AF4,IF($A$4=5,N4,IF($A$4=3,AD4,IF($A$4=6,AQ4,IF($A$4=7,AO4,IF($A$4=8,AS4,IF($A$4=9,AI4,IF($A$4=10,AK4,IF($A$4=11,AM4))))))))))) -> 99.839211 | E4: =IF($A$62="reversed",NA(),IF($A$4=1,G4,IF($A$4=2,AC4,IF($A$4=4,AG4,IF($A$4=5,O4,IF($A$4=3,AE4,IF($A$4=6,AR4,IF($A$4=7,AP4,IF($A$4=8,AT4,IF($A$4=9,AJ4,IF($A$4=10,AL4,IF($A$4=11,AN4)))))))))))) -> 36.750764 | F4: =Equations!$E$4/(1+EXP(Equations!$F$4*ChartData!B4*(Equations!$G$4*Equations!$C$4+Equations!$D$4))) -> 99.904492 | G4: =Equations!$E$7*EXP(-EXP(-Equations!$F$7*(ChartData!B4-Equations!$G$7+Equations!$H$7*Equations!$C$7+Equations!$I$7*Equations!$D$7))) -> 72.95995 | H4: =Models!$B$13+Models!$C$13*EXP(Models!$D$13*ChartData!B4+(Models!$E$13*ChartData!B4*Models!$E$3)) -> 99.697252 | I4: =Models!$B$50*EXP(-EXP(Models!$D$50*(ChartData!B4+Models!$C$50-(Models!$E$50*Models!$B$5)))) -> 62.047693 | J4: =Models!$B$12/(1+EXP(Models!$D$12*(ChartData!B4-Models!$C$12+Models!$E$12*ChartData!B4*Models!$B$5))) -> 120.99989 | K4: =Models!$B$49*EXP(-EXP(Models!$D$49*(ChartData!B4-Models!$C$49+(Models!$E$49*ChartData!B4*Models!$B$5)))) -> 1.1494077 | L4: =Models!$B$15/(1+EXP(Models!$D$15*(ChartData!B4*(1+Models!$D$15*Models!$B$5)-Models!$C$15))) -> 100.41332 | M4: =Models!$B$52*EXP(-EXP(Models!$D$52*(ChartData!B4*(1+Models!$D$52*Models!$B$5)-Models!$C$52))) -> 1.2710678 | N4: =Models!$B$15/(1+EXP(Models!$D$15*(ChartData!B4-Models!$D$15+Models!$E$15*ChartData!B4*Models!$B$5))) -> 98.712948 | O4: =Models!$B$52*EXP(-EXP(Models!$D$52*(ChartData!B4-Models!$C$52+Models!$E$52*ChartData!B4*Models!$B$5))) -> 1.3159756 | P4: =Models!$B$16*Models!$I$16+(100-Models!$B$16*Models!$I$16)/(1+EXP(Models!$C$16*(ChartData!B4-Models!$E$16+Models!$B$4*Models!$F$16+Models!$B$4*Models!$G$16*Models!$I$16+Models!$B$5*Models!$H$16))) -> 98.732219 | Q4: =Models!$B$53*EXP(-EXP(Models!$D$53*(ChartData!B4+Models!$C$53+Models!$B$5*Models!$E$53+Models!$B$4*Models!$F$53))) -> 34.887863 | R4: =Models!$B$17*Models!$I$17+(100-Models!$B$17*Models!$I$17)/(1+EXP(Models!$C$17*(ChartData!B4-Models!$E$17+Models!$B$4*Models!$F$17+Models!$B$4*Models!$G$17*Models!$I$17+Models!$B$5*Models!$H$17))) -> 98.917044 | S4: =Models!$B$54*EXP(-EXP(Models!$D$54*(ChartData!B4+Models!$C$54+Models!$B$5*Models!$E$54+Models!$B$4*Models!$F$54))) -> 29.167342 | T4: =Models!$B$18*Models!$I$18+(100-Models!$B$18*Models!$I$18)/(1+EXP(Models!$C$18*(ChartData!B4-Models!$E$18+Models!$B$4*Models!$F$18+Models!$B$4*Models!$G$18*Models!$I$18+Models!$B$5*Models!$H$18))) -> 98.925232 | U4: =Models!$B$55*EXP(-EXP(Models!$D$55*(ChartData!B4+Models!$C$55+Models!$B$5*Models!$E$55+Models!$B$4*Models!$F$55))) -> 36.751172 | V4: =Models!$B$19*Models!$I$19+(100-Models!$B$19*Models!$I$19)/(1+EXP(Models!$C$19*(ChartData!$B4-Models!$E$19+Models!$B$5*ChartData!$B4*Models!$F$19+Models!$B$4*Models!$G$19))) -> 92.77887 | W4: =Models!$B$56*EXP(-EXP(Models!$D$56*(ChartData!B4+Models!$C$56+Models!$B$5*Models!$E$56+Models!$B$4*Models!$F$56))) -> 73.123013 | X4: =Models!$B$20*Models!$I$20+(100-Models!$B$20*Models!$I$20)/(1+EXP(Models!$C$20*(ChartData!$B4-Models!$E$20+Models!$B$5*ChartData!$B4*Models!$F$20+Models!$B$4*Models!$G$20))) -> 92.692058 | Y4: =Models!$B$57*EXP(-EXP(Models!$D$57*(ChartData!B4+Models!$C$57+Models!$B$5*Models!$E$57+Models!$B$4*Models!$F$57))) -> 73.983091 | Z4: =Models!$B$21*Models!$I$21+(100-Models!$B$21*Models!$I$21)/(1+EXP(Models!$C$21*(ChartData!$B4-Models!$E$21+Models!$B$5*ChartData!$B4*Models!$F$21+Models!$B$4*Models!$G$21))) -> 93.766331 | AA4: =Models!$B$58*EXP(-EXP(Models!$D$58*(ChartData!B4+Models!$C$58+Models!$B$5*Models!$E$58+Models!$B$4*Models!$F$58))) -> 74.049167 | AB4: =200/(1+EXP(Models!$D$22*((Models!$E$22*Models!$B$4+Models!$B$5)*ChartData!B4))) -> 99.930209 | AC4: =100*EXP(-EXP(Models!$D$59*(ChartData!B4-Models!$C$59+Models!$E$59*Models!$B$4+Models!$F$59*Models!$B$5))) -> 67.355607 | AD4: =200/(1+EXP(Models!$D$23*((Models!$E$23*Models!$B$4+Models!$B$5)*ChartData!B4))) -> 99.898678 | AE4: =100*EXP(-EXP(Models!$D$60*(ChartData!B4-Models!$C$60+Models!$E$60*Models!$B$4+Models!$F$60*Models!$B$5))) -> 67.898259 | AF4: =200/(1+EXP(Models!$D$24*((Models!$E$24*Models!$B$4+Models!$B$5)*ChartData!B4))) -> 99.888595 | AG4: =100*EXP(-EXP(Models!$D$61*(ChartData!B4-Models!$C$61+Models!$E$61*Models!$B$4+Models!$F$61*Models!$B$5))) -> 68.013755 | AH4: =IF('Front Page'!$C$31>0,1-'Front Page'!$C$31,"") -> 0.995 | AI4: =Models!$B$25*Models!$I$25+(200-Models!$B$25*Models!$I$25)/(1+EXP(Models!$C$25*B4*(Models!$B$4*Models!$F$25+Models!$B$5+Models!$I$25*Models!$G$25))) -> 99.904981 | AJ4: =100*EXP(-EXP(Models!$D$62*(ChartData!B4-Models!$C$62+Models!$E$62*Models!$B$4+Models!$F$62*Models!$B$5))) -> 73.122761 | AK4: =Models!$B$26*Models!$I$26+(200-Models!$B$26*Models!$I$26)/(1+EXP(Models!$C$26*B4*(Models!$B$4*Models!$F$26+Models!$B$5+Models!$I$26*Models!$G$26))) -> 99.865412 | AL4: =100*EXP(-EXP(Models!$D$63*(ChartData!B4-Models!$C$63+Models!$E$63*Models!$B$4+Models!$F$63*Models!$B$5))) -> 73.982924 | AM4: =Models!$B$27*Models!$I$27+(200-Models!$B$27*Models!$I$27)/(1+EXP(Models!$C$27*B4*(Models!$B$4*Models!$F$27+Models!$B$5+Models!$I$27*Models!$G$27))) -> 107.39667 | AN4: =100*EXP(-EXP(Models!$D$64*(ChartData!B4-Models!$C$64+Models!$E$64*Models!$B$4+Models!$F$64*Models!$B$5))) -> 74.048795 | AO4: =Models!$B$28*Models!$I$28+(200-Models!$B$28*Models!$I$28)/(1+EXP(Models!$C$28*B4*(Models!$B$4*Models!$F$28+Models!$B$5+Models!$I$28*Models!$G$28))) -> 99.890466 | AP4: =100*EXP(-EXP(Models!$D$65*(ChartData!B4-Models!$C$65+Models!$E$65*Models!$B$4+Models!$F$65*Models!$B$5))) -> 29.174095 | AQ4: =Models!$B$29*Models!$I$29+(200-Models!$B$29*Models!$I$29)/(1+EXP(Models!$C$29*B4*(Models!$B$4*Models!$F$29+Models!$B$5+Models!$I$29*Models!$G$29))) -> 99.839211 | AR4: =100*EXP(-EXP(Models!$D$66*(ChartData!B4-Models!$C$66+Models!$E$66*Models!$B$4+Models!$F$66*Models!$B$5))) -> 36.750764 | AS4: =Models!$B$30*Models!$I$30+(200-Models!$B$30*Models!$I$30)/(1+EXP(Models!$C$30*B4*(Models!$B$4*Models!$F$30+Models!$B$5+Models!$I$30*Models!$G$30))) -> 104.61397 | AT4: =100*EXP(-EXP(Models!$D$67*(ChartData!B4-Models!$C$67+Models!$E$67*Models!$B$4+Models!$F$67*Models!$B$5))) -> 32.412994
B5: 20 | C5: =1-'Front Page'!$C$30 -> 0.99630303 | D5: =IF($A$4=1,F5,IF($A$4=2,AB5,IF($A$4=4,AF5,IF($A$4=5,N5,IF($A$4=3,AD5,IF($A$4=6,AQ5,IF($A$4=7,AO5,IF($A$4=8,AS5,IF($A$4=9,AI5,IF($A$4=10,AK5,IF($A$4=11,AM5))))))))))) -> 99.678422 | E5: =IF($A$62="reversed",NA(),IF($A$4=1,G5,IF($A$4=2,AC5,IF($A$4=4,AG5,IF($A$4=5,O5,IF($A$4=3,AE5,IF($A$4=6,AR5,IF($A$4=7,AP5,IF($A$4=8,AT5,IF($A$4=9,AJ5,IF($A$4=10,AL5,IF($A$4=11,AN5)))))))))))) -> 38.991615 | F5: =Equations!$E$4/(1+EXP(Equations!$F$4*ChartData!B5*(Equations!$G$4*Equations!$C$4+Equations!$D$4))) -> 99.808983 | G5: =Equations!$E$7*EXP(-EXP(-Equations!$F$7*(ChartData!B5-Equations!$G$7+Equations!$H$7*Equations!$C$7+Equations!$I$7*Equations!$D$7))) -> 73.722916 | H5: =Models!$B$13+Models!$C$13*EXP(Models!$D$13*ChartData!B5+(Models!$E$13*ChartData!B5*Models!$E$3)) -> 99.395635 | I5: =Models!$B$50*EXP(-EXP(Models!$D$50*(ChartData!B5+Models!$C$50-(Models!$E$50*Models!$B$5)))) -> 62.715915 | J5: =Models!$B$12/(1+EXP(Models!$D$12*(ChartData!B5-Models!$C$12+Models!$E$12*ChartData!B5*Models!$B$5))) -> 120.99984 | K5: =Models!$B$49*EXP(-EXP(Models!$D$49*(ChartData!B5-Models!$C$49+(Models!$E$49*ChartData!B5*Models!$B$5)))) -> 1.555329 | L5: =Models!$B$15/(1+EXP(Models!$D$15*(ChartData!B5*(1+Models!$D$15*Models!$B$5)-Models!$C$15))) -> 99.263768 | M5: =Models!$B$52*EXP(-EXP(Models!$D$52*(ChartData!B5*(1+Models!$D$52*Models!$B$5)-Models!$C$52))) -> 1.7538988 | N5: =Models!$B$15/(1+EXP(Models!$D$15*(ChartData!B5-Models!$D$15+Models!$E$15*ChartData!B5*Models!$B$5))) -> 97.426065 | O5: =Models!$B$52*EXP(-EXP(Models!$D$52*(ChartData!B5-Models!$C$52+Models!$E$52*ChartData!B5*Models!$B$5))) -> 1.8699381 | P5: =Models!$B$16*Models!$I$16+(100-Models!$B$16*Models!$I$16)/(1+EXP(Models!$C$16*(ChartData!B5-Models!$E$16+Models!$B$4*Models!$F$16+Models!$B$4*Models!$G$16*Models!$I$16+Models!$B$5*Models!$H$16))) -> 98.703219 | Q5: =Models!$B$53*EXP(-EXP(Models!$D$53*(ChartData!B5+Models!$C$53+Models!$B$5*Models!$E$53+Models!$B$4*Models!$F$53))) -> 36.950148 | R5: =Models!$B$17*Models!$I$17+(100-Models!$B$17*Models!$I$17)/(1+EXP(Models!$C$17*(ChartData!B5-Models!$E$17+Models!$B$4*Models!$F$17+Models!$B$4*Models!$G$17*Models!$I$17+Models!$B$5*Models!$H$17))) -> 98.897411 | S5: =Models!$B$54*EXP(-EXP(Models!$D$54*(ChartData!B5+Models!$C$54+Models!$B$5*Models!$E$54+Models!$B$4*Models!$F$54))) -> 30.517094 | T5: =Models!$B$18*Models!$I$18+(100-Models!$B$18*Models!$I$18)/(1+EXP(Models!$C$18*(ChartData!B5-Models!$E$18+Models!$B$4*Models!$F$18+Models!$B$4*Models!$G$18*Models!$I$18+Models!$B$5*Models!$H$18))) -> 98.896082 | U5: =Models!$B$55*EXP(-EXP(Models!$D$55*(ChartData!B5+Models!$C$55+Models!$B$5*Models!$E$55+Models!$B$4*Models!$F$55))) -> 38.99206 | V5: =Models!$B$19*Models!$I$19+(100-Models!$B$19*Models!$I$19)/(1+EXP(Models!$C$19*(ChartData!$B5-Models!$E$19+Models!$B$5*ChartData!$B5*Models!$F$19+Models!$B$4*Models!$G$19))) -> 92.737013 | W5: =Models!$B$56*EXP(-EXP(Models!$D$56*(ChartData!B5+Models!$C$56+Models!$B$5*Models!$E$56+Models!$B$4*Models!$F$56))) -> 73.749617 | X5: =Models!$B$20*Models!$I$20+(100-Models!$B$20*Models!$I$20)/(1+EXP(Models!$C$20*(ChartData!$B5-Models!$E$20+Models!$B$5*ChartData!$B5*Models!$F$20+Models!$B$4*Models!$G$20))) -> 92.629578 | Y5: =Models!$B$57*EXP(-EXP(Models!$D$57*(ChartData!B5+Models!$C$57+Models!$B$5*Models!$E$57+Models!$B$4*Models!$F$57))) -> 74.901625 | Z5: =Models!$B$21*Models!$I$21+(100-Models!$B$21*Models!$I$21)/(1+EXP(Models!$C$21*(ChartData!$B5-Models!$E$21+Models!$B$5*ChartData!$B5*Models!$F$21+Models!$B$4*Models!$G$21))) -> 93.707677 | AA5: =Models!$B$58*EXP(-EXP(Models!$D$58*(ChartData!B5+Models!$C$58+Models!$B$5*Models!$E$58+Models!$B$4*Models!$F$58))) -> 75.01583 | AB5: =200/(1+EXP(Models!$D$22*((Models!$E$22*Models!$B$4+Models!$B$5)*ChartData!B5))) -> 99.860417 | AC5: =100*EXP(-EXP(Models!$D$59*(ChartData!B5-Models!$C$59+Models!$E$59*Models!$B$4+Models!$F$59*Models!$B$5))) -> 67.867622 | AD5: =200/(1+EXP(Models!$D$23*((Models!$E$23*Models!$B$4+Models!$B$5)*ChartData!B5))) -> 99.797357 | AE5: =100*EXP(-EXP(Models!$D$60*(ChartData!B5-Models!$C$60+Models!$E$60*Models!$B$4+Models!$F$60*Models!$B$5))) -> 68.645919 | AF5: =200/(1+EXP(Models!$D$24*((Models!$E$24*Models!$B$4+Models!$B$5)*ChartData!B5))) -> 99.777191 | AG5: =100*EXP(-EXP(Models!$D$61*(ChartData!B5-Models!$C$61+Models!$E$61*Models!$B$4+Models!$F$61*Models!$B$5))) -> 68.814793 | AH5: =IF('Front Page'!$C$31>0,1-'Front Page'!$C$31,"") -> 0.995 | AI5: =Models!$B$25*Models!$I$25+(200-Models!$B$25*Models!$I$25)/(1+EXP(Models!$C$25*B5*(Models!$B$4*Models!$F$25+Models!$B$5+Models!$I$25*Models!$G$25))) -> 99.809962 | AJ5: =100*EXP(-EXP(Models!$D$62*(ChartData!B5-Models!$C$62+Models!$E$62*Models!$B$4+Models!$F$62*Models!$B$5))) -> 73.74937 | AK5: =Models!$B$26*Models!$I$26+(200-Models!$B$26*Models!$I$26)/(1+EXP(Models!$C$26*B5*(Models!$B$4*Models!$F$26+Models!$B$5+Models!$I$26*Models!$G$26))) -> 99.730825 | AL5: =100*EXP(-EXP(Models!$D$63*(ChartData!B5-Models!$C$63+Models!$E$63*Models!$B$4+Models!$F$63*Models!$B$5))) -> 74.901441 | AM5: =Models!$B$27*Models!$I$27+(200-Models!$B$27*Models!$I$27)/(1+EXP(Models!$C$27*B5*(Models!$B$4*Models!$F$27+Models!$B$5+Models!$I$27*Models!$G$27))) -> 107.00619 | AN5: =100*EXP(-EXP(Models!$D$64*(ChartData!B5-Models!$C$64+Models!$E$64*Models!$B$4+Models!$F$64*Models!$B$5))) -> 75.015471 | AO5: =Models!$B$28*Models!$I$28+(200-Models!$B$28*Models!$I$28)/(1+EXP(Models!$C$28*B5*(Models!$B$4*Models!$F$28+Models!$B$5+Models!$I$28*Models!$G$28))) -> 99.780932 | AP5: =100*EXP(-EXP(Models!$D$65*(ChartData!B5-Models!$C$65+Models!$E$65*Models!$B$4+Models!$F$65*Models!$B$5))) -> 30.523901 | AQ5: =Models!$B$29*Models!$I$29+(200-Models!$B$29*Models!$I$29)/(1+EXP(Models!$C$29*B5*(Models!$B$4*Models!$F$29+Models!$B$5+Models!$I$29*Models!$G$29))) -> 99.678422 | AR5: =100*EXP(-EXP(Models!$D$66*(ChartData!B5-Models!$C$66+Models!$E$66*Models!$B$4+Models!$F$66*Models!$B$5))) -> 38.991615 | AS5: =Models!$B$30*Models!$I$30+(200-Models!$B$30*Models!$I$30)/(1+EXP(Models!$C$30*B5*(Models!$B$4*Models!$F$30+Models!$B$5+Models!$I$30*Models!$G$30))) -> 104.41362 | AT5: =100*EXP(-EXP(Models!$D$67*(ChartData!B5-Models!$C$67+Models!$E$67*Models!$B$4+Models!$F$67*Models!$B$5))) -> 34.22319
A6: Model Index is used to determine which dataset appears in columns D&E | B6: 30 | C6: =1-'Front Page'!$C$30 -> 0.99630303 | D6: =IF($A$4=1,F6,IF($A$4=2,AB6,IF($A$4=4,AF6,IF($A$4=5,N6,IF($A$4=3,AD6,IF($A$4=6,AQ6,IF($A$4=7,AO6,IF($A$4=8,AS6,IF($A$4=9,AI6,IF($A$4=10,AK6,IF($A$4=11,AM6))))))))))) -> 99.517635 | E6: =IF($A$62="reversed",NA(),IF($A$4=1,G6,IF($A$4=2,AC6,IF($A$4=4,AG6,IF($A$4=5,O6,IF($A$4=3,AE6,IF($A$4=6,AR6,IF($A$4=7,AP6,IF($A$4=8,AT6,IF($A$4=9,AJ6,IF($A$4=10,AL6,IF($A$4=11,AN6)))))))))))) -> 41.224577 | F6: =Equations!$E$4/(1+EXP(Equations!$F$4*ChartData!B6*(Equations!$G$4*Equations!$C$4+Equations!$D$4))) -> 99.713475 | G6: =Equations!$E$7*EXP(-EXP(-Equations!$F$7*(ChartData!B6-Equations!$G$7+Equations!$H$7*Equations!$C$7+Equations!$I$7*Equations!$D$7))) -> 74.468292 | H6: =Models!$B$13+Models!$C$13*EXP(Models!$D$13*ChartData!B6+(Models!$E$13*ChartData!B6*Models!$E$3)) -> 99.095144 | I6: =Models!$B$50*EXP(-EXP(Models!$D$50*(ChartData!B6+Models!$C$50-(Models!$E$50*Models!$B$5)))) -> 63.376095 | J6: =Models!$B$12/(1+EXP(Models!$D$12*(ChartData!B6-Models!$C$12+Models!$E$12*ChartData!B6*Models!$B$5))) -> 120.99977 | K6: =Models!$B$49*EXP(-EXP(Models!$D$49*(ChartData!B6-Models!$C$49+(Models!$E$49*ChartData!B6*Models!$B$5)))) -> 2.0619366 | L6: =Models!$B$15/(1+EXP(Models!$D$15*(ChartData!B6*(1+Models!$D$15*Models!$B$5)-Models!$C$15))) -> 98.114408 | M6: =Models!$B$52*EXP(-EXP(Models!$D$52*(ChartData!B6*(1+Models!$D$52*Models!$B$5)-Models!$C$52))) -> 2.3633395 | N6: =Models!$B$15/(1+EXP(Models!$D$15*(ChartData!B6-Models!$D$15+Models!$E$15*ChartData!B6*Models!$B$5))) -> 96.140034 | O6: =Models!$B$52*EXP(-EXP(Models!$D$52*(ChartData!B6-Models!$C$52+Models!$E$52*ChartData!B6*Models!$B$5))) -> 2.5824286 | P6: =Models!$B$16*Models!$I$16+(100-Models!$B$16*Models!$I$16)/(1+EXP(Models!$C$16*(ChartData!B6-Models!$E$16+Models!$B$4*Models!$F$16+Models!$B$4*Models!$G$16*Models!$I$16+Models!$B$5*Models!$H$16))) -> 98.673566 | Q6: =Models!$B$53*EXP(-EXP(Models!$D$53*(ChartData!B6+Models!$C$53+Models!$B$5*Models!$E$53+Models!$B$4*Models!$F$53))) -> 39.011954 | R6: =Models!$B$17*Models!$I$17+(100-Models!$B$17*Models!$I$17)/(1+EXP(Models!$C$17*(ChartData!B6-Models!$E$17+Models!$B$4*Models!$F$17+Models!$B$4*Models!$G$17*Models!$I$17+Models!$B$5*Models!$H$17))) -> 98.877427 | S6: =Models!$B$54*EXP(-EXP(Models!$D$54*(ChartData!B6+Models!$C$54+Models!$B$5*Models!$E$54+Models!$B$4*Models!$F$54))) -> 31.876321 | T6: =Models!$B$18*Models!$I$18+(100-Models!$B$18*Models!$I$18)/(1+EXP(Models!$C$18*(ChartData!B6-Models!$E$18+Models!$B$4*Models!$F$18+Models!$B$4*Models!$G$18*Models!$I$18+Models!$B$5*Models!$H$18))) -> 98.866151 | U6: =Models!$B$55*EXP(-EXP(Models!$D$55*(ChartData!B6+Models!$C$55+Models!$B$5*Models!$E$55+Models!$B$4*Models!$F$55))) -> 41.225056 | V6: =Models!$B$19*Models!$I$19+(100-Models!$B$19*Models!$I$19)/(1+EXP(Models!$C$19*(ChartData!$B6-Models!$E$19+Models!$B$5*ChartData!$B6*Models!$F$19+Models!$B$4*Models!$G$19))) -> 92.694932 | W6: =Models!$B$56*EXP(-EXP(Models!$D$56*(ChartData!B6+Models!$C$56+Models!$B$5*Models!$E$56+Models!$B$4*Models!$F$56))) -> 74.364293 | X6: =Models!$B$20*Models!$I$20+(100-Models!$B$20*Models!$I$20)/(1+EXP(Models!$C$20*(ChartData!$B6-Models!$E$20+Models!$B$5*ChartData!$B6*Models!$F$20+Models!$B$4*Models!$G$20))) -> 92.566608 | Y6: =Models!$B$57*EXP(-EXP(Models!$D$57*(ChartData!B6+Models!$C$57+Models!$B$5*Models!$E$57+Models!$B$4*Models!$F$57))) -> 75.793258 | Z6: =Models!$B$21*Models!$I$21+(100-Models!$B$21*Models!$I$21)/(1+EXP(Models!$C$21*(ChartData!$B6-Models!$E$21+Models!$B$5*ChartData!$B6*Models!$F$21+Models!$B$4*Models!$G$21))) -> 93.648515 | AA6: =Models!$B$58*EXP(-EXP(Models!$D$58*(ChartData!B6+Models!$C$58+Models!$B$5*Models!$E$58+Models!$B$4*Models!$F$58))) -> 75.952576 | AB6: =200/(1+EXP(Models!$D$22*((Models!$E$22*Models!$B$4+Models!$B$5)*ChartData!B6))) -> 99.790626 | AC6: =100*EXP(-EXP(Models!$D$59*(ChartData!B6-Models!$C$59+Models!$E$59*Models!$B$4+Models!$F$59*Models!$B$5))) -> 68.373605 | AD6: =200/(1+EXP(Models!$D$23*((Models!$E$23*Models!$B$4+Models!$B$5)*ChartData!B6))) -> 99.696036 | AE6: =100*EXP(-EXP(Models!$D$60*(ChartData!B6-Models!$C$60+Models!$E$60*Models!$B$4+Models!$F$60*Models!$B$5))) -> 69.380316 | AF6: =200/(1+EXP(Models!$D$24*((Models!$E$24*Models!$B$4+Models!$B$5)*ChartData!B6))) -> 99.665787 | AG6: =100*EXP(-EXP(Models!$D$61*(ChartData!B6-Models!$C$61+Models!$E$61*Models!$B$4+Models!$F$61*Models!$B$5))) -> 69.600506 | AH6: =IF('Front Page'!$C$31>0,1-'Front Page'!$C$31,"") -> 0.995 | AI6: =Models!$B$25*Models!$I$25+(200-Models!$B$25*Models!$I$25)/(1+EXP(Models!$C$25*B6*(Models!$B$4*Models!$F$25+Models!$B$5+Models!$I$25*Models!$G$25))) -> 99.714943 | AJ6: =100*EXP(-EXP(Models!$D$62*(ChartData!B6-Models!$C$62+Models!$E$62*Models!$B$4+Models!$F$62*Models!$B$5))) -> 74.36405 | AK6: =Models!$B$26*Models!$I$26+(200-Models!$B$26*Models!$I$26)/(1+EXP(Models!$C$26*B6*(Models!$B$4*Models!$F$26+Models!$B$5+Models!$I$26*Models!$G$26))) -> 99.596239 | AL6: =100*EXP(-EXP(Models!$D$63*(ChartData!B6-Models!$C$63+Models!$E$63*Models!$B$4+Models!$F$63*Models!$B$5))) -> 75.793058 | AM6: =Models!$B$27*Models!$I$27+(200-Models!$B$27*Models!$I$27)/(1+EXP(Models!$C$27*B6*(Models!$B$4*Models!$F$27+Models!$B$5+Models!$I$27*Models!$G$27))) -> 106.61575 | AN6: =100*EXP(-EXP(Models!$D$64*(ChartData!B6-Models!$C$64+Models!$E$64*Models!$B$4+Models!$F$64*Models!$B$5))) -> 75.952227 | AO6: =Models!$B$28*Models!$I$28+(200-Models!$B$28*Models!$I$28)/(1+EXP(Models!$C$28*B6*(Models!$B$4*Models!$F$28+Models!$B$5+Models!$I$28*Models!$G$28))) -> 99.671399 | AP6: =100*EXP(-EXP(Models!$D$65*(ChartData!B6-Models!$C$65+Models!$E$65*Models!$B$4+Models!$F$65*Models!$B$5))) -> 31.88317 | AQ6: =Models!$B$29*Models!$I$29+(200-Models!$B$29*Models!$I$29)/(1+EXP(Models!$C$29*B6*(Models!$B$4*Models!$F$29+Models!$B$5+Models!$I$29*Models!$G$29))) -> 99.517635 | AR6: =100*EXP(-EXP(Models!$D$66*(ChartData!B6-Models!$C$66+Models!$E$66*Models!$B$4+Models!$F$66*Models!$B$5))) -> 41.224577 | AS6: =Models!$B$30*Models!$I$30+(200-Models!$B$30*Models!$I$30)/(1+EXP(Models!$C$30*B6*(Models!$B$4*Models!$F$30+Models!$B$5+Models!$I$30*Models!$G$30))) -> 104.21328 | AT6: =100*EXP(-EXP(Models!$D$67*(ChartData!B6-Models!$C$67+Models!$E$67*Models!$B$4+Models!$F$67*Models!$B$5))) -> 36.039883
A7: All items in List below will have an Index value | B7: 40 | C7: =1-'Front Page'!$C$30 -> 0.99630303 | D7: =IF($A$4=1,F7,IF($A$4=2,AB7,IF($A$4=4,AF7,IF($A$4=5,N7,IF($A$4=3,AD7,IF($A$4=6,AQ7,IF($A$4=7,AO7,IF($A$4=8,AS7,IF($A$4=9,AI7,IF($A$4=10,AK7,IF($A$4=11,AM7))))))))))) -> 99.356851 | E7: =IF($A$62="reversed",NA(),IF($A$4=1,G7,IF($A$4=2,AC7,IF($A$4=4,AG7,IF($A$4=5,O7,IF($A$4=3,AE7,IF($A$4=6,AR7,IF($A$4=7,AP7,IF($A$4=8,AT7,IF($A$4=9,AJ7,IF($A$4=10,AL7,IF($A$4=11,AN7)))))))))))) -> 43.442138 | F7: =Equations!$E$4/(1+EXP(Equations!$F$4*ChartData!B7*(Equations!$G$4*Equations!$C$4+Equations!$D$4))) -> 99.617968 | G7: =Equations!$E$7*EXP(-EXP(-Equations!$F$7*(ChartData!B7-Equations!$G$7+Equations!$H$7*Equations!$C$7+Equations!$I$7*Equations!$D$7))) -> 75.196239 | H7: =Models!$B$13+Models!$C$13*EXP(Models!$D$13*ChartData!B7+(Models!$E$13*ChartData!B7*Models!$E$3)) -> 98.795774 | I7: =Models!$B$50*EXP(-EXP(Models!$D$50*(ChartData!B7+Models!$C$50-(Models!$E$50*Models!$B$5)))) -> 64.028175 | J7: =Models!$B$12/(1+EXP(Models!$D$12*(ChartData!B7-Models!$C$12+Models!$E$12*ChartData!B7*Models!$B$5))) -> 120.99967 | K7: =Models!$B$49*EXP(-EXP(Models!$D$49*(ChartData!B7-Models!$C$49+(Models!$E$49*ChartData!B7*Models!$B$5)))) -> 2.6818569 | L7: =Models!$B$15/(1+EXP(Models!$D$15*(ChartData!B7*(1+Models!$D$15*Models!$B$5)-Models!$C$15))) -> 96.965547 | M7: =Models!$B$52*EXP(-EXP(Models!$D$52*(ChartData!B7*(1+Models!$D$52*Models!$B$5)-Models!$C$52))) -> 3.1152595 | N7: =Models!$B$15/(1+EXP(Models!$D$15*(ChartData!B7-Models!$D$15+Models!$E$15*ChartData!B7*Models!$B$5))) -> 94.85528 | O7: =Models!$B$52*EXP(-EXP(Models!$D$52*(ChartData!B7-Models!$C$52+Models!$E$52*ChartData!B7*Models!$B$5))) -> 3.4742044 | P7: =Models!$B$16*Models!$I$16+(100-Models!$B$16*Models!$I$16)/(1+EXP(Models!$C$16*(ChartData!B7-Models!$E$16+Models!$B$4*Models!$F$16+Models!$B$4*Models!$G$16*Models!$I$16+Models!$B$5*Models!$H$16))) -> 98.643244 | Q7: =Models!$B$53*EXP(-EXP(Models!$D$53*(ChartData!B7+Models!$C$53+Models!$B$5*Models!$E$53+Models!$B$4*Models!$F$53))) -> 41.067013 | R7: =Models!$B$17*Models!$I$17+(100-Models!$B$17*Models!$I$17)/(1+EXP(Models!$C$17*(ChartData!B7-Models!$E$17+Models!$B$4*Models!$F$17+Models!$B$4*Models!$G$17*Models!$I$17+Models!$B$5*Models!$H$17))) -> 98.857084 | S7: =Models!$B$54*EXP(-EXP(Models!$D$54*(ChartData!B7+Models!$C$54+Models!$B$5*Models!$E$54+Models!$B$4*Models!$F$54))) -> 33.24286 | T7: =Models!$B$18*Models!$I$18+(100-Models!$B$18*Models!$I$18)/(1+EXP(Models!$C$18*(ChartData!B7-Models!$E$18+Models!$B$4*Models!$F$18+Models!$B$4*Models!$G$18*Models!$I$18+Models!$B$5*Models!$H$18))) -> 98.835419 | U7: =Models!$B$55*EXP(-EXP(Models!$D$55*(ChartData!B7+Models!$C$55+Models!$B$5*Models!$E$55+Models!$B$4*Models!$F$55))) -> 43.442649 | V7: =Models!$B$19*Models!$I$19+(100-Models!$B$19*Models!$I$19)/(1+EXP(Models!$C$19*(ChartData!$B7-Models!$E$19+Models!$B$5*ChartData!$B7*Models!$F$19+Models!$B$4*Models!$G$19))) -> 92.652627 | W7: =Models!$B$56*EXP(-EXP(Models!$D$56*(ChartData!B7+Models!$C$56+Models!$B$5*Models!$E$56+Models!$B$4*Models!$F$56))) -> 74.967129 | X7: =Models!$B$20*Models!$I$20+(100-Models!$B$20*Models!$I$20)/(1+EXP(Models!$C$20*(ChartData!$B7-Models!$E$20+Models!$B$5*ChartData!$B7*Models!$F$20+Models!$B$4*Models!$G$20))) -> 92.503143 | Y7: =Models!$B$57*EXP(-EXP(Models!$D$57*(ChartData!B7+Models!$C$57+Models!$B$5*Models!$E$57+Models!$B$4*Models!$F$57))) -> 76.658349 | Z7: =Models!$B$21*Models!$I$21+(100-Models!$B$21*Models!$I$21)/(1+EXP(Models!$C$21*(ChartData!$B7-Models!$E$21+Models!$B$5*ChartData!$B7*Models!$F$21+Models!$B$4*Models!$G$21))) -> 93.58884 | AA7: =Models!$B$58*EXP(-EXP(Models!$D$58*(ChartData!B7+Models!$C$58+Models!$B$5*Models!$E$58+Models!$B$4*Models!$F$58))) -> 76.859831 | AB7: =200/(1+EXP(Models!$D$22*((Models!$E$22*Models!$B$4+Models!$B$5)*ChartData!B7))) -> 99.720835 | AC7: =100*EXP(-EXP(Models!$D$59*(ChartData!B7-Models!$C$59+Models!$E$59*Models!$B$4+Models!$F$59*Models!$B$5))) -> 68.873557 | AD7: =200/(1+EXP(Models!$D$23*((Models!$E$23*Models!$B$4+Models!$B$5)*ChartData!B7))) -> 99.594716 | AE7: =100*EXP(-EXP(Models!$D$60*(ChartData!B7-Models!$C$60+Models!$E$60*Models!$B$4+Models!$F$60*Models!$B$5))) -> 70.101467 | AF7: =200/(1+EXP(Models!$D$24*((Models!$E$24*Models!$B$4+Models!$B$5)*ChartData!B7))) -> 99.554385 | AG7: =100*EXP(-EXP(Models!$D$61*(ChartData!B7-Models!$C$61+Models!$E$61*Models!$B$4+Models!$F$61*Models!$B$5))) -> 70.370918 | AH7: =IF('Front Page'!$C$31>0,1-'Front Page'!$C$31,"") -> 0.995 | AI7: =Models!$B$25*Models!$I$25+(200-Models!$B$25*Models!$I$25)/(1+EXP(Models!$C$25*B7*(Models!$B$4*Models!$F$25+Models!$B$5+Models!$I$25*Models!$G$25))) -> 99.619925 | AJ7: =100*EXP(-EXP(Models!$D$62*(ChartData!B7-Models!$C$62+Models!$E$62*Models!$B$4+Models!$F$62*Models!$B$5))) -> 74.966891 | AK7: =Models!$B$26*Models!$I$26+(200-Models!$B$26*Models!$I$26)/(1+EXP(Models!$C$26*B7*(Models!$B$4*Models!$F$26+Models!$B$5+Models!$I$26*Models!$G$26))) -> 99.461655 | AL7: =100*EXP(-EXP(Models!$D$63*(ChartData!B7-Models!$C$63+Models!$E$63*Models!$B$4+Models!$F$63*Models!$B$5))) -> 76.658135 | AM7: =Models!$B$27*Models!$I$27+(200-Models!$B$27*Models!$I$27)/(1+EXP(Models!$C$27*B7*(Models!$B$4*Models!$F$27+Models!$B$5+Models!$I$27*Models!$G$27))) -> 106.22535 | AN7: =100*EXP(-EXP(Models!$D$64*(ChartData!B7-Models!$C$64+Models!$E$64*Models!$B$4+Models!$F$64*Models!$B$5))) -> 76.859493 | AO7: =Models!$B$28*Models!$I$28+(200-Models!$B$28*Models!$I$28)/(1+EXP(Models!$C$28*B7*(Models!$B$4*Models!$F$28+Models!$B$5+Models!$I$28*Models!$G$28))) -> 99.561866 | AP7: =100*EXP(-EXP(Models!$D$65*(ChartData!B7-Models!$C$65+Models!$E$65*Models!$B$4+Models!$F$65*Models!$B$5))) -> 33.24974 | AQ7: =Models!$B$29*Models!$I$29+(200-Models!$B$29*Models!$I$29)/(1+EXP(Models!$C$29*B7*(Models!$B$4*Models!$F$29+Models!$B$5+Models!$I$29*Models!$G$29))) -> 99.356851 | AR7: =100*EXP(-EXP(Models!$D$66*(ChartData!B7-Models!$C$66+Models!$E$66*Models!$B$4+Models!$F$66*Models!$B$5))) -> 43.442138 | AS7: =Models!$B$30*Models!$I$30+(200-Models!$B$30*Models!$I$30)/(1+EXP(Models!$C$30*B7*(Models!$B$4*Models!$F$30+Models!$B$5+Models!$I$30*Models!$G$30))) -> 104.01294 | AT7: =100*EXP(-EXP(Models!$D$67*(ChartData!B7-Models!$C$67+Models!$E$67*Models!$B$4+Models!$F$67*Models!$B$5))) -> 37.85844
A8: All cells in D&E must refer to the full table of possible models | B8: 50 | C8: =1-'Front Page'!$C$30 -> 0.99630303 | D8: =IF($A$4=1,F8,IF($A$4=2,AB8,IF($A$4=4,AF8,IF($A$4=5,N8,IF($A$4=3,AD8,IF($A$4=6,AQ8,IF($A$4=7,AO8,IF($A$4=8,AS8,IF($A$4=9,AI8,IF($A$4=10,AK8,IF($A$4=11,AM8))))))))))) -> 99.19607 | E8: =IF($A$62="reversed",NA(),IF($A$4=1,G8,IF($A$4=2,AC8,IF($A$4=4,AG8,IF($A$4=5,O8,IF($A$4=3,AE8,IF($A$4=6,AR8,IF($A$4=7,AP8,IF($A$4=8,AT8,IF($A$4=9,AJ8,IF($A$4=10,AL8,IF($A$4=11,AN8)))))))))))) -> 45.637382 | F8: =Equations!$E$4/(1+EXP(Equations!$F$4*ChartData!B8*(Equations!$G$4*Equations!$C$4+Equations!$D$4))) -> 99.522461 | G8: =Equations!$E$7*EXP(-EXP(-Equations!$F$7*(ChartData!B8-Equations!$G$7+Equations!$H$7*Equations!$C$7+Equations!$I$7*Equations!$D$7))) -> 75.906931 | H8: =Models!$B$13+Models!$C$13*EXP(Models!$D$13*ChartData!B8+(Models!$E$13*ChartData!B8*Models!$E$3)) -> 98.497522 | I8: =Models!$B$50*EXP(-EXP(Models!$D$50*(ChartData!B8+Models!$C$50-(Models!$E$50*Models!$B$5)))) -> 64.672103 | J8: =Models!$B$12/(1+EXP(Models!$D$12*(ChartData!B8-Models!$C$12+Models!$E$12*ChartData!B8*Models!$B$5))) -> 120.99952 | K8: =Models!$B$49*EXP(-EXP(Models!$D$49*(ChartData!B8-Models!$C$49+(Models!$E$49*ChartData!B8*Models!$B$5)))) -> 3.4266106 | L8: =Models!$B$15/(1+EXP(Models!$D$15*(ChartData!B8*(1+Models!$D$15*Models!$B$5)-Models!$C$15))) -> 95.817487 | M8: =Models!$B$52*EXP(-EXP(Models!$D$52*(ChartData!B8*(1+Models!$D$52*Models!$B$5)-Models!$C$52))) -> 4.0235884 | N8: =Models!$B$15/(1+EXP(Models!$D$15*(ChartData!B8-Models!$D$15+Models!$E$15*ChartData!B8*Models!$B$5))) -> 93.572227 | O8: =Models!$B$52*EXP(-EXP(Models!$D$52*(ChartData!B8-Models!$C$52+Models!$E$52*ChartData!B8*Models!$B$5))) -> 4.5627964 | P8: =Models!$B$16*Models!$I$16+(100-Models!$B$16*Models!$I$16)/(1+EXP(Models!$C$16*(ChartData!B8-Models!$E$16+Models!$B$4*Models!$F$16+Models!$B$4*Models!$G$16*Models!$I$16+Models!$B$5*Models!$H$16))) -> 98.612238 | Q8: =Models!$B$53*EXP(-EXP(Models!$D$53*(ChartData!B8+Models!$C$53+Models!$B$5*Models!$E$53+Models!$B$4*Models!$F$53))) -> 43.10946 | R8: =Models!$B$17*Models!$I$17+(100-Models!$B$17*Models!$I$17)/(1+EXP(Models!$C$17*(ChartData!B8-Models!$E$17+Models!$B$4*Models!$F$17+Models!$B$4*Models!$G$17*Models!$I$17+Models!$B$5*Models!$H$17))) -> 98.836377 | S8: =Models!$B$54*EXP(-EXP(Models!$D$54*(ChartData!B8+Models!$C$54+Models!$B$5*Models!$E$54+Models!$B$4*Models!$F$54))) -> 34.614594 | T8: =Models!$B$18*Models!$I$18+(100-Models!$B$18*Models!$I$18)/(1+EXP(Models!$C$18*(ChartData!B8-Models!$E$18+Models!$B$4*Models!$F$18+Models!$B$4*Models!$G$18*Models!$I$18+Models!$B$5*Models!$H$18))) -> 98.803866 | U8: =Models!$B$55*EXP(-EXP(Models!$D$55*(ChartData!B8+Models!$C$55+Models!$B$5*Models!$E$55+Models!$B$4*Models!$F$55))) -> 45.637923 | V8: =Models!$B$19*Models!$I$19+(100-Models!$B$19*Models!$I$19)/(1+EXP(Models!$C$19*(ChartData!$B8-Models!$E$19+Models!$B$5*ChartData!$B8*Models!$F$19+Models!$B$4*Models!$G$19))) -> 92.610097 | W8: =Models!$B$56*EXP(-EXP(Models!$D$56*(ChartData!B8+Models!$C$56+Models!$B$5*Models!$E$56+Models!$B$4*Models!$F$56))) -> 75.558221 | X8: =Models!$B$20*Models!$I$20+(100-Models!$B$20*Models!$I$20)/(1+EXP(Models!$C$20*(ChartData!$B8-Models!$E$20+Models!$B$5*ChartData!$B8*Models!$F$20+Models!$B$4*Models!$G$20))) -> 92.43918 | Y8: =Models!$B$57*EXP(-EXP(Models!$D$57*(ChartData!B8+Models!$C$57+Models!$B$5*Models!$E$57+Models!$B$4*Models!$F$57))) -> 77.497291 | Z8: =Models!$B$21*Models!$I$21+(100-Models!$B$21*Models!$I$21)/(1+EXP(Models!$C$21*(ChartData!$B8-Models!$E$21+Models!$B$5*ChartData!$B8*Models!$F$21+Models!$B$4*Models!$G$21))) -> 93.52865 | AA8: =Models!$B$58*EXP(-EXP(Models!$D$58*(ChartData!B8+Models!$C$58+Models!$B$5*Models!$E$58+Models!$B$4*Models!$F$58))) -> 77.738064 | AB8: =200/(1+EXP(Models!$D$22*((Models!$E$22*Models!$B$4+Models!$B$5)*ChartData!B8))) -> 99.651044 | AC8: =100*EXP(-EXP(Models!$D$59*(ChartData!B8-Models!$C$59+Models!$E$59*Models!$B$4+Models!$F$59*Models!$B$5))) -> 69.36748 | AD8: =200/(1+EXP(Models!$D$23*((Models!$E$23*Models!$B$4+Models!$B$5)*ChartData!B8))) -> 99.493397 | AE8: =100*EXP(-EXP(Models!$D$60*(ChartData!B8-Models!$C$60+Models!$E$60*Models!$B$4+Models!$F$60*Models!$B$5))) -> 70.809398 | AF8: =200/(1+EXP(Models!$D$24*((Models!$E$24*Models!$B$4+Models!$B$5)*ChartData!B8))) -> 99.442983 | AG8: =100*EXP(-EXP(Models!$D$61*(ChartData!B8-Models!$C$61+Models!$E$61*Models!$B$4+Models!$F$61*Models!$B$5))) -> 71.12607 | AH8: =IF('Front Page'!$C$31>0,1-'Front Page'!$C$31,"") -> 0.995 | AI8: =Models!$B$25*Models!$I$25+(200-Models!$B$25*Models!$I$25)/(1+EXP(Models!$C$25*B8*(Models!$B$4*Models!$F$25+Models!$B$5+Models!$I$25*Models!$G$25))) -> 99.524908 | AJ8: =100*EXP(-EXP(Models!$D$62*(ChartData!B8-Models!$C$62+Models!$E$62*Models!$B$4+Models!$F$62*Models!$B$5))) -> 75.557987 | AK8: =Models!$B$26*Models!$I$26+(200-Models!$B$26*Models!$I$26)/(1+EXP(Models!$C$26*B8*(Models!$B$4*Models!$F$26+Models!$B$5+Models!$I$26*Models!$G$26))) -> 99.327072 | AL8: =100*EXP(-EXP(Models!$D$63*(ChartData!B8-Models!$C$63+Models!$E$63*Models!$B$4+Models!$F$63*Models!$B$5))) -> 77.497064 | AM8: =Models!$B$27*Models!$I$27+(200-Models!$B$27*Models!$I$27)/(1+EXP(Models!$C$27*B8*(Models!$B$4*Models!$F$27+Models!$B$5+Models!$I$27*Models!$G$27))) -> 105.835 | AN8: =100*EXP(-EXP(Models!$D$64*(ChartData!B8-Models!$C$64+Models!$E$64*Models!$B$4+Models!$F$64*Models!$B$5))) -> 77.737737 | AO8: =Models!$B$28*Models!$I$28+(200-Models!$B$28*Models!$I$28)/(1+EXP(Models!$C$28*B8*(Models!$B$4*Models!$F$28+Models!$B$5+Models!$I$28*Models!$G$28))) -> 99.452335 | AP8: =100*EXP(-EXP(Models!$D$65*(ChartData!B8-Models!$C$65+Models!$E$65*Models!$B$4+Models!$F$65*Models!$B$5))) -> 34.621495 | AQ8: =Models!$B$29*Models!$I$29+(200-Models!$B$29*Models!$I$29)/(1+EXP(Models!$C$29*B8*(Models!$B$4*Models!$F$29+Models!$B$5+Models!$I$29*Models!$G$29))) -> 99.19607 | AR8: =100*EXP(-EXP(Models!$D$66*(ChartData!B8-Models!$C$66+Models!$E$66*Models!$B$4+Models!$F$66*Models!$B$5))) -> 45.637382 | AS8: =Models!$B$30*Models!$I$30+(200-Models!$B$30*Models!$I$30)/(1+EXP(Models!$C$30*B8*(Models!$B$4*Models!$F$30+Models!$B$5+Models!$I$30*Models!$G$30))) -> 103.8126 | AT8: =100*EXP(-EXP(Models!$D$67*(ChartData!B8-Models!$C$67+Models!$E$67*Models!$B$4+Models!$F$67*Models!$B$5))) -> 39.674439
B9: 60 | C9: =1-'Front Page'!$C$30 -> 0.99630303 | D9: =IF($A$4=1,F9,IF($A$4=2,AB9,IF($A$4=4,AF9,IF($A$4=5,N9,IF($A$4=3,AD9,IF($A$4=6,AQ9,IF($A$4=7,AO9,IF($A$4=8,AS9,IF($A$4=9,AI9,IF($A$4=10,AK9,IF($A$4=11,AM9))))))))))) -> 99.035293 | E9: =IF($A$62="reversed",NA(),IF($A$4=1,G9,IF($A$4=2,AC9,IF($A$4=4,AG9,IF($A$4=5,O9,IF($A$4=3,AE9,IF($A$4=6,AR9,IF($A$4=7,AP9,IF($A$4=8,AT9,IF($A$4=9,AJ9,IF($A$4=10,AL9,IF($A$4=11,AN9)))))))))))) -> 47.804012 | F9: =Equations!$E$4/(1+EXP(Equations!$F$4*ChartData!B9*(Equations!$G$4*Equations!$C$4+Equations!$D$4))) -> 99.426955 | G9: =Equations!$E$7*EXP(-EXP(-Equations!$F$7*(ChartData!B9-Equations!$G$7+Equations!$H$7*Equations!$C$7+Equations!$I$7*Equations!$D$7))) -> 76.600559 | H9: =Models!$B$13+Models!$C$13*EXP(Models!$D$13*ChartData!B9+(Models!$E$13*ChartData!B9*Models!$E$3)) -> 98.200383 | I9: =Models!$B$50*EXP(-EXP(Models!$D$50*(ChartData!B9+Models!$C$50-(Models!$E$50*Models!$B$5)))) -> 65.307838 | J9: =Models!$B$12/(1+EXP(Models!$D$12*(ChartData!B9-Models!$C$12+Models!$E$12*ChartData!B9*Models!$B$5))) -> 120.99931 | K9: =Models!$B$49*EXP(-EXP(Models!$D$49*(ChartData!B9-Models!$C$49+(Models!$E$49*ChartData!B9*Models!$B$5)))) -> 4.3061221 | L9: =Models!$B$15/(1+EXP(Models!$D$15*(ChartData!B9*(1+Models!$D$15*Models!$B$5)-Models!$C$15))) -> 94.67053 | M9: =Models!$B$52*EXP(-EXP(Models!$D$52*(ChartData!B9*(1+Models!$D$52*Models!$B$5)-Models!$C$52))) -> 5.0996073 | N9: =Models!$B$15/(1+EXP(Models!$D$15*(ChartData!B9-Models!$D$15+Models!$E$15*ChartData!B9*Models!$B$5))) -> 92.291296 | O9: =Models!$B$52*EXP(-EXP(Models!$D$52*(ChartData!B9-Models!$C$52+Models!$E$52*ChartData!B9*Models!$B$5))) -> 5.861427 | P9: =Models!$B$16*Models!$I$16+(100-Models!$B$16*Models!$I$16)/(1+EXP(Models!$C$16*(ChartData!B9-Models!$E$16+Models!$B$4*Models!$F$16+Models!$B$4*Models!$G$16*Models!$I$16+Models!$B$5*Models!$H$16))) -> 98.580534 | Q9: =Models!$B$53*EXP(-EXP(Models!$D$53*(ChartData!B9+Models!$C$53+Models!$B$5*Models!$E$53+Models!$B$4*Models!$F$53))) -> 45.133853 | R9: =Models!$B$17*Models!$I$17+(100-Models!$B$17*Models!$I$17)/(1+EXP(Models!$C$17*(ChartData!B9-Models!$E$17+Models!$B$4*Models!$F$17+Models!$B$4*Models!$G$17*Models!$I$17+Models!$B$5*Models!$H$17))) -> 98.815299 | S9: =Models!$B$54*EXP(-EXP(Models!$D$54*(ChartData!B9+Models!$C$54+Models!$B$5*Models!$E$54+Models!$B$4*Models!$F$54))) -> 35.989462 | T9: =Models!$B$18*Models!$I$18+(100-Models!$B$18*Models!$I$18)/(1+EXP(Models!$C$18*(ChartData!B9-Models!$E$18+Models!$B$4*Models!$F$18+Models!$B$4*Models!$G$18*Models!$I$18+Models!$B$5*Models!$H$18))) -> 98.771469 | U9: =Models!$B$55*EXP(-EXP(Models!$D$55*(ChartData!B9+Models!$C$55+Models!$B$5*Models!$E$55+Models!$B$4*Models!$F$55))) -> 47.804581 | V9: =Models!$B$19*Models!$I$19+(100-Models!$B$19*Models!$I$19)/(1+EXP(Models!$C$19*(ChartData!$B9-Models!$E$19+Models!$B$5*ChartData!$B9*Models!$F$19+Models!$B$4*Models!$G$19))) -> 92.56734 | W9: =Models!$B$56*EXP(-EXP(Models!$D$56*(ChartData!B9+Models!$C$56+Models!$B$5*Models!$E$56+Models!$B$4*Models!$F$56))) -> 76.137671 | X9: =Models!$B$20*Models!$I$20+(100-Models!$B$20*Models!$I$20)/(1+EXP(Models!$C$20*(ChartData!$B9-Models!$E$20+Models!$B$5*ChartData!$B9*Models!$F$20+Models!$B$4*Models!$G$20))) -> 92.374717 | Y9: =Models!$B$57*EXP(-EXP(Models!$D$57*(ChartData!B9+Models!$C$57+Models!$B$5*Models!$E$57+Models!$B$4*Models!$F$57))) -> 78.310504 | Z9: =Models!$B$21*Models!$I$21+(100-Models!$B$21*Models!$I$21)/(1+EXP(Models!$C$21*(ChartData!$B9-Models!$E$21+Models!$B$5*ChartData!$B9*Models!$F$21+Models!$B$4*Models!$G$21))) -> 93.467941 | AA9: =Models!$B$58*EXP(-EXP(Models!$D$58*(ChartData!B9+Models!$C$58+Models!$B$5*Models!$E$58+Models!$B$4*Models!$F$58))) -> 78.587777 | AB9: =200/(1+EXP(Models!$D$22*((Models!$E$22*Models!$B$4+Models!$B$5)*ChartData!B9))) -> 99.581254 | AC9: =100*EXP(-EXP(Models!$D$59*(ChartData!B9-Models!$C$59+Models!$E$59*Models!$B$4+Models!$F$59*Models!$B$5))) -> 69.855378 | AD9: =200/(1+EXP(Models!$D$23*((Models!$E$23*Models!$B$4+Models!$B$5)*ChartData!B9))) -> 99.392078 | AE9: =100*EXP(-EXP(Models!$D$60*(ChartData!B9-Models!$C$60+Models!$E$60*Models!$B$4+Models!$F$60*Models!$B$5))) -> 71.504153 | AF9: =200/(1+EXP(Models!$D$24*((Models!$E$24*Models!$B$4+Models!$B$5)*ChartData!B9))) -> 99.331582 | AG9: =100*EXP(-EXP(Models!$D$61*(ChartData!B9-Models!$C$61+Models!$E$61*Models!$B$4+Models!$F$61*Models!$B$5))) -> 71.866021 | AH9: =IF('Front Page'!$C$31>0,1-'Front Page'!$C$31,"") -> 0.995 | AI9: =Models!$B$25*Models!$I$25+(200-Models!$B$25*Models!$I$25)/(1+EXP(Models!$C$25*B9*(Models!$B$4*Models!$F$25+Models!$B$5+Models!$I$25*Models!$G$25))) -> 99.429891 | AJ9: =100*EXP(-EXP(Models!$D$62*(ChartData!B9-Models!$C$62+Models!$E$62*Models!$B$4+Models!$F$62*Models!$B$5))) -> 76.137443 | AK9: =Models!$B$26*Models!$I$26+(200-Models!$B$26*Models!$I$26)/(1+EXP(Models!$C$26*B9*(Models!$B$4*Models!$F$26+Models!$B$5+Models!$I$26*Models!$G$26))) -> 99.192492 | AL9: =100*EXP(-EXP(Models!$D$63*(ChartData!B9-Models!$C$63+Models!$E$63*Models!$B$4+Models!$F$63*Models!$B$5))) -> 78.310265 | AM9: =Models!$B$27*Models!$I$27+(200-Models!$B$27*Models!$I$27)/(1+EXP(Models!$C$27*B9*(Models!$B$4*Models!$F$27+Models!$B$5+Models!$I$27*Models!$G$27))) -> 105.44472 | AN9: =100*EXP(-EXP(Models!$D$64*(ChartData!B9-Models!$C$64+Models!$E$64*Models!$B$4+Models!$F$64*Models!$B$5))) -> 78.587461 | AO9: =Models!$B$28*Models!$I$28+(200-Models!$B$28*Models!$I$28)/(1+EXP(Models!$C$28*B9*(Models!$B$4*Models!$F$28+Models!$B$5+Models!$I$28*Models!$G$28))) -> 99.342804 | AP9: =100*EXP(-EXP(Models!$D$65*(ChartData!B9-Models!$C$65+Models!$E$65*Models!$B$4+Models!$F$65*Models!$B$5))) -> 35.996374 | AQ9: =Models!$B$29*Models!$I$29+(200-Models!$B$29*Models!$I$29)/(1+EXP(Models!$C$29*B9*(Models!$B$4*Models!$F$29+Models!$B$5+Models!$I$29*Models!$G$29))) -> 99.035293 | AR9: =100*EXP(-EXP(Models!$D$66*(ChartData!B9-Models!$C$66+Models!$E$66*Models!$B$4+Models!$F$66*Models!$B$5))) -> 47.804012 | AS9: =Models!$B$30*Models!$I$30+(200-Models!$B$30*Models!$I$30)/(1+EXP(Models!$C$30*B9*(Models!$B$4*Models!$F$30+Models!$B$5+Models!$I$30*Models!$G$30))) -> 103.61228 | AT9: =100*EXP(-EXP(Models!$D$67*(ChartData!B9-Models!$C$67+Models!$E$67*Models!$B$4+Models!$F$67*Models!$B$5))) -> 41.483686
A10: GGD type selection | B10: 70 | C10: =1-'Front Page'!$C$30 -> 0.99630303 | D10: =IF($A$4=1,F10,IF($A$4=2,AB10,IF($A$4=4,AF10,IF($A$4=5,N10,IF($A$4=3,AD10,IF($A$4=6,AQ10,IF($A$4=7,AO10,IF($A$4=8,AS10,IF($A$4=9,AI10,IF($A$4=10,AK10,IF($A$4=11,AM10))))))))))) -> 98.874521 | E10: =IF($A$62="reversed",NA(),IF($A$4=1,G10,IF($A$4=2,AC10,IF($A$4=4,AG10,IF($A$4=5,O10,IF($A$4=3,AE10,IF($A$4=6,AR10,IF($A$4=7,AP10,IF($A$4=8,AT10,IF($A$4=9,AJ10,IF($A$4=10,AL10,IF($A$4=11,AN10)))))))))))) -> 49.936365 | F10: =Equations!$E$4/(1+EXP(Equations!$F$4*ChartData!B10*(Equations!$G$4*Equations!$C$4+Equations!$D$4))) -> 99.331451 | G10: =Equations!$E$7*EXP(-EXP(-Equations!$F$7*(ChartData!B10-Equations!$G$7+Equations!$H$7*Equations!$C$7+Equations!$I$7*Equations!$D$7))) -> 77.277326 | H10: =Models!$B$13+Models!$C$13*EXP(Models!$D$13*ChartData!B10+(Models!$E$13*ChartData!B10*Models!$E$3)) -> 97.904354 | I10: =Models!$B$50*EXP(-EXP(Models!$D$50*(ChartData!B10+Models!$C$50-(Models!$E$50*Models!$B$5)))) -> 65.935345 | J10: =Models!$B$12/(1+EXP(Models!$D$12*(ChartData!B10-Models!$C$12+Models!$E$12*ChartData!B10*Models!$B$5))) -> 120.999 | K10: =Models!$B$49*EXP(-EXP(Models!$D$49*(ChartData!B10-Models!$C$49+(Models!$E$49*ChartData!B10*Models!$B$5)))) -> 5.3282974 | L10: =Models!$B$15/(1+EXP(Models!$D$15*(ChartData!B10*(1+Models!$D$15*Models!$B$5)-Models!$C$15))) -> 93.524977 | M10: =Models!$B$52*EXP(-EXP(Models!$D$52*(ChartData!B10*(1+Models!$D$52*Models!$B$5)-Models!$C$52))) -> 6.3513837 | N10: =Models!$B$15/(1+EXP(Models!$D$15*(ChartData!B10-Models!$D$15+Models!$E$15*ChartData!B10*Models!$B$5))) -> 91.012904 | O10: =Models!$B$52*EXP(-EXP(Models!$D$52*(ChartData!B10-Models!$C$52+Models!$E$52*ChartData!B10*Models!$B$5))) -> 7.3782147 | P10: =Models!$B$16*Models!$I$16+(100-Models!$B$16*Models!$I$16)/(1+EXP(Models!$C$16*(ChartData!B10-Models!$E$16+Models!$B$4*Models!$F$16+Models!$B$4*Models!$G$16*Models!$I$16+Models!$B$5*Models!$H$16))) -> 98.548116 | Q10: =Models!$B$53*EXP(-EXP(Models!$D$53*(ChartData!B10+Models!$C$53+Models!$B$5*Models!$E$53+Models!$B$4*Models!$F$53))) -> 47.135194 | R10: =Models!$B$17*Models!$I$17+(100-Models!$B$17*Models!$I$17)/(1+EXP(Models!$C$17*(ChartData!B10-Models!$E$17+Models!$B$4*Models!$F$17+Models!$B$4*Models!$G$17*Models!$I$17+Models!$B$5*Models!$H$17))) -> 98.793845 | S10: =Models!$B$54*EXP(-EXP(Models!$D$54*(ChartData!B10+Models!$C$54+Models!$B$5*Models!$E$54+Models!$B$4*Models!$F$54))) -> 37.365465 | T10: =Models!$B$18*Models!$I$18+(100-Models!$B$18*Models!$I$18)/(1+EXP(Models!$C$18*(ChartData!B10-Models!$E$18+Models!$B$4*Models!$F$18+Models!$B$4*Models!$G$18*Models!$I$18+Models!$B$5*Models!$H$18))) -> 98.738207 | U10: =Models!$B$55*EXP(-EXP(Models!$D$55*(ChartData!B10+Models!$C$55+Models!$B$5*Models!$E$55+Models!$B$4*Models!$F$55))) -> 49.936959 | V10: =Models!$B$19*Models!$I$19+(100-Models!$B$19*Models!$I$19)/(1+EXP(Models!$C$19*(ChartData!$B10-Models!$E$19+Models!$B$5*ChartData!$B10*Models!$F$19+Models!$B$4*Models!$G$19))) -> 92.524355 | W10: =Models!$B$56*EXP(-EXP(Models!$D$56*(ChartData!B10+Models!$C$56+Models!$B$5*Models!$E$56+Models!$B$4*Models!$F$56))) -> 76.705591 | X10: =Models!$B$20*Models!$I$20+(100-Models!$B$20*Models!$I$20)/(1+EXP(Models!$C$20*(ChartData!$B10-Models!$E$20+Models!$B$5*ChartData!$B10*Models!$F$20+Models!$B$4*Models!$G$20))) -> 92.30975 | Y10: =Models!$B$57*EXP(-EXP(Models!$D$57*(ChartData!B10+Models!$C$57+Models!$B$5*Models!$E$57+Models!$B$4*Models!$F$57))) -> 79.098433 | Z10: =Models!$B$21*Models!$I$21+(100-Models!$B$21*Models!$I$21)/(1+EXP(Models!$C$21*(ChartData!$B10-Models!$E$21+Models!$B$5*ChartData!$B10*Models!$F$21+Models!$B$4*Models!$G$21))) -> 93.406708 | AA10: =Models!$B$58*EXP(-EXP(Models!$D$58*(ChartData!B10+Models!$C$58+Models!$B$5*Models!$E$58+Models!$B$4*Models!$F$58))) -> 79.409503 | AB10: =200/(1+EXP(Models!$D$22*((Models!$E$22*Models!$B$4+Models!$B$5)*ChartData!B10))) -> 99.511463 | AC10: =100*EXP(-EXP(Models!$D$59*(ChartData!B10-Models!$C$59+Models!$E$59*Models!$B$4+Models!$F$59*Models!$B$5))) -> 70.33726 | AD10: =200/(1+EXP(Models!$D$23*((Models!$E$23*Models!$B$4+Models!$B$5)*ChartData!B10))) -> 99.290761 | AE10: =100*EXP(-EXP(Models!$D$60*(ChartData!B10-Models!$C$60+Models!$E$60*Models!$B$4+Models!$F$60*Models!$B$5))) -> 72.185786 | AF10: =200/(1+EXP(Models!$D$24*((Models!$E$24*Models!$B$4+Models!$B$5)*ChartData!B10))) -> 99.220184 | AG10: =100*EXP(-EXP(Models!$D$61*(ChartData!B10-Models!$C$61+Models!$E$61*Models!$B$4+Models!$F$61*Models!$B$5))) -> 72.590845 | AH10: =IF('Front Page'!$C$31>0,1-'Front Page'!$C$31,"") -> 0.995 | AI10: =Models!$B$25*Models!$I$25+(200-Models!$B$25*Models!$I$25)/(1+EXP(Models!$C$25*B10*(Models!$B$4*Models!$F$25+Models!$B$5+Models!$I$25*Models!$G$25))) -> 99.334876 | AJ10: =100*EXP(-EXP(Models!$D$62*(ChartData!B10-Models!$C$62+Models!$E$62*Models!$B$4+Models!$F$62*Models!$B$5))) -> 76.705367 | AK10: =Models!$B$26*Models!$I$26+(200-Models!$B$26*Models!$I$26)/(1+EXP(Models!$C$26*B10*(Models!$B$4*Models!$F$26+Models!$B$5+Models!$I$26*Models!$G$26))) -> 99.057914 | AL10: =100*EXP(-EXP(Models!$D$63*(ChartData!B10-Models!$C$63+Models!$E$63*Models!$B$4+Models!$F$63*Models!$B$5))) -> 79.098183 | AM10: =Models!$B$27*Models!$I$27+(200-Models!$B$27*Models!$I$27)/(1+EXP(Models!$C$27*B10*(Models!$B$4*Models!$F$27+Models!$B$5+Models!$I$27*Models!$G$27))) -> 105.05453 | AN10: =100*EXP(-EXP(Models!$D$64*(ChartData!B10-Models!$C$64+Models!$E$64*Models!$B$4+Models!$F$64*Models!$B$5))) -> 79.409197 | AO10: =Models!$B$28*Models!$I$28+(200-Models!$B$28*Models!$I$28)/(1+EXP(Models!$C$28*B10*(Models!$B$4*Models!$F$28+Models!$B$5+Models!$I$28*Models!$G$28))) -> 99.233276 | AP10: =100*EXP(-EXP(Models!$D$65*(ChartData!B10-Models!$C$65+Models!$E$65*Models!$B$4+Models!$F$65*Models!$B$5))) -> 37.372378 | AQ10: =Models!$B$29*Models!$I$29+(200-Models!$B$29*Models!$I$29)/(1+EXP(Models!$C$29*B10*(Models!$B$4*Models!$F$29+Models!$B$5+Models!$I$29*Models!$G$29))) -> 98.874521 | AR10: =100*EXP(-EXP(Models!$D$66*(ChartData!B10-Models!$C$66+Models!$E$66*Models!$B$4+Models!$F$66*Models!$B$5))) -> 49.936365 | AS10: =Models!$B$30*Models!$I$30+(200-Models!$B$30*Models!$I$30)/(1+EXP(Models!$C$30*B10*(Models!$B$4*Models!$F$30+Models!$B$5+Models!$I$30*Models!$G$30))) -> 103.41197 | AT10: =100*EXP(-EXP(Models!$D$67*(ChartData!B10-Models!$C$67+Models!$E$67*Models!$B$4+Models!$F$67*Models!$B$5))) -> 43.282238
A11: =IF(ISNUMBER(SEARCH("12", 'Front Page'!C7)), "12", IF(ISNUMBER(SEARCH("32", 'Front Page'!C7)), "15-32", "15.5")) -> 15.5 | B11: 80 | C11: =1-'Front Page'!$C$30 -> 0.99630303 | D11: =IF($A$4=1,F11,IF($A$4=2,AB11,IF($A$4=4,AF11,IF($A$4=5,N11,IF($A$4=3,AD11,IF($A$4=6,AQ11,IF($A$4=7,AO11,IF($A$4=8,AS11,IF($A$4=9,AI11,IF($A$4=10,AK11,IF($A$4=11,AM11))))))))))) -> 98.713755 | E11: =IF($A$62="reversed",NA(),IF($A$4=1,G11,IF($A$4=2,AC11,IF($A$4=4,AG11,IF($A$4=5,O11,IF($A$4=3,AE11,IF($A$4=6,AR11,IF($A$4=7,AP11,IF($A$4=8,AT11,IF($A$4=9,AJ11,IF($A$4=10,AL11,IF($A$4=11,AN11)))))))))))) -> 52.029408 | F11: =Equations!$E$4/(1+EXP(Equations!$F$4*ChartData!B11*(Equations!$G$4*Equations!$C$4+Equations!$D$4))) -> 99.235947 | G11: =Equations!$E$7*EXP(-EXP(-Equations!$F$7*(ChartData!B11-Equations!$G$7+Equations!$H$7*Equations!$C$7+Equations!$I$7*Equations!$D$7))) -> 77.937446 | H11: =Models!$B$13+Models!$C$13*EXP(Models!$D$13*ChartData!B11+(Models!$E$13*ChartData!B11*Models!$E$3)) -> 97.609429 | I11: =Models!$B$50*EXP(-EXP(Models!$D$50*(ChartData!B11+Models!$C$50-(Models!$E$50*Models!$B$5)))) -> 66.554595 | J11: =Models!$B$12/(1+EXP(Models!$D$12*(ChartData!B11-Models!$C$12+Models!$E$12*ChartData!B11*Models!$B$5))) -> 120.99856 | K11: =Models!$B$49*EXP(-EXP(Models!$D$49*(ChartData!B11-Models!$C$49+(Models!$E$49*ChartData!B11*Models!$B$5)))) -> 6.4986951 | L11: =Models!$B$15/(1+EXP(Models!$D$15*(ChartData!B11*(1+Models!$D$15*Models!$B$5)-Models!$C$15))) -> 92.381129 | M11: =Models!$B$52*EXP(-EXP(Models!$D$52*(ChartData!B11*(1+Models!$D$52*Models!$B$5)-Models!$C$52))) -> 7.7833819 | N11: =Models!$B$15/(1+EXP(Models!$D$15*(ChartData!B11-Models!$D$15+Models!$E$15*ChartData!B11*Models!$B$5))) -> 89.737467 | O11: =Models!$B$52*EXP(-EXP(Models!$D$52*(ChartData!B11-Models!$C$52+Models!$E$52*ChartData!B11*Models!$B$5))) -> 9.1157156 | P11: =Models!$B$16*Models!$I$16+(100-Models!$B$16*Models!$I$16)/(1+EXP(Models!$C$16*(ChartData!B11-Models!$E$16+Models!$B$4*Models!$F$16+Models!$B$4*Models!$G$16*Models!$I$16+Models!$B$5*Models!$H$16))) -> 98.514969 | Q11: =Models!$B$53*EXP(-EXP(Models!$D$53*(ChartData!B11+Models!$C$53+Models!$B$5*Models!$E$53+Models!$B$4*Models!$F$53))) -> 49.108935 | R11: =Models!$B$17*Models!$I$17+(100-Models!$B$17*Models!$I$17)/(1+EXP(Models!$C$17*(ChartData!B11-Models!$E$17+Models!$B$4*Models!$F$17+Models!$B$4*Models!$G$17*Models!$I$17+Models!$B$5*Models!$H$17))) -> 98.772006 | S11: =Models!$B$54*EXP(-EXP(Models!$D$54*(ChartData!B11+Models!$C$54+Models!$B$5*Models!$E$54+Models!$B$4*Models!$F$54))) -> 38.740673 | T11: =Models!$B$18*Models!$I$18+(100-Models!$B$18*Models!$I$18)/(1+EXP(Models!$C$18*(ChartData!B11-Models!$E$18+Models!$B$4*Models!$F$18+Models!$B$4*Models!$G$18*Models!$I$18+Models!$B$5*Models!$H$18))) -> 98.704057 | U11: =Models!$B$55*EXP(-EXP(Models!$D$55*(ChartData!B11+Models!$C$55+Models!$B$5*Models!$E$55+Models!$B$4*Models!$F$55))) -> 52.030023 | V11: =Models!$B$19*Models!$I$19+(100-Models!$B$19*Models!$I$19)/(1+EXP(Models!$C$19*(ChartData!$B11-Models!$E$19+Models!$B$5*ChartData!$B11*Models!$F$19+Models!$B$4*Models!$G$19))) -> 92.481142 | W11: =Models!$B$56*EXP(-EXP(Models!$D$56*(ChartData!B11+Models!$C$56+Models!$B$5*Models!$E$56+Models!$B$4*Models!$F$56))) -> 77.262094 | X11: =Models!$B$20*Models!$I$20+(100-Models!$B$20*Models!$I$20)/(1+EXP(Models!$C$20*(ChartData!$B11-Models!$E$20+Models!$B$5*ChartData!$B11*Models!$F$20+Models!$B$4*Models!$G$20))) -> 92.244275 | Y11: =Models!$B$57*EXP(-EXP(Models!$D$57*(ChartData!B11+Models!$C$57+Models!$B$5*Models!$E$57+Models!$B$4*Models!$F$57))) -> 79.861544 | Z11: =Models!$B$21*Models!$I$21+(100-Models!$B$21*Models!$I$21)/(1+EXP(Models!$C$21*(ChartData!$B11-Models!$E$21+Models!$B$5*ChartData!$B11*Models!$F$21+Models!$B$4*Models!$G$21))) -> 93.34495 | AA11: =Models!$B$58*EXP(-EXP(Models!$D$58*(ChartData!B11+Models!$C$58+Models!$B$5*Models!$E$58+Models!$B$4*Models!$F$58))) -> 80.203797 | AB11: =200/(1+EXP(Models!$D$22*((Models!$E$22*Models!$B$4+Models!$B$5)*ChartData!B11))) -> 99.441674 | AC11: =100*EXP(-EXP(Models!$D$59*(ChartData!B11-Models!$C$59+Models!$E$59*Models!$B$4+Models!$F$59*Models!$B$5))) -> 70.813137 | AD11: =200/(1+EXP(Models!$D$23*((Models!$E$23*Models!$B$4+Models!$B$5)*ChartData!B11))) -> 99.189445 | AE11: =100*EXP(-EXP(Models!$D$60*(ChartData!B11-Models!$C$60+Models!$E$60*Models!$B$4+Models!$F$60*Models!$B$5))) -> 72.854362 | AF11: =200/(1+EXP(Models!$D$24*((Models!$E$24*Models!$B$4+Models!$B$5)*ChartData!B11))) -> 99.108787 | AG11: =100*EXP(-EXP(Models!$D$61*(ChartData!B11-Models!$C$61+Models!$E$61*Models!$B$4+Models!$F$61*Models!$B$5))) -> 73.300632 | AH11: =IF('Front Page'!$C$31>0,1-'Front Page'!$C$31,"") -> 0.995 | AI11: =Models!$B$25*Models!$I$25+(200-Models!$B$25*Models!$I$25)/(1+EXP(Models!$C$25*B11*(Models!$B$4*Models!$F$25+Models!$B$5+Models!$I$25*Models!$G$25))) -> 99.239861 | AJ11: =100*EXP(-EXP(Models!$D$62*(ChartData!B11-Models!$C$62+Models!$E$62*Models!$B$4+Models!$F$62*Models!$B$5))) -> 77.261874 | AK11: =Models!$B$26*Models!$I$26+(200-Models!$B$26*Models!$I$26)/(1+EXP(Models!$C$26*B11*(Models!$B$4*Models!$F$26+Models!$B$5+Models!$I$26*Models!$G$26))) -> 98.92334 | AL11: =100*EXP(-EXP(Models!$D$63*(ChartData!B11-Models!$C$63+Models!$E$63*Models!$B$4+Models!$F$63*Models!$B$5))) -> 79.861284 | AM11: =Models!$B$27*Models!$I$27+(200-Models!$B$27*Models!$I$27)/(1+EXP(Models!$C$27*B11*(Models!$B$4*Models!$F$27+Models!$B$5+Models!$I$27*Models!$G$27))) -> 104.66443 | AN11: =100*EXP(-EXP(Models!$D$64*(ChartData!B11-Models!$C$64+Models!$E$64*Models!$B$4+Models!$F$64*Models!$B$5))) -> 80.203502 | AO11: =Models!$B$28*Models!$I$28+(200-Models!$B$28*Models!$I$28)/(1+EXP(Models!$C$28*B11*(Models!$B$4*Models!$F$28+Models!$B$5+Models!$I$28*Models!$G$28))) -> 99.123749 | AP11: =100*EXP(-EXP(Models!$D$65*(ChartData!B11-Models!$C$65+Models!$E$65*Models!$B$4+Models!$F$65*Models!$B$5))) -> 38.747577 | AQ11: =Models!$B$29*Models!$I$29+(200-Models!$B$29*Models!$I$29)/(1+EXP(Models!$C$29*B11*(Models!$B$4*Models!$F$29+Models!$B$5+Models!$I$29*Models!$G$29))) -> 98.713755 | AR11: =100*EXP(-EXP(Models!$D$66*(ChartData!B11-Models!$C$66+Models!$E$66*Models!$B$4+Models!$F$66*Models!$B$5))) -> 52.029408 | AS11: =Models!$B$30*Models!$I$30+(200-Models!$B$30*Models!$I$30)/(1+EXP(Models!$C$30*B11*(Models!$B$4*Models!$F$30+Models!$B$5+Models!$I$30*Models!$G$30))) -> 103.21167 | AT11: =100*EXP(-EXP(Models!$D$67*(ChartData!B11-Models!$C$67+Models!$E$67*Models!$B$4+Models!$F$67*Models!$B$5))) -> 45.06641
A12: alert text below: | B12: 90 | C12: =1-'Front Page'!$C$30 -> 0.99630303 | D12: =IF($A$4=1,F12,IF($A$4=2,AB12,IF($A$4=4,AF12,IF($A$4=5,N12,IF($A$4=3,AD12,IF($A$4=6,AQ12,IF($A$4=7,AO12,IF($A$4=8,AS12,IF($A$4=9,AI12,IF($A$4=10,AK12,IF($A$4=11,AM12))))))))))) -> 98.552996 | E12: =IF($A$62="reversed",NA(),IF($A$4=1,G12,IF($A$4=2,AC12,IF($A$4=4,AG12,IF($A$4=5,O12,IF($A$4=3,AE12,IF($A$4=6,AR12,IF($A$4=7,AP12,IF($A$4=8,AT12,IF($A$4=9,AJ12,IF($A$4=10,AL12,IF($A$4=11,AN12)))))))))))) -> 54.078729 | F12: =Equations!$E$4/(1+EXP(Equations!$F$4*ChartData!B12*(Equations!$G$4*Equations!$C$4+Equations!$D$4))) -> 99.140445 | G12: =Equations!$E$7*EXP(-EXP(-Equations!$F$7*(ChartData!B12-Equations!$G$7+Equations!$H$7*Equations!$C$7+Equations!$I$7*Equations!$D$7))) -> 78.581147 | H12: =Models!$B$13+Models!$C$13*EXP(Models!$D$13*ChartData!B12+(Models!$E$13*ChartData!B12*Models!$E$3)) -> 97.315606 | I12: =Models!$B$50*EXP(-EXP(Models!$D$50*(ChartData!B12+Models!$C$50-(Models!$E$50*Models!$B$5)))) -> 67.165567 | J12: =Models!$B$12/(1+EXP(Models!$D$12*(ChartData!B12-Models!$C$12+Models!$E$12*ChartData!B12*Models!$B$5))) -> 120.99793 | K12: =Models!$B$49*EXP(-EXP(Models!$D$49*(ChartData!B12-Models!$C$49+(Models!$E$49*ChartData!B12*Models!$B$5)))) -> 7.8203052 | L12: =Models!$B$15/(1+EXP(Models!$D$15*(ChartData!B12*(1+Models!$D$15*Models!$B$5)-Models!$C$15))) -> 91.239283 | M12: =Models!$B$52*EXP(-EXP(Models!$D$52*(ChartData!B12*(1+Models!$D$52*Models!$B$5)-Models!$C$52))) -> 9.3962672 | N12: =Models!$B$15/(1+EXP(Models!$D$15*(ChartData!B12-Models!$D$15+Models!$E$15*ChartData!B12*Models!$B$5))) -> 88.465395 | O12: =Models!$B$52*EXP(-EXP(Models!$D$52*(ChartData!B12-Models!$C$52+Models!$E$52*ChartData!B12*Models!$B$5))) -> 11.070815 | P12: =Models!$B$16*Models!$I$16+(100-Models!$B$16*Models!$I$16)/(1+EXP(Models!$C$16*(ChartData!B12-Models!$E$16+Models!$B$4*Models!$F$16+Models!$B$4*Models!$G$16*Models!$I$16+Models!$B$5*Models!$H$16))) -> 98.481077 | Q12: =Models!$B$53*EXP(-EXP(Models!$D$53*(ChartData!B12+Models!$C$53+Models!$B$5*Models!$E$53+Models!$B$4*Models!$F$53))) -> 51.050985 | R12: =Models!$B$17*Models!$I$17+(100-Models!$B$17*Models!$I$17)/(1+EXP(Models!$C$17*(ChartData!B12-Models!$E$17+Models!$B$4*Models!$F$17+Models!$B$4*Models!$G$17*Models!$I$17+Models!$B$5*Models!$H$17))) -> 98.749777 | S12: =Models!$B$54*EXP(-EXP(Models!$D$54*(ChartData!B12+Models!$C$54+Models!$B$5*Models!$E$54+Models!$B$4*Models!$F$54))) -> 40.113229 | T12: =Models!$B$18*Models!$I$18+(100-Models!$B$18*Models!$I$18)/(1+EXP(Models!$C$18*(ChartData!B12-Models!$E$18+Models!$B$4*Models!$F$18+Models!$B$4*Models!$G$18*Models!$I$18+Models!$B$5*Models!$H$18))) -> 98.668996 | U12: =Models!$B$55*EXP(-EXP(Models!$D$55*(ChartData!B12+Models!$C$55+Models!$B$5*Models!$E$55+Models!$B$4*Models!$F$55))) -> 54.079364 | V12: =Models!$B$19*Models!$I$19+(100-Models!$B$19*Models!$I$19)/(1+EXP(Models!$C$19*(ChartData!$B12-Models!$E$19+Models!$B$5*ChartData!$B12*Models!$F$19+Models!$B$4*Models!$G$19))) -> 92.4377 | W12: =Models!$B$56*EXP(-EXP(Models!$D$56*(ChartData!B12+Models!$C$56+Models!$B$5*Models!$E$56+Models!$B$4*Models!$F$56))) -> 77.807301 | X12: =Models!$B$20*Models!$I$20+(100-Models!$B$20*Models!$I$20)/(1+EXP(Models!$C$20*(ChartData!$B12-Models!$E$20+Models!$B$5*ChartData!$B12*Models!$F$20+Models!$B$4*Models!$G$20))) -> 92.178291 | Y12: =Models!$B$57*EXP(-EXP(Models!$D$57*(ChartData!B12+Models!$C$57+Models!$B$5*Models!$E$57+Models!$B$4*Models!$F$57))) -> 80.600323 | Z12: =Models!$B$21*Models!$I$21+(100-Models!$B$21*Models!$I$21)/(1+EXP(Models!$C$21*(ChartData!$B12-Models!$E$21+Models!$B$5*ChartData!$B12*Models!$F$21+Models!$B$4*Models!$G$21))) -> 93.282661 | AA12: =Models!$B$58*EXP(-EXP(Models!$D$58*(ChartData!B12+Models!$C$58+Models!$B$5*Models!$E$58+Models!$B$4*Models!$F$58))) -> 80.971239 | AB12: =200/(1+EXP(Models!$D$22*((Models!$E$22*Models!$B$4+Models!$B$5)*ChartData!B12))) -> 99.371885 | AC12: =100*EXP(-EXP(Models!$D$59*(ChartData!B12-Models!$C$59+Models!$E$59*Models!$B$4+Models!$F$59*Models!$B$5))) -> 71.283022 | AD12: =200/(1+EXP(Models!$D$23*((Models!$E$23*Models!$B$4+Models!$B$5)*ChartData!B12))) -> 99.088131 | AE12: =100*EXP(-EXP(Models!$D$60*(ChartData!B12-Models!$C$60+Models!$E$60*Models!$B$4+Models!$F$60*Models!$B$5))) -> 73.509958 | AF12: =200/(1+EXP(Models!$D$24*((Models!$E$24*Models!$B$4+Models!$B$5)*ChartData!B12))) -> 98.997392 | AG12: =100*EXP(-EXP(Models!$D$61*(ChartData!B12-Models!$C$61+Models!$E$61*Models!$B$4+Models!$F$61*Models!$B$5))) -> 73.995484 | AH12: =IF('Front Page'!$C$31>0,1-'Front Page'!$C$31,"") -> 0.995 | AI12: =Models!$B$25*Models!$I$25+(200-Models!$B$25*Models!$I$25)/(1+EXP(Models!$C$25*B12*(Models!$B$4*Models!$F$25+Models!$B$5+Models!$I$25*Models!$G$25))) -> 99.144848 | AJ12: =100*EXP(-EXP(Models!$D$62*(ChartData!B12-Models!$C$62+Models!$E$62*Models!$B$4+Models!$F$62*Models!$B$5))) -> 77.807085 | AK12: =Models!$B$26*Models!$I$26+(200-Models!$B$26*Models!$I$26)/(1+EXP(Models!$C$26*B12*(Models!$B$4*Models!$F$26+Models!$B$5+Models!$I$26*Models!$G$26))) -> 98.78877 | AL12: =100*EXP(-EXP(Models!$D$63*(ChartData!B12-Models!$C$63+Models!$E$63*Models!$B$4+Models!$F$63*Models!$B$5))) -> 80.600053 | AM12: =Models!$B$27*Models!$I$27+(200-Models!$B$27*Models!$I$27)/(1+EXP(Models!$C$27*B12*(Models!$B$4*Models!$F$27+Models!$B$5+Models!$I$27*Models!$G$27))) -> 104.27445 | AN12: =100*EXP(-EXP(Models!$D$64*(ChartData!B12-Models!$C$64+Models!$E$64*Models!$B$4+Models!$F$64*Models!$B$5))) -> 80.970954 | AO12: =Models!$B$28*Models!$I$28+(200-Models!$B$28*Models!$I$28)/(1+EXP(Models!$C$28*B12*(Models!$B$4*Models!$F$28+Models!$B$5+Models!$I$28*Models!$G$28))) -> 99.014224 | AP12: =100*EXP(-EXP(Models!$D$65*(ChartData!B12-Models!$C$65+Models!$E$65*Models!$B$4+Models!$F$65*Models!$B$5))) -> 40.120114 | AQ12: =Models!$B$29*Models!$I$29+(200-Models!$B$29*Models!$I$29)/(1+EXP(Models!$C$29*B12*(Models!$B$4*Models!$F$29+Models!$B$5+Models!$I$29*Models!$G$29))) -> 98.552996 | AR12: =100*EXP(-EXP(Models!$D$66*(ChartData!B12-Models!$C$66+Models!$E$66*Models!$B$4+Models!$F$66*Models!$B$5))) -> 54.078729 | AS12: =Models!$B$30*Models!$I$30+(200-Models!$B$30*Models!$I$30)/(1+EXP(Models!$C$30*B12*(Models!$B$4*Models!$F$30+Models!$B$5+Models!$I$30*Models!$G$30))) -> 103.01138 | AT12: =100*EXP(-EXP(Models!$D$67*(ChartData!B12-Models!$C$67+Models!$E$67*Models!$B$4+Models!$F$67*Models!$B$5))) -> 46.832785
A13: =_xlfn.CONCAT("Use base temp ",A11," for degree days calculations") -> Use base temp 15.5 for degree days calculations | B13: 100 | C13: =1-'Front Page'!$C$30 -> 0.99630303 | D13: =IF($A$4=1,F13,IF($A$4=2,AB13,IF($A$4=4,AF13,IF($A$4=5,N13,IF($A$4=3,AD13,IF($A$4=6,AQ13,IF($A$4=7,AO13,IF($A$4=8,AS13,IF($A$4=9,AI13,IF($A$4=10,AK13,IF($A$4=11,AM13))))))))))) -> 98.392244 | E13: =IF($A$62="reversed",NA(),IF($A$4=1,G13,IF($A$4=2,AC13,IF($A$4=4,AG13,IF($A$4=5,O13,IF($A$4=3,AE13,IF($A$4=6,AR13,IF($A$4=7,AP13,IF($A$4=8,AT13,IF($A$4=9,AJ13,IF($A$4=10,AL13,IF($A$4=11,AN13)))))))))))) -> 56.080521 | F13: =Equations!$E$4/(1+EXP(Equations!$F$4*ChartData!B13*(Equations!$G$4*Equations!$C$4+Equations!$D$4))) -> 99.044944 | G13: =Equations!$E$7*EXP(-EXP(-Equations!$F$7*(ChartData!B13-Equations!$G$7+Equations!$H$7*Equations!$C$7+Equations!$I$7*Equations!$D$7))) -> 79.208662 | H13: =Models!$B$13+Models!$C$13*EXP(Models!$D$13*ChartData!B13+(Models!$E$13*ChartData!B13*Models!$E$3)) -> 97.022879 | I13: =Models!$B$50*EXP(-EXP(Models!$D$50*(ChartData!B13+Models!$C$50-(Models!$E$50*Models!$B$5)))) -> 67.768248 | J13: =Models!$B$12/(1+EXP(Models!$D$12*(ChartData!B13-Models!$C$12+Models!$E$12*ChartData!B13*Models!$B$5))) -> 120.99702 | K13: =Models!$B$49*EXP(-EXP(Models!$D$49*(ChartData!B13-Models!$C$49+(Models!$E$49*ChartData!B13*Models!$B$5)))) -> 9.2934416 | L13: =Models!$B$15/(1+EXP(Models!$D$15*(ChartData!B13*(1+Models!$D$15*Models!$B$5)-Models!$C$15))) -> 90.099734 | M13: =Models!$B$52*EXP(-EXP(Models!$D$52*(ChartData!B13*(1+Models!$D$52*Models!$B$5)-Models!$C$52))) -> 11.186901 | N13: =Models!$B$15/(1+EXP(Models!$D$15*(ChartData!B13-Models!$D$15+Models!$E$15*ChartData!B13*Models!$B$5))) -> 87.197096 | O13: =Models!$B$52*EXP(-EXP(Models!$D$52*(ChartData!B13-Models!$C$52+Models!$E$52*ChartData!B13*Models!$B$5))) -> 13.234948 | P13: =Models!$B$16*Models!$I$16+(100-Models!$B$16*Models!$I$16)/(1+EXP(Models!$C$16*(ChartData!B13-Models!$E$16+Models!$B$4*Models!$F$16+Models!$B$4*Models!$G$16*Models!$I$16+Models!$B$5*Models!$H$16))) -> 98.446424 | Q13: =Models!$B$53*EXP(-EXP(Models!$D$53*(ChartData!B13+Models!$C$53+Models!$B$5*Models!$E$53+Models!$B$4*Models!$F$53))) -> 52.9577 | R13: =Models!$B$17*Models!$I$17+(100-Models!$B$17*Models!$I$17)/(1+EXP(Models!$C$17*(ChartData!B13-Models!$E$17+Models!$B$4*Models!$F$17+Models!$B$4*Models!$G$17*Models!$I$17+Models!$B$5*Models!$H$17))) -> 98.727151 | S13: =Models!$B$54*EXP(-EXP(Models!$D$54*(ChartData!B13+Models!$C$54+Models!$B$5*Models!$E$54+Models!$B$4*Models!$F$54))) -> 41.481355 | T13: =Models!$B$18*Models!$I$18+(100-Models!$B$18*Models!$I$18)/(1+EXP(Models!$C$18*(ChartData!B13-Models!$E$18+Models!$B$4*Models!$F$18+Models!$B$4*Models!$G$18*Models!$I$18+Models!$B$5*Models!$H$18))) -> 98.633001 | U13: =Models!$B$55*EXP(-EXP(Models!$D$55*(ChartData!B13+Models!$C$55+Models!$B$5*Models!$E$55+Models!$B$4*Models!$F$55))) -> 56.081173 | V13: =Models!$B$19*Models!$I$19+(100-Models!$B$19*Models!$I$19)/(1+EXP(Models!$C$19*(ChartData!$B13-Models!$E$19+Models!$B$5*ChartData!$B13*Models!$F$19+Models!$B$4*Models!$G$19))) -> 92.394027 | W13: =Models!$B$56*EXP(-EXP(Models!$D$56*(ChartData!B13+Models!$C$56+Models!$B$5*Models!$E$56+Models!$B$4*Models!$F$56))) -> 78.341337 | X13: =Models!$B$20*Models!$I$20+(100-Models!$B$20*Models!$I$20)/(1+EXP(Models!$C$20*(ChartData!$B13-Models!$E$20+Models!$B$5*ChartData!$B13*Models!$F$20+Models!$B$4*Models!$G$20))) -> 92.111793 | Y13: =Models!$B$57*EXP(-EXP(Models!$D$57*(ChartData!B13+Models!$C$57+Models!$B$5*Models!$E$57+Models!$B$4*Models!$F$57))) -> 81.315269 | Z13: =Models!$B$21*Models!$I$21+(100-Models!$B$21*Models!$I$21)/(1+EXP(Models!$C$21*(ChartData!$B13-Models!$E$21+Models!$B$5*ChartData!$B13*Models!$F$21+Models!$B$4*Models!$G$21))) -> 93.219838 | AA13: =Models!$B$58*EXP(-EXP(Models!$D$58*(ChartData!B13+Models!$C$58+Models!$B$5*Models!$E$58+Models!$B$4*Models!$F$58))) -> 81.712425 | AB13: =200/(1+EXP(Models!$D$22*((Models!$E$22*Models!$B$4+Models!$B$5)*ChartData!B13))) -> 99.302096 | AC13: =100*EXP(-EXP(Models!$D$59*(ChartData!B13-Models!$C$59+Models!$E$59*Models!$B$4+Models!$F$59*Models!$B$5))) -> 71.746932 | AD13: =200/(1+EXP(Models!$D$23*((Models!$E$23*Models!$B$4+Models!$B$5)*ChartData!B13))) -> 98.986819 | AE13: =100*EXP(-EXP(Models!$D$60*(ChartData!B13-Models!$C$60+Models!$E$60*Models!$B$4+Models!$F$60*Models!$B$5))) -> 74.15266 | AF13: =200/(1+EXP(Models!$D$24*((Models!$E$24*Models!$B$4+Models!$B$5)*ChartData!B13))) -> 98.886 | AG13: =100*EXP(-EXP(Models!$D$61*(ChartData!B13-Models!$C$61+Models!$E$61*Models!$B$4+Models!$F$61*Models!$B$5))) -> 74.675519 | AH13: =IF('Front Page'!$C$31>0,1-'Front Page'!$C$31,"") -> 0.995 | AI13: =Models!$B$25*Models!$I$25+(200-Models!$B$25*Models!$I$25)/(1+EXP(Models!$C$25*B13*(Models!$B$4*Models!$F$25+Models!$B$5+Models!$I$25*Models!$G$25))) -> 99.049837 | AJ13: =100*EXP(-EXP(Models!$D$62*(ChartData!B13-Models!$C$62+Models!$E$62*Models!$B$4+Models!$F$62*Models!$B$5))) -> 78.341126 | AK13: =Models!$B$26*Models!$I$26+(200-Models!$B$26*Models!$I$26)/(1+EXP(Models!$C$26*B13*(Models!$B$4*Models!$F$26+Models!$B$5+Models!$I$26*Models!$G$26))) -> 98.654205 | AL13: =100*EXP(-EXP(Models!$D$63*(ChartData!B13-Models!$C$63+Models!$E$63*Models!$B$4+Models!$F$63*Models!$B$5))) -> 81.314992 | AM13: =Models!$B$27*Models!$I$27+(200-Models!$B$27*Models!$I$27)/(1+EXP(Models!$C$27*B13*(Models!$B$4*Models!$F$27+Models!$B$5+Models!$I$27*Models!$G$27))) -> 103.88459 | AN13: =100*EXP(-EXP(Models!$D$64*(ChartData!B13-Models!$C$64+Models!$E$64*Models!$B$4+Models!$F$64*Models!$B$5))) -> 81.712149 | AO13: =Models!$B$28*Models!$I$28+(200-Models!$B$28*Models!$I$28)/(1+EXP(Models!$C$28*B13*(Models!$B$4*Models!$F$28+Models!$B$5+Models!$I$28*Models!$G$28))) -> 98.904702 | AP13: =100*EXP(-EXP(Models!$D$65*(ChartData!B13-Models!$C$65+Models!$E$65*Models!$B$4+Models!$F$65*Models!$B$5))) -> 41.488214 | AQ13: =Models!$B$29*Models!$I$29+(200-Models!$B$29*Models!$I$29)/(1+EXP(Models!$C$29*B13*(Models!$B$4*Models!$F$29+Models!$B$5+Models!$I$29*Models!$G$29))) -> 98.392244 | AR13: =100*EXP(-EXP(Models!$D$66*(ChartData!B13-Models!$C$66+Models!$E$66*Models!$B$4+Models!$F$66*Models!$B$5))) -> 56.080521 | AS13: =Models!$B$30*Models!$I$30+(200-Models!$B$30*Models!$I$30)/(1+EXP(Models!$C$30*B13*(Models!$B$4*Models!$F$30+Models!$B$5+Models!$I$30*Models!$G$30))) -> 102.81111 | AT13: =100*EXP(-EXP(Models!$D$67*(ChartData!B13-Models!$C$67+Models!$E$67*Models!$B$4+Models!$F$67*Models!$B$5))) -> 48.578219
A14: List of model selections: | B14: 120 | C14: =1-'Front Page'!$C$30 -> 0.99630303 | D14: =IF($A$4=1,F14,IF($A$4=2,AB14,IF($A$4=4,AF14,IF($A$4=5,N14,IF($A$4=3,AD14,IF($A$4=6,AQ14,IF($A$4=7,AO14,IF($A$4=8,AS14,IF($A$4=9,AI14,IF($A$4=10,AK14,IF($A$4=11,AM14))))))))))) -> 98.070766 | E14: =IF($A$62="reversed",NA(),IF($A$4=1,G14,IF($A$4=2,AC14,IF($A$4=4,AG14,IF($A$4=5,O14,IF($A$4=3,AE14,IF($A$4=6,AR14,IF($A$4=7,AP14,IF($A$4=8,AT14,IF($A$4=9,AJ14,IF($A$4=10,AL14,IF($A$4=11,AN14)))))))))))) -> 59.92917 | F14: =Equations!$E$4/(1+EXP(Equations!$F$4*ChartData!B14*(Equations!$G$4*Equations!$C$4+Equations!$D$4))) -> 98.853949 | G14: =Equations!$E$7*EXP(-EXP(-Equations!$F$7*(ChartData!B14-Equations!$G$7+Equations!$H$7*Equations!$C$7+Equations!$I$7*Equations!$D$7))) -> 80.416118 | H14: =Models!$B$13+Models!$C$13*EXP(Models!$D$13*ChartData!B14+(Models!$E$13*ChartData!B14*Models!$E$3)) -> 96.4407 | I14: =Models!$B$50*EXP(-EXP(Models!$D$50*(ChartData!B14+Models!$C$50-(Models!$E$50*Models!$B$5)))) -> 68.948708 | J14: =Models!$B$12/(1+EXP(Models!$D$12*(ChartData!B14-Models!$C$12+Models!$E$12*ChartData!B14*Models!$B$5))) -> 120.9938 | K14: =Models!$B$49*EXP(-EXP(Models!$D$49*(ChartData!B14-Models!$C$49+(Models!$E$49*ChartData!B14*Models!$B$5)))) -> 12.682306 | L14: =Models!$B$15/(1+EXP(Models!$D$15*(ChartData!B14*(1+Models!$D$15*Models!$B$5)-Models!$C$15))) -> 87.828699 | M14: =Models!$B$52*EXP(-EXP(Models!$D$52*(ChartData!B14*(1+Models!$D$52*Models!$B$5)-Models!$C$52))) -> 15.271016 | N14: =Models!$B$15/(1+EXP(Models!$D$15*(ChartData!B14-Models!$D$15+Models!$E$15*ChartData!B14*Models!$B$5))) -> 84.673414 | O14: =Models!$B$52*EXP(-EXP(Models!$D$52*(ChartData!B14-Models!$C$52+Models!$E$52*ChartData!B14*Models!$B$5))) -> 18.131992 | P14: =Models!$B$16*Models!$I$16+(100-Models!$B$16*Models!$I$16)/(1+EXP(Models!$C$16*(ChartData!B14-Models!$E$16+Models!$B$4*Models!$F$16+Models!$B$4*Models!$G$16*Models!$I$16+Models!$B$5*Models!$H$16))) -> 98.374767 | Q14: =Models!$B$53*EXP(-EXP(Models!$D$53*(ChartData!B14+Models!$C$53+Models!$B$5*Models!$E$53+Models!$B$4*Models!$F$53))) -> 56.652735 | R14: =Models!$B$17*Models!$I$17+(100-Models!$B$17*Models!$I$17)/(1+EXP(Models!$C$17*(ChartData!B14-Models!$E$17+Models!$B$4*Models!$F$17+Models!$B$4*Models!$G$17*Models!$I$17+Models!$B$5*Models!$H$17))) -> 98.68068 | S14: =Models!$B$54*EXP(-EXP(Models!$D$54*(ChartData!B14+Models!$C$54+Models!$B$5*Models!$E$54+Models!$B$4*Models!$F$54))) -> 44.19762 | T14: =Models!$B$18*Models!$I$18+(100-Models!$B$18*Models!$I$18)/(1+EXP(Models!$C$18*(ChartData!B14-Models!$E$18+Models!$B$4*Models!$F$18+Models!$B$4*Models!$G$18*Models!$I$18+Models!$B$5*Models!$H$18))) -> 98.558112 | U14: =Models!$B$55*EXP(-EXP(Models!$D$55*(ChartData!B14+Models!$C$55+Models!$B$5*Models!$E$55+Models!$B$4*Models!$F$55))) -> 59.929848 | V14: =Models!$B$19*Models!$I$19+(100-Models!$B$19*Models!$I$19)/(1+EXP(Models!$C$19*(ChartData!$B14-Models!$E$19+Models!$B$5*ChartData!$B14*Models!$F$19+Models!$B$4*Models!$G$19))) -> 92.305987 | W14: =Models!$B$56*EXP(-EXP(Models!$D$56*(ChartData!B14+Models!$C$56+Models!$B$5*Models!$E$56+Models!$B$4*Models!$F$56))) -> 79.376423 | X14: =Models!$B$20*Models!$I$20+(100-Models!$B$20*Models!$I$20)/(1+EXP(Models!$C$20*(ChartData!$B14-Models!$E$20+Models!$B$5*ChartData!$B14*Models!$F$20+Models!$B$4*Models!$G$20))) -> 91.977244 | Y14: =Models!$B$57*EXP(-EXP(Models!$D$57*(ChartData!B14+Models!$C$57+Models!$B$5*Models!$E$57+Models!$B$4*Models!$F$57))) -> 82.675729 | Z14: =Models!$B$21*Models!$I$21+(100-Models!$B$21*Models!$I$21)/(1+EXP(Models!$C$21*(ChartData!$B14-Models!$E$21+Models!$B$5*ChartData!$B14*Models!$F$21+Models!$B$4*Models!$G$21))) -> 93.092576 | AA14: =Models!$B$58*EXP(-EXP(Models!$D$58*(ChartData!B14+Models!$C$58+Models!$B$5*Models!$E$58+Models!$B$4*Models!$F$58))) -> 83.11848 | AB14: =200/(1+EXP(Models!$D$22*((Models!$E$22*Models!$B$4+Models!$B$5)*ChartData!B14))) -> 99.162522 | AC14: =100*EXP(-EXP(Models!$D$59*(ChartData!B14-Models!$C$59+Models!$E$59*Models!$B$4+Models!$F$59*Models!$B$5))) -> 72.6569 | AD14: =200/(1+EXP(Models!$D$23*((Models!$E$23*Models!$B$4+Models!$B$5)*ChartData!B14))) -> 98.784201 | AE14: =100*EXP(-EXP(Models!$D$60*(ChartData!B14-Models!$C$60+Models!$E$60*Models!$B$4+Models!$F$60*Models!$B$5))) -> 75.399779 | AF14: =200/(1+EXP(Models!$D$24*((Models!$E$24*Models!$B$4+Models!$B$5)*ChartData!B14))) -> 98.663224 | AG14: =100*EXP(-EXP(Models!$D$61*(ChartData!B14-Models!$C$61+Models!$E$61*Models!$B$4+Models!$F$61*Models!$B$5))) -> 75.991659 | AH14: =IF('Front Page'!$C$31>0,1-'Front Page'!$C$31,"") -> 0.995 | AI14: =Models!$B$25*Models!$I$25+(200-Models!$B$25*Models!$I$25)/(1+EXP(Models!$C$25*B14*(Models!$B$4*Models!$F$25+Models!$B$5+Models!$I$25*Models!$G$25))) -> 98.859819 | AJ14: =100*EXP(-EXP(Models!$D$62*(ChartData!B14-Models!$C$62+Models!$E$62*Models!$B$4+Models!$F$62*Models!$B$5))) -> 79.376221 | AK14: =Models!$B$26*Models!$I$26+(200-Models!$B$26*Models!$I$26)/(1+EXP(Models!$C$26*B14*(Models!$B$4*Models!$F$26+Models!$B$5+Models!$I$26*Models!$G$26))) -> 98.385089 | AL14: =100*EXP(-EXP(Models!$D$63*(ChartData!B14-Models!$C$63+Models!$E$63*Models!$B$4+Models!$F$63*Models!$B$5))) -> 82.675438 | AM14: =Models!$B$27*Models!$I$27+(200-Models!$B$27*Models!$I$27)/(1+EXP(Models!$C$27*B14*(Models!$B$4*Models!$F$27+Models!$B$5+Models!$I$27*Models!$G$27))) -> 103.10531 | AN14: =100*EXP(-EXP(Models!$D$64*(ChartData!B14-Models!$C$64+Models!$E$64*Models!$B$4+Models!$F$64*Models!$B$5))) -> 83.118223 | AO14: =Models!$B$28*Models!$I$28+(200-Models!$B$28*Models!$I$28)/(1+EXP(Models!$C$28*B14*(Models!$B$4*Models!$F$28+Models!$B$5+Models!$I$28*Models!$G$28))) -> 98.685665 | AP14: =100*EXP(-EXP(Models!$D$65*(ChartData!B14-Models!$C$65+Models!$E$65*Models!$B$4+Models!$F$65*Models!$B$5))) -> 44.204402 | AQ14: =Models!$B$29*Models!$I$29+(200-Models!$B$29*Models!$I$29)/(1+EXP(Models!$C$29*B14*(Models!$B$4*Models!$F$29+Models!$B$5+Models!$I$29*Models!$G$29))) -> 98.070766 | AR14: =100*EXP(-EXP(Models!$D$66*(ChartData!B14-Models!$C$66+Models!$E$66*Models!$B$4+Models!$F$66*Models!$B$5))) -> 59.92917 | AS14: =Models!$B$30*Models!$I$30+(200-Models!$B$30*Models!$I$30)/(1+EXP(Models!$C$30*B14*(Models!$B$4*Models!$F$30+Models!$B$5+Models!$I$30*Models!$G$30))) -> 102.41063 | AT14: =100*EXP(-EXP(Models!$D$67*(ChartData!B14-Models!$C$67+Models!$E$67*Models!$B$4+Models!$F$67*Models!$B$5))) -> 51.995063
A15: original tool | B15: 140 | C15: =1-'Front Page'!$C$30 -> 0.99630303 | D15: =IF($A$4=1,F15,IF($A$4=2,AB15,IF($A$4=4,AF15,IF($A$4=5,N15,IF($A$4=3,AD15,IF($A$4=6,AQ15,IF($A$4=7,AO15,IF($A$4=8,AS15,IF($A$4=9,AI15,IF($A$4=10,AK15,IF($A$4=11,AM15))))))))))) -> 97.749328 | E15: =IF($A$62="reversed",NA(),IF($A$4=1,G15,IF($A$4=2,AC15,IF($A$4=4,AG15,IF($A$4=5,O15,IF($A$4=3,AE15,IF($A$4=6,AR15,IF($A$4=7,AP15,IF($A$4=8,AT15,IF($A$4=9,AJ15,IF($A$4=10,AL15,IF($A$4=11,AN15)))))))))))) -> 63.555977 | F15: =Equations!$E$4/(1+EXP(Equations!$F$4*ChartData!B15*(Equations!$G$4*Equations!$C$4+Equations!$D$4))) -> 98.662961 | G15: =Equations!$E$7*EXP(-EXP(-Equations!$F$7*(ChartData!B15-Equations!$G$7+Equations!$H$7*Equations!$C$7+Equations!$I$7*Equations!$D$7))) -> 81.561849 | H15: =Models!$B$13+Models!$C$13*EXP(Models!$D$13*ChartData!B15+(Models!$E$13*ChartData!B15*Models!$E$3)) -> 95.862859 | I15: =Models!$B$50*EXP(-EXP(Models!$D$50*(ChartData!B15+Models!$C$50-(Models!$E$50*Models!$B$5)))) -> 70.095982 | J15: =Models!$B$12/(1+EXP(Models!$D$12*(ChartData!B15-Models!$C$12+Models!$E$12*ChartData!B15*Models!$B$5))) -> 120.98712 | K15: =Models!$B$49*EXP(-EXP(Models!$D$49*(ChartData!B15-Models!$C$49+(Models!$E$49*ChartData!B15*Models!$B$5)))) -> 16.616951 | L15: =Models!$B$15/(1+EXP(Models!$D$15*(ChartData!B15*(1+Models!$D$15*Models!$B$5)-Models!$C$15))) -> 85.570337 | M15: =Models!$B$52*EXP(-EXP(Models!$D$52*(ChartData!B15*(1+Models!$D$52*Models!$B$5)-Models!$C$52))) -> 19.944493 | N15: =Models!$B$15/(1+EXP(Models!$D$15*(ChartData!B15-Models!$D$15+Models!$E$15*ChartData!B15*Models!$B$5))) -> 82.169568 | O15: =Models!$B$52*EXP(-EXP(Models!$D$52*(ChartData!B15-Models!$C$52+Models!$E$52*ChartData!B15*Models!$B$5))) -> 23.652922 | P15: =Models!$B$16*Models!$I$16+(100-Models!$B$16*Models!$I$16)/(1+EXP(Models!$C$16*(ChartData!B15-Models!$E$16+Models!$B$4*Models!$F$16+Models!$B$4*Models!$G$16*Models!$I$16+Models!$B$5*Models!$H$16))) -> 98.299861 | Q15: =Models!$B$53*EXP(-EXP(Models!$D$53*(ChartData!B15+Models!$C$53+Models!$B$5*Models!$E$53+Models!$B$4*Models!$F$53))) -> 60.173425 | R15: =Models!$B$17*Models!$I$17+(100-Models!$B$17*Models!$I$17)/(1+EXP(Models!$C$17*(ChartData!B15-Models!$E$17+Models!$B$4*Models!$F$17+Models!$B$4*Models!$G$17*Models!$I$17+Models!$B$5*Models!$H$17))) -> 98.632535 | S15: =Models!$B$54*EXP(-EXP(Models!$D$54*(ChartData!B15+Models!$C$54+Models!$B$5*Models!$E$54+Models!$B$4*Models!$F$54))) -> 46.876942 | T15: =Models!$B$18*Models!$I$18+(100-Models!$B$18*Models!$I$18)/(1+EXP(Models!$C$18*(ChartData!B15-Models!$E$18+Models!$B$4*Models!$F$18+Models!$B$4*Models!$G$18*Models!$I$18+Models!$B$5*Models!$H$18))) -> 98.479189 | U15: =Models!$B$55*EXP(-EXP(Models!$D$55*(ChartData!B15+Models!$C$55+Models!$B$5*Models!$E$55+Models!$B$4*Models!$F$55))) -> 63.556672 | V15: =Models!$B$19*Models!$I$19+(100-Models!$B$19*Models!$I$19)/(1+EXP(Models!$C$19*(ChartData!$B15-Models!$E$19+Models!$B$5*ChartData!$B15*Models!$F$19+Models!$B$4*Models!$G$19))) -> 92.217014 | W15: =Models!$B$56*EXP(-EXP(Models!$D$56*(ChartData!B15+Models!$C$56+Models!$B$5*Models!$E$56+Models!$B$4*Models!$F$56))) -> 80.368438 | X15: =Models!$B$20*Models!$I$20+(100-Models!$B$20*Models!$I$20)/(1+EXP(Models!$C$20*(ChartData!$B15-Models!$E$20+Models!$B$5*ChartData!$B15*Models!$F$20+Models!$B$4*Models!$G$20))) -> 91.840604 | Y15: =Models!$B$57*EXP(-EXP(Models!$D$57*(ChartData!B15+Models!$C$57+Models!$B$5*Models!$E$57+Models!$B$4*Models!$F$57))) -> 83.947141 | Z15: =Models!$B$21*Models!$I$21+(100-Models!$B$21*Models!$I$21)/(1+EXP(Models!$C$21*(ChartData!$B15-Models!$E$21+Models!$B$5*ChartData!$B15*Models!$F$21+Models!$B$4*Models!$G$21))) -> 92.963135 | AA15: =Models!$B$58*EXP(-EXP(Models!$D$58*(ChartData!B15+Models!$C$58+Models!$B$5*Models!$E$58+Models!$B$4*Models!$F$58))) -> 84.426963 | AB15: =200/(1+EXP(Models!$D$22*((Models!$E$22*Models!$B$4+Models!$B$5)*ChartData!B15))) -> 99.02295 | AC15: =100*EXP(-EXP(Models!$D$59*(ChartData!B15-Models!$C$59+Models!$E$59*Models!$B$4+Models!$F$59*Models!$B$5))) -> 73.543218 | AD15: =200/(1+EXP(Models!$D$23*((Models!$E$23*Models!$B$4+Models!$B$5)*ChartData!B15))) -> 98.581593 | AE15: =100*EXP(-EXP(Models!$D$60*(ChartData!B15-Models!$C$60+Models!$E$60*Models!$B$4+Models!$F$60*Models!$B$5))) -> 76.59659 | AF15: =200/(1+EXP(Models!$D$24*((Models!$E$24*Models!$B$4+Models!$B$5)*ChartData!B15))) -> 98.440462 | AG15: =100*EXP(-EXP(Models!$D$61*(ChartData!B15-Models!$C$61+Models!$E$61*Models!$B$4+Models!$F$61*Models!$B$5))) -> 77.250205 | AH15: =IF('Front Page'!$C$31>0,1-'Front Page'!$C$31,"") -> 0.995 | AI15: =Models!$B$25*Models!$I$25+(200-Models!$B$25*Models!$I$25)/(1+EXP(Models!$C$25*B15*(Models!$B$4*Models!$F$25+Models!$B$5+Models!$I$25*Models!$G$25))) -> 98.66981 | AJ15: =100*EXP(-EXP(Models!$D$62*(ChartData!B15-Models!$C$62+Models!$E$62*Models!$B$4+Models!$F$62*Models!$B$5))) -> 80.368245 | AK15: =Models!$B$26*Models!$I$26+(200-Models!$B$26*Models!$I$26)/(1+EXP(Models!$C$26*B15*(Models!$B$4*Models!$F$26+Models!$B$5+Models!$I$26*Models!$G$26))) -> 98.115996 | AL15: =100*EXP(-EXP(Models!$D$63*(ChartData!B15-Models!$C$63+Models!$E$63*Models!$B$4+Models!$F$63*Models!$B$5))) -> 83.94684 | AM15: =Models!$B$27*Models!$I$27+(200-Models!$B$27*Models!$I$27)/(1+EXP(Models!$C$27*B15*(Models!$B$4*Models!$F$27+Models!$B$5+Models!$I$27*Models!$G$27))) -> 102.32669 | AN15: =100*EXP(-EXP(Models!$D$64*(ChartData!B15-Models!$C$64+Models!$E$64*Models!$B$4+Models!$F$64*Models!$B$5))) -> 84.426724 | AO15: =Models!$B$28*Models!$I$28+(200-Models!$B$28*Models!$I$28)/(1+EXP(Models!$C$28*B15*(Models!$B$4*Models!$F$28+Models!$B$5+Models!$I$28*Models!$G$28))) -> 98.466642 | AP15: =100*EXP(-EXP(Models!$D$65*(ChartData!B15-Models!$C$65+Models!$E$65*Models!$B$4+Models!$F$65*Models!$B$5))) -> 46.883616 | AQ15: =Models!$B$29*Models!$I$29+(200-Models!$B$29*Models!$I$29)/(1+EXP(Models!$C$29*B15*(Models!$B$4*Models!$F$29+Models!$B$5+Models!$I$29*Models!$G$29))) -> 97.749328 | AR15: =100*EXP(-EXP(Models!$D$66*(ChartData!B15-Models!$C$66+Models!$E$66*Models!$B$4+Models!$F$66*Models!$B$5))) -> 63.555977 | AS15: =Models!$B$30*Models!$I$30+(200-Models!$B$30*Models!$I$30)/(1+EXP(Models!$C$30*B15*(Models!$B$4*Models!$F$30+Models!$B$5+Models!$I$30*Models!$G$30))) -> 102.01023 | AT15: =100*EXP(-EXP(Models!$D$67*(ChartData!B15-Models!$C$67+Models!$E$67*Models!$B$4+Models!$F$67*Models!$B$5))) -> 55.297228
A16: Multi-species 12 | B16: 160 | C16: =1-'Front Page'!$C$30 -> 0.99630303 | D16: =IF($A$4=1,F16,IF($A$4=2,AB16,IF($A$4=4,AF16,IF($A$4=5,N16,IF($A$4=3,AD16,IF($A$4=6,AQ16,IF($A$4=7,AO16,IF($A$4=8,AS16,IF($A$4=9,AI16,IF($A$4=10,AK16,IF($A$4=11,AM16))))))))))) -> 97.427936 | E16: =IF($A$62="reversed",NA(),IF($A$4=1,G16,IF($A$4=2,AC16,IF($A$4=4,AG16,IF($A$4=5,O16,IF($A$4=3,AE16,IF($A$4=6,AR16,IF($A$4=7,AP16,IF($A$4=8,AT16,IF($A$4=9,AJ16,IF($A$4=10,AL16,IF($A$4=11,AN16)))))))))))) -> 66.949307 | F16: =Equations!$E$4/(1+EXP(Equations!$F$4*ChartData!B16*(Equations!$G$4*Equations!$C$4+Equations!$D$4))) -> 98.471983 | G16: =Equations!$E$7*EXP(-EXP(-Equations!$F$7*(ChartData!B16-Equations!$G$7+Equations!$H$7*Equations!$C$7+Equations!$I$7*Equations!$D$7))) -> 82.647978 | H16: =Models!$B$13+Models!$C$13*EXP(Models!$D$13*ChartData!B16+(Models!$E$13*ChartData!B16*Models!$E$3)) -> 95.289325 | I16: =Models!$B$50*EXP(-EXP(Models!$D$50*(ChartData!B16+Models!$C$50-(Models!$E$50*Models!$B$5)))) -> 71.210168 | J16: =Models!$B$12/(1+EXP(Models!$D$12*(ChartData!B16-Models!$C$12+Models!$E$12*ChartData!B16*Models!$B$5))) -> 120.97324 | K16: =Models!$B$49*EXP(-EXP(Models!$D$49*(ChartData!B16-Models!$C$49+(Models!$E$49*ChartData!B16*Models!$B$5)))) -> 21.015896 | L16: =Models!$B$15/(1+EXP(Models!$D$15*(ChartData!B16*(1+Models!$D$15*Models!$B$5)-Models!$C$15))) -> 83.326907 | M16: =Models!$B$52*EXP(-EXP(Models!$D$52*(ChartData!B16*(1+Models!$D$52*Models!$B$5)-Models!$C$52))) -> 25.0786 | N16: =Models!$B$15/(1+EXP(Models!$D$15*(ChartData!B16-Models!$D$15+Models!$E$15*ChartData!B16*Models!$B$5))) -> 79.688602 | O16: =Models!$B$52*EXP(-EXP(Models!$D$52*(ChartData!B16-Models!$C$52+Models!$E$52*ChartData!B16*Models!$B$5))) -> 29.604206 | P16: =Models!$B$16*Models!$I$16+(100-Models!$B$16*Models!$I$16)/(1+EXP(Models!$C$16*(ChartData!B16-Models!$E$16+Models!$B$4*Models!$F$16+Models!$B$4*Models!$G$16*Models!$I$16+Models!$B$5*Models!$H$16))) -> 98.221567 | Q16: =Models!$B$53*EXP(-EXP(Models!$D$53*(ChartData!B16+Models!$C$53+Models!$B$5*Models!$E$53+Models!$B$4*Models!$F$53))) -> 63.505364 | R16: =Models!$B$17*Models!$I$17+(100-Models!$B$17*Models!$I$17)/(1+EXP(Models!$C$17*(ChartData!B16-Models!$E$17+Models!$B$4*Models!$F$17+Models!$B$4*Models!$G$17*Models!$I$17+Models!$B$5*Models!$H$17))) -> 98.582658 | S16: =Models!$B$54*EXP(-EXP(Models!$D$54*(ChartData!B16+Models!$C$54+Models!$B$5*Models!$E$54+Models!$B$4*Models!$F$54))) -> 49.508209 | T16: =Models!$B$18*Models!$I$18+(100-Models!$B$18*Models!$I$18)/(1+EXP(Models!$C$18*(ChartData!B16-Models!$E$18+Models!$B$4*Models!$F$18+Models!$B$4*Models!$G$18*Models!$I$18+Models!$B$5*Models!$H$18))) -> 98.396023 | U16: =Models!$B$55*EXP(-EXP(Models!$D$55*(ChartData!B16+Models!$C$55+Models!$B$5*Models!$E$55+Models!$B$4*Models!$F$55))) -> 66.950008 | V16: =Models!$B$19*Models!$I$19+(100-Models!$B$19*Models!$I$19)/(1+EXP(Models!$C$19*(ChartData!$B16-Models!$E$19+Models!$B$5*ChartData!$B16*Models!$F$19+Models!$B$4*Models!$G$19))) -> 92.127099 | W16: =Models!$B$56*EXP(-EXP(Models!$D$56*(ChartData!B16+Models!$C$56+Models!$B$5*Models!$E$56+Models!$B$4*Models!$F$56))) -> 81.318522 | X16: =Models!$B$20*Models!$I$20+(100-Models!$B$20*Models!$I$20)/(1+EXP(Models!$C$20*(ChartData!$B16-Models!$E$20+Models!$B$5*ChartData!$B16*Models!$F$20+Models!$B$4*Models!$G$20))) -> 91.701847 | Y16: =Models!$B$57*EXP(-EXP(Models!$D$57*(ChartData!B16+Models!$C$57+Models!$B$5*Models!$E$57+Models!$B$4*Models!$F$57))) -> 85.133816 | Z16: =Models!$B$21*Models!$I$21+(100-Models!$B$21*Models!$I$21)/(1+EXP(Models!$C$21*(ChartData!$B16-Models!$E$21+Models!$B$5*ChartData!$B16*Models!$F$21+Models!$B$4*Models!$G$21))) -> 92.831486 | AA16: =Models!$B$58*EXP(-EXP(Models!$D$58*(ChartData!B16+Models!$C$58+Models!$B$5*Models!$E$58+Models!$B$4*Models!$F$58))) -> 85.642965 | AB16: =200/(1+EXP(Models!$D$22*((Models!$E$22*Models!$B$4+Models!$B$5)*ChartData!B16))) -> 98.883383 | AC16: =100*EXP(-EXP(Models!$D$59*(ChartData!B16-Models!$C$59+Models!$E$59*Models!$B$4+Models!$F$59*Models!$B$5))) -> 74.406095 | AD16: =200/(1+EXP(Models!$D$23*((Models!$E$23*Models!$B$4+Models!$B$5)*ChartData!B16))) -> 98.378997 | AE16: =100*EXP(-EXP(Models!$D$60*(ChartData!B16-Models!$C$60+Models!$E$60*Models!$B$4+Models!$F$60*Models!$B$5))) -> 77.744084 | AF16: =200/(1+EXP(Models!$D$24*((Models!$E$24*Models!$B$4+Models!$B$5)*ChartData!B16))) -> 98.217715 | AG16: =100*EXP(-EXP(Models!$D$61*(ChartData!B16-Models!$C$61+Models!$E$61*Models!$B$4+Models!$F$61*Models!$B$5))) -> 78.452456 | AH16: =IF('Front Page'!$C$31>0,1-'Front Page'!$C$31,"") -> 0.995 | AI16: =Models!$B$25*Models!$I$25+(200-Models!$B$25*Models!$I$25)/(1+EXP(Models!$C$25*B16*(Models!$B$4*Models!$F$25+Models!$B$5+Models!$I$25*Models!$G$25))) -> 98.47981 | AJ16: =100*EXP(-EXP(Models!$D$62*(ChartData!B16-Models!$C$62+Models!$E$62*Models!$B$4+Models!$F$62*Models!$B$5))) -> 81.318336 | AK16: =Models!$B$26*Models!$I$26+(200-Models!$B$26*Models!$I$26)/(1+EXP(Models!$C$26*B16*(Models!$B$4*Models!$F$26+Models!$B$5+Models!$I$26*Models!$G$26))) -> 97.84693 | AL16: =100*EXP(-EXP(Models!$D$63*(ChartData!B16-Models!$C$63+Models!$E$63*Models!$B$4+Models!$F$63*Models!$B$5))) -> 85.133508 | AM16: =Models!$B$27*Models!$I$27+(200-Models!$B$27*Models!$I$27)/(1+EXP(Models!$C$27*B16*(Models!$B$4*Models!$F$27+Models!$B$5+Models!$I$27*Models!$G$27))) -> 101.54886 | AN16: =100*EXP(-EXP(Models!$D$64*(ChartData!B16-Models!$C$64+Models!$E$64*Models!$B$4+Models!$F$64*Models!$B$5))) -> 85.642744 | AO16: =Models!$B$28*Models!$I$28+(200-Models!$B$28*Models!$I$28)/(1+EXP(Models!$C$28*B16*(Models!$B$4*Models!$F$28+Models!$B$5+Models!$I$28*Models!$G$28))) -> 98.247632 | AP16: =100*EXP(-EXP(Models!$D$65*(ChartData!B16-Models!$C$65+Models!$E$65*Models!$B$4+Models!$F$65*Models!$B$5))) -> 49.514749 | AQ16: =Models!$B$29*Models!$I$29+(200-Models!$B$29*Models!$I$29)/(1+EXP(Models!$C$29*B16*(Models!$B$4*Models!$F$29+Models!$B$5+Models!$I$29*Models!$G$29))) -> 97.427936 | AR16: =100*EXP(-EXP(Models!$D$66*(ChartData!B16-Models!$C$66+Models!$E$66*Models!$B$4+Models!$F$66*Models!$B$5))) -> 66.949307 | AS16: =Models!$B$30*Models!$I$30+(200-Models!$B$30*Models!$I$30)/(1+EXP(Models!$C$30*B16*(Models!$B$4*Models!$F$30+Models!$B$5+Models!$I$30*Models!$G$30))) -> 101.60993 | AT16: =100*EXP(-EXP(Models!$D$67*(ChartData!B16-Models!$C$67+Models!$E$67*Models!$B$4+Models!$F$67*Models!$B$5))) -> 58.469181
A17: Multi-species 15.5 | B17: 180 | C17: =1-'Front Page'!$C$30 -> 0.99630303 | D17: =IF($A$4=1,F17,IF($A$4=2,AB17,IF($A$4=4,AF17,IF($A$4=5,N17,IF($A$4=3,AD17,IF($A$4=6,AQ17,IF($A$4=7,AO17,IF($A$4=8,AS17,IF($A$4=9,AI17,IF($A$4=10,AK17,IF($A$4=11,AM17))))))))))) -> 97.106597 | E17: =IF($A$62="reversed",NA(),IF($A$4=1,G17,IF($A$4=2,AC17,IF($A$4=4,AG17,IF($A$4=5,O17,IF($A$4=3,AE17,IF($A$4=6,AR17,IF($A$4=7,AP17,IF($A$4=8,AT17,IF($A$4=9,AJ17,IF($A$4=10,AL17,IF($A$4=11,AN17)))))))))))) -> 70.104096 | F17: =Equations!$E$4/(1+EXP(Equations!$F$4*ChartData!B17*(Equations!$G$4*Equations!$C$4+Equations!$D$4))) -> 98.281017 | G17: =Equations!$E$7*EXP(-EXP(-Equations!$F$7*(ChartData!B17-Equations!$G$7+Equations!$H$7*Equations!$C$7+Equations!$I$7*Equations!$D$7))) -> 83.67669 | H17: =Models!$B$13+Models!$C$13*EXP(Models!$D$13*ChartData!B17+(Models!$E$13*ChartData!B17*Models!$E$3)) -> 94.720065 | I17: =Models!$B$50*EXP(-EXP(Models!$D$50*(ChartData!B17+Models!$C$50-(Models!$E$50*Models!$B$5)))) -> 72.291445 | J17: =Models!$B$12/(1+EXP(Models!$D$12*(ChartData!B17-Models!$C$12+Models!$E$12*ChartData!B17*Models!$B$5))) -> 120.94441 | K17: =Models!$B$49*EXP(-EXP(Models!$D$49*(ChartData!B17-Models!$C$49+(Models!$E$49*ChartData!B17*Models!$B$5)))) -> 25.77493 | L17: =Models!$B$15/(1+EXP(Models!$D$15*(ChartData!B17*(1+Models!$D$15*Models!$B$5)-Models!$C$15))) -> 81.100608 | M17: =Models!$B$52*EXP(-EXP(Models!$D$52*(ChartData!B17*(1+Models!$D$52*Models!$B$5)-Models!$C$52))) -> 30.524569 | N17: =Models!$B$15/(1+EXP(Models!$D$15*(ChartData!B17-Models!$D$15+Models!$E$15*ChartData!B17*Models!$B$5))) -> 77.233444 | O17: =Models!$B$52*EXP(-EXP(Models!$D$52*(ChartData!B17-Models!$C$52+Models!$E$52*ChartData!B17*Models!$B$5))) -> 35.780705 | P17: =Models!$B$16*Models!$I$16+(100-Models!$B$16*Models!$I$16)/(1+EXP(Models!$C$16*(ChartData!B17-Models!$E$16+Models!$B$4*Models!$F$16+Models!$B$4*Models!$G$16*Models!$I$16+Models!$B$5*Models!$H$16))) -> 98.139734 | Q17: =Models!$B$53*EXP(-EXP(Models!$D$53*(ChartData!B17+Models!$C$53+Models!$B$5*Models!$E$53+Models!$B$4*Models!$F$53))) -> 66.639647 | R17: =Models!$B$17*Models!$I$17+(100-Models!$B$17*Models!$I$17)/(1+EXP(Models!$C$17*(ChartData!B17-Models!$E$17+Models!$B$4*Models!$F$17+Models!$B$4*Models!$G$17*Models!$I$17+Models!$B$5*Models!$H$17))) -> 98.53099 | S17: =Models!$B$54*EXP(-EXP(Models!$D$54*(ChartData!B17+Models!$C$54+Models!$B$5*Models!$E$54+Models!$B$4*Models!$F$54))) -> 52.081744 | T17: =Models!$B$18*Models!$I$18+(100-Models!$B$18*Models!$I$18)/(1+EXP(Models!$C$18*(ChartData!B17-Models!$E$18+Models!$B$4*Models!$F$18+Models!$B$4*Models!$G$18*Models!$I$18+Models!$B$5*Models!$H$18))) -> 98.308395 | U17: =Models!$B$55*EXP(-EXP(Models!$D$55*(ChartData!B17+Models!$C$55+Models!$B$5*Models!$E$55+Models!$B$4*Models!$F$55))) -> 70.104796 | V17: =Models!$B$19*Models!$I$19+(100-Models!$B$19*Models!$I$19)/(1+EXP(Models!$C$19*(ChartData!$B17-Models!$E$19+Models!$B$5*ChartData!$B17*Models!$F$19+Models!$B$4*Models!$G$19))) -> 92.036236 | W17: =Models!$B$56*EXP(-EXP(Models!$D$56*(ChartData!B17+Models!$C$56+Models!$B$5*Models!$E$56+Models!$B$4*Models!$F$56))) -> 82.227855 | X17: =Models!$B$20*Models!$I$20+(100-Models!$B$20*Models!$I$20)/(1+EXP(Models!$C$20*(ChartData!$B17-Models!$E$20+Models!$B$5*ChartData!$B17*Models!$F$20+Models!$B$4*Models!$G$20))) -> 91.560946 | Y17: =Models!$B$57*EXP(-EXP(Models!$D$57*(ChartData!B17+Models!$C$57+Models!$B$5*Models!$E$57+Models!$B$4*Models!$F$57))) -> 86.240102 | Z17: =Models!$B$21*Models!$I$21+(100-Models!$B$21*Models!$I$21)/(1+EXP(Models!$C$21*(ChartData!$B17-Models!$E$21+Models!$B$5*ChartData!$B17*Models!$F$21+Models!$B$4*Models!$G$21))) -> 92.697598 | AA17: =Models!$B$58*EXP(-EXP(Models!$D$58*(ChartData!B17+Models!$C$58+Models!$B$5*Models!$E$58+Models!$B$4*Models!$F$58))) -> 86.771597 | AB17: =200/(1+EXP(Models!$D$22*((Models!$E$22*Models!$B$4+Models!$B$5)*ChartData!B17))) -> 98.743819 | AC17: =100*EXP(-EXP(Models!$D$59*(ChartData!B17-Models!$C$59+Models!$E$59*Models!$B$4+Models!$F$59*Models!$B$5))) -> 75.245771 | AD17: =200/(1+EXP(Models!$D$23*((Models!$E$23*Models!$B$4+Models!$B$5)*ChartData!B17))) -> 98.176414 | AE17: =100*EXP(-EXP(Models!$D$60*(ChartData!B17-Models!$C$60+Models!$E$60*Models!$B$4+Models!$F$60*Models!$B$5))) -> 78.843354 | AF17: =200/(1+EXP(Models!$D$24*((Models!$E$24*Models!$B$4+Models!$B$5)*ChartData!B17))) -> 97.994986 | AG17: =100*EXP(-EXP(Models!$D$61*(ChartData!B17-Models!$C$61+Models!$E$61*Models!$B$4+Models!$F$61*Models!$B$5))) -> 79.599837 | AH17: =IF('Front Page'!$C$31>0,1-'Front Page'!$C$31,"") -> 0.995 | AI17: =Models!$B$25*Models!$I$25+(200-Models!$B$25*Models!$I$25)/(1+EXP(Models!$C$25*B17*(Models!$B$4*Models!$F$25+Models!$B$5+Models!$I$25*Models!$G$25))) -> 98.289822 | AJ17: =100*EXP(-EXP(Models!$D$62*(ChartData!B17-Models!$C$62+Models!$E$62*Models!$B$4+Models!$F$62*Models!$B$5))) -> 82.227677 | AK17: =Models!$B$26*Models!$I$26+(200-Models!$B$26*Models!$I$26)/(1+EXP(Models!$C$26*B17*(Models!$B$4*Models!$F$26+Models!$B$5+Models!$I$26*Models!$G$26))) -> 97.577896 | AL17: =100*EXP(-EXP(Models!$D$63*(ChartData!B17-Models!$C$63+Models!$E$63*Models!$B$4+Models!$F$63*Models!$B$5))) -> 86.239789 | AM17: =Models!$B$27*Models!$I$27+(200-Models!$B$27*Models!$I$27)/(1+EXP(Models!$C$27*B17*(Models!$B$4*Models!$F$27+Models!$B$5+Models!$I$27*Models!$G$27))) -> 100.77192 | AN17: =100*EXP(-EXP(Models!$D$64*(ChartData!B17-Models!$C$64+Models!$E$64*Models!$B$4+Models!$F$64*Models!$B$5))) -> 86.771391 | AO17: =Models!$B$28*Models!$I$28+(200-Models!$B$28*Models!$I$28)/(1+EXP(Models!$C$28*B17*(Models!$B$4*Models!$F$28+Models!$B$5+Models!$I$28*Models!$G$28))) -> 98.02864 | AP17: =100*EXP(-EXP(Models!$D$65*(ChartData!B17-Models!$C$65+Models!$E$65*Models!$B$4+Models!$F$65*Models!$B$5))) -> 52.088128 | AQ17: =Models!$B$29*Models!$I$29+(200-Models!$B$29*Models!$I$29)/(1+EXP(Models!$C$29*B17*(Models!$B$4*Models!$F$29+Models!$B$5+Models!$I$29*Models!$G$29))) -> 97.106597 | AR17: =100*EXP(-EXP(Models!$D$66*(ChartData!B17-Models!$C$66+Models!$E$66*Models!$B$4+Models!$F$66*Models!$B$5))) -> 70.104096 | AS17: =Models!$B$30*Models!$I$30+(200-Models!$B$30*Models!$I$30)/(1+EXP(Models!$C$30*B17*(Models!$B$4*Models!$F$30+Models!$B$5+Models!$I$30*Models!$G$30))) -> 101.20974 | AT17: =100*EXP(-EXP(Models!$D$67*(ChartData!B17-Models!$C$67+Models!$E$67*Models!$B$4+Models!$F$67*Models!$B$5))) -> 61.499288
A18: Multi-species 15/32 | B18: 200 | C18: =1-'Front Page'!$C$30 -> 0.99630303 | D18: =IF($A$4=1,F18,IF($A$4=2,AB18,IF($A$4=4,AF18,IF($A$4=5,N18,IF($A$4=3,AD18,IF($A$4=6,AQ18,IF($A$4=7,AO18,IF($A$4=8,AS18,IF($A$4=9,AI18,IF($A$4=10,AK18,IF($A$4=11,AM18))))))))))) -> 96.785319 | E18: =IF($A$62="reversed",NA(),IF($A$4=1,G18,IF($A$4=2,AC18,IF($A$4=4,AG18,IF($A$4=5,O18,IF($A$4=3,AE18,IF($A$4=6,AR18,IF($A$4=7,AP18,IF($A$4=8,AT18,IF($A$4=9,AJ18,IF($A$4=10,AL18,IF($A$4=11,AN18)))))))))))) -> 73.02067 | F18: =Equations!$E$4/(1+EXP(Equations!$F$4*ChartData!B18*(Equations!$G$4*Equations!$C$4+Equations!$D$4))) -> 98.090063 | G18: =Equations!$E$7*EXP(-EXP(-Equations!$F$7*(ChartData!B18-Equations!$G$7+Equations!$H$7*Equations!$C$7+Equations!$I$7*Equations!$D$7))) -> 84.650213 | H18: =Models!$B$13+Models!$C$13*EXP(Models!$D$13*ChartData!B18+(Models!$E$13*ChartData!B18*Models!$E$3)) -> 94.155046 | I18: =Models!$B$50*EXP(-EXP(Models!$D$50*(ChartData!B18+Models!$C$50-(Models!$E$50*Models!$B$5)))) -> 73.340069 | J18: =Models!$B$12/(1+EXP(Models!$D$12*(ChartData!B18-Models!$C$12+Models!$E$12*ChartData!B18*Models!$B$5))) -> 120.88453 | K18: =Models!$B$49*EXP(-EXP(Models!$D$49*(ChartData!B18-Models!$C$49+(Models!$E$49*ChartData!B18*Models!$B$5)))) -> 30.778441 | L18: =Models!$B$15/(1+EXP(Models!$D$15*(ChartData!B18*(1+Models!$D$15*Models!$B$5)-Models!$C$15))) -> 78.89357 | M18: =Models!$B$52*EXP(-EXP(Models!$D$52*(ChartData!B18*(1+Models!$D$52*Models!$B$5)-Models!$C$52))) -> 36.130162 | N18: =Models!$B$15/(1+EXP(Models!$D$15*(ChartData!B18-Models!$D$15+Models!$E$15*ChartData!B18*Models!$B$5))) -> 74.806896 | O18: =Models!$B$52*EXP(-EXP(Models!$D$52*(ChartData!B18-Models!$C$52+Models!$E$52*ChartData!B18*Models!$B$5))) -> 41.988782 | P18: =Models!$B$16*Models!$I$16+(100-Models!$B$16*Models!$I$16)/(1+EXP(Models!$C$16*(ChartData!B18-Models!$E$16+Models!$B$4*Models!$F$16+Models!$B$4*Models!$G$16*Models!$I$16+Models!$B$5*Models!$H$16))) -> 98.054211 | Q18: =Models!$B$53*EXP(-EXP(Models!$D$53*(ChartData!B18+Models!$C$53+Models!$B$5*Models!$E$53+Models!$B$4*Models!$F$53))) -> 69.572092 | R18: =Models!$B$17*Models!$I$17+(100-Models!$B$17*Models!$I$17)/(1+EXP(Models!$C$17*(ChartData!B18-Models!$E$17+Models!$B$4*Models!$F$17+Models!$B$4*Models!$G$17*Models!$I$17+Models!$B$5*Models!$H$17))) -> 98.477467 | S18: =Models!$B$54*EXP(-EXP(Models!$D$54*(ChartData!B18+Models!$C$54+Models!$B$5*Models!$E$54+Models!$B$4*Models!$F$54))) -> 54.589286 | T18: =Models!$B$18*Models!$I$18+(100-Models!$B$18*Models!$I$18)/(1+EXP(Models!$C$18*(ChartData!B18-Models!$E$18+Models!$B$4*Models!$F$18+Models!$B$4*Models!$G$18*Models!$I$18+Models!$B$5*Models!$H$18))) -> 98.216073 | U18: =Models!$B$55*EXP(-EXP(Models!$D$55*(ChartData!B18+Models!$C$55+Models!$B$5*Models!$E$55+Models!$B$4*Models!$F$55))) -> 73.021361 | V18: =Models!$B$19*Models!$I$19+(100-Models!$B$19*Models!$I$19)/(1+EXP(Models!$C$19*(ChartData!$B18-Models!$E$19+Models!$B$5*ChartData!$B18*Models!$F$19+Models!$B$4*Models!$G$19))) -> 91.944415 | W18: =Models!$B$56*EXP(-EXP(Models!$D$56*(ChartData!B18+Models!$C$56+Models!$B$5*Models!$E$56+Models!$B$4*Models!$F$56))) -> 83.09765 | X18: =Models!$B$20*Models!$I$20+(100-Models!$B$20*Models!$I$20)/(1+EXP(Models!$C$20*(ChartData!$B18-Models!$E$20+Models!$B$5*ChartData!$B18*Models!$F$20+Models!$B$4*Models!$G$20))) -> 91.417877 | Y18: =Models!$B$57*EXP(-EXP(Models!$D$57*(ChartData!B18+Models!$C$57+Models!$B$5*Models!$E$57+Models!$B$4*Models!$F$57))) -> 87.27033 | Z18: =Models!$B$21*Models!$I$21+(100-Models!$B$21*Models!$I$21)/(1+EXP(Models!$C$21*(ChartData!$B18-Models!$E$21+Models!$B$5*ChartData!$B18*Models!$F$21+Models!$B$4*Models!$G$21))) -> 92.561443 | AA18: =Models!$B$58*EXP(-EXP(Models!$D$58*(ChartData!B18+Models!$C$58+Models!$B$5*Models!$E$58+Models!$B$4*Models!$F$58))) -> 87.817924 | AB18: =200/(1+EXP(Models!$D$22*((Models!$E$22*Models!$B$4+Models!$B$5)*ChartData!B18))) -> 98.604261 | AC18: =100*EXP(-EXP(Models!$D$59*(ChartData!B18-Models!$C$59+Models!$E$59*Models!$B$4+Models!$F$59*Models!$B$5))) -> 76.062516 | AD18: =200/(1+EXP(Models!$D$23*((Models!$E$23*Models!$B$4+Models!$B$5)*ChartData!B18))) -> 97.973846 | AE18: =100*EXP(-EXP(Models!$D$60*(ChartData!B18-Models!$C$60+Models!$E$60*Models!$B$4+Models!$F$60*Models!$B$5))) -> 79.895578 | AF18: =200/(1+EXP(Models!$D$24*((Models!$E$24*Models!$B$4+Models!$B$5)*ChartData!B18))) -> 97.772277 | AG18: =100*EXP(-EXP(Models!$D$61*(ChartData!B18-Models!$C$61+Models!$E$61*Models!$B$4+Models!$F$61*Models!$B$5))) -> 80.693871 | AH18: =IF('Front Page'!$C$31>0,1-'Front Page'!$C$31,"") -> 0.995 | AI18: =Models!$B$25*Models!$I$25+(200-Models!$B$25*Models!$I$25)/(1+EXP(Models!$C$25*B18*(Models!$B$4*Models!$F$25+Models!$B$5+Models!$I$25*Models!$G$25))) -> 98.099845 | AJ18: =100*EXP(-EXP(Models!$D$62*(ChartData!B18-Models!$C$62+Models!$E$62*Models!$B$4+Models!$F$62*Models!$B$5))) -> 83.097481 | AK18: =Models!$B$26*Models!$I$26+(200-Models!$B$26*Models!$I$26)/(1+EXP(Models!$C$26*B18*(Models!$B$4*Models!$F$26+Models!$B$5+Models!$I$26*Models!$G$26))) -> 97.308897 | AL18: =100*EXP(-EXP(Models!$D$63*(ChartData!B18-Models!$C$63+Models!$E$63*Models!$B$4+Models!$F$63*Models!$B$5))) -> 87.270016 | AM18: =Models!$B$27*Models!$I$27+(200-Models!$B$27*Models!$I$27)/(1+EXP(Models!$C$27*B18*(Models!$B$4*Models!$F$27+Models!$B$5+Models!$I$27*Models!$G$27))) -> 99.995978 | AN18: =100*EXP(-EXP(Models!$D$64*(ChartData!B18-Models!$C$64+Models!$E$64*Models!$B$4+Models!$F$64*Models!$B$5))) -> 87.817733 | AO18: =Models!$B$28*Models!$I$28+(200-Models!$B$28*Models!$I$28)/(1+EXP(Models!$C$28*B18*(Models!$B$4*Models!$F$28+Models!$B$5+Models!$I$28*Models!$G$28))) -> 97.809667 | AP18: =100*EXP(-EXP(Models!$D$65*(ChartData!B18-Models!$C$65+Models!$E$65*Models!$B$4+Models!$F$65*Models!$B$5))) -> 54.595495 | AQ18: =Models!$B$29*Models!$I$29+(200-Models!$B$29*Models!$I$29)/(1+EXP(Models!$C$29*B18*(Models!$B$4*Models!$F$29+Models!$B$5+Models!$I$29*Models!$G$29))) -> 96.785319 | AR18: =100*EXP(-EXP(Models!$D$66*(ChartData!B18-Models!$C$66+Models!$E$66*Models!$B$4+Models!$F$66*Models!$B$5))) -> 73.02067 | AS18: =Models!$B$30*Models!$I$30+(200-Models!$B$30*Models!$I$30)/(1+EXP(Models!$C$30*B18*(Models!$B$4*Models!$F$30+Models!$B$5+Models!$I$30*Models!$G$30))) -> 100.80968 | AT18: =100*EXP(-EXP(Models!$D$67*(ChartData!B18-Models!$C$67+Models!$E$67*Models!$B$4+Models!$F$67*Models!$B$5))) -> 64.379454
A19: Sunflower (2019) 12 | B19: 220 | C19: =1-'Front Page'!$C$30 -> 0.99630303 | D19: =IF($A$4=1,F19,IF($A$4=2,AB19,IF($A$4=4,AF19,IF($A$4=5,N19,IF($A$4=3,AD19,IF($A$4=6,AQ19,IF($A$4=7,AO19,IF($A$4=8,AS19,IF($A$4=9,AI19,IF($A$4=10,AK19,IF($A$4=11,AM19))))))))))) -> 96.464106 | E19: =IF($A$62="reversed",NA(),IF($A$4=1,G19,IF($A$4=2,AC19,IF($A$4=4,AG19,IF($A$4=5,O19,IF($A$4=3,AE19,IF($A$4=6,AR19,IF($A$4=7,AP19,IF($A$4=8,AT19,IF($A$4=9,AJ19,IF($A$4=10,AL19,IF($A$4=11,AN19)))))))))))) -> 75.703632 | F19: =Equations!$E$4/(1+EXP(Equations!$F$4*ChartData!B19*(Equations!$G$4*Equations!$C$4+Equations!$D$4))) -> 97.899123 | G19: =Equations!$E$7*EXP(-EXP(-Equations!$F$7*(ChartData!B19-Equations!$G$7+Equations!$H$7*Equations!$C$7+Equations!$I$7*Equations!$D$7))) -> 85.570791 | H19: =Models!$B$13+Models!$C$13*EXP(Models!$D$13*ChartData!B19+(Models!$E$13*ChartData!B19*Models!$E$3)) -> 93.594239 | I19: =Models!$B$50*EXP(-EXP(Models!$D$50*(ChartData!B19+Models!$C$50-(Models!$E$50*Models!$B$5)))) -> 74.356359 | J19: =Models!$B$12/(1+EXP(Models!$D$12*(ChartData!B19-Models!$C$12+Models!$E$12*ChartData!B19*Models!$B$5))) -> 120.7603 | K19: =Models!$B$49*EXP(-EXP(Models!$D$49*(ChartData!B19-Models!$C$49+(Models!$E$49*ChartData!B19*Models!$B$5)))) -> 35.909826 | L19: =Models!$B$15/(1+EXP(Models!$D$15*(ChartData!B19*(1+Models!$D$15*Models!$B$5)-Models!$C$15))) -> 76.707845 | M19: =Models!$B$52*EXP(-EXP(Models!$D$52*(ChartData!B19*(1+Models!$D$52*Models!$B$5)-Models!$C$52))) -> 41.752954 | N19: =Models!$B$15/(1+EXP(Models!$D$15*(ChartData!B19-Models!$D$15+Models!$E$15*ChartData!B19*Models!$B$5))) -> 72.411619 | O19: =Models!$B$52*EXP(-EXP(Models!$D$52*(ChartData!B19-Models!$C$52+Models!$E$52*ChartData!B19*Models!$B$5))) -> 48.061894 | P19: =Models!$B$16*Models!$I$16+(100-Models!$B$16*Models!$I$16)/(1+EXP(Models!$C$16*(ChartData!B19-Models!$E$16+Models!$B$4*Models!$F$16+Models!$B$4*Models!$G$16*Models!$I$16+Models!$B$5*Models!$H$16))) -> 97.964837 | Q19: =Models!$B$53*EXP(-EXP(Models!$D$53*(ChartData!B19+Models!$C$53+Models!$B$5*Models!$E$53+Models!$B$4*Models!$F$53))) -> 72.30246 | R19: =Models!$B$17*Models!$I$17+(100-Models!$B$17*Models!$I$17)/(1+EXP(Models!$C$17*(ChartData!B19-Models!$E$17+Models!$B$4*Models!$F$17+Models!$B$4*Models!$G$17*Models!$I$17+Models!$B$5*Models!$H$17))) -> 98.422025 | S19: =Models!$B$54*EXP(-EXP(Models!$D$54*(ChartData!B19+Models!$C$54+Models!$B$5*Models!$E$54+Models!$B$4*Models!$F$54))) -> 57.023945 | T19: =Models!$B$18*Models!$I$18+(100-Models!$B$18*Models!$I$18)/(1+EXP(Models!$C$18*(ChartData!B19-Models!$E$18+Models!$B$4*Models!$F$18+Models!$B$4*Models!$G$18*Models!$I$18+Models!$B$5*Models!$H$18))) -> 98.118818 | U19: =Models!$B$55*EXP(-EXP(Models!$D$55*(ChartData!B19+Models!$C$55+Models!$B$5*Models!$E$55+Models!$B$4*Models!$F$55))) -> 75.704308 | V19: =Models!$B$19*Models!$I$19+(100-Models!$B$19*Models!$I$19)/(1+EXP(Models!$C$19*(ChartData!$B19-Models!$E$19+Models!$B$5*ChartData!$B19*Models!$F$19+Models!$B$4*Models!$G$19))) -> 91.85163 | W19: =Models!$B$56*EXP(-EXP(Models!$D$56*(ChartData!B19+Models!$C$56+Models!$B$5*Models!$E$56+Models!$B$4*Models!$F$56))) -> 83.929143 | X19: =Models!$B$20*Models!$I$20+(100-Models!$B$20*Models!$I$20)/(1+EXP(Models!$C$20*(ChartData!$B19-Models!$E$20+Models!$B$5*ChartData!$B19*Models!$F$20+Models!$B$4*Models!$G$20))) -> 91.272614 | Y19: =Models!$B$57*EXP(-EXP(Models!$D$57*(ChartData!B19+Models!$C$57+Models!$B$5*Models!$E$57+Models!$B$4*Models!$F$57))) -> 88.228777 | Z19: =Models!$B$21*Models!$I$21+(100-Models!$B$21*Models!$I$21)/(1+EXP(Models!$C$21*(ChartData!$B19-Models!$E$21+Models!$B$5*ChartData!$B19*Models!$F$21+Models!$B$4*Models!$G$21))) -> 92.422991 | AA19: =Models!$B$58*EXP(-EXP(Models!$D$58*(ChartData!B19+Models!$C$58+Models!$B$5*Models!$E$58+Models!$B$4*Models!$F$58))) -> 88.786921 | AB19: =200/(1+EXP(Models!$D$22*((Models!$E$22*Models!$B$4+Models!$B$5)*ChartData!B19))) -> 98.464708 | AC19: =100*EXP(-EXP(Models!$D$59*(ChartData!B19-Models!$C$59+Models!$E$59*Models!$B$4+Models!$F$59*Models!$B$5))) -> 76.856624 | AD19: =200/(1+EXP(Models!$D$23*((Models!$E$23*Models!$B$4+Models!$B$5)*ChartData!B19))) -> 97.771295 | AE19: =100*EXP(-EXP(Models!$D$60*(ChartData!B19-Models!$C$60+Models!$E$60*Models!$B$4+Models!$F$60*Models!$B$5))) -> 80.902004 | AF19: =200/(1+EXP(Models!$D$24*((Models!$E$24*Models!$B$4+Models!$B$5)*ChartData!B19))) -> 97.549589 | AG19: =100*EXP(-EXP(Models!$D$61*(ChartData!B19-Models!$C$61+Models!$E$61*Models!$B$4+Models!$F$61*Models!$B$5))) -> 81.73616 | AH19: =IF('Front Page'!$C$31>0,1-'Front Page'!$C$31,"") -> 0.995 | AI19: =Models!$B$25*Models!$I$25+(200-Models!$B$25*Models!$I$25)/(1+EXP(Models!$C$25*B19*(Models!$B$4*Models!$F$25+Models!$B$5+Models!$I$25*Models!$G$25))) -> 97.909883 | AJ19: =100*EXP(-EXP(Models!$D$62*(ChartData!B19-Models!$C$62+Models!$E$62*Models!$B$4+Models!$F$62*Models!$B$5))) -> 83.928981 | AK19: =Models!$B$26*Models!$I$26+(200-Models!$B$26*Models!$I$26)/(1+EXP(Models!$C$26*B19*(Models!$B$4*Models!$F$26+Models!$B$5+Models!$I$26*Models!$G$26))) -> 97.039937 | AL19: =100*EXP(-EXP(Models!$D$63*(ChartData!B19-Models!$C$63+Models!$E$63*Models!$B$4+Models!$F$63*Models!$B$5))) -> 88.228462 | AM19: =Models!$B$27*Models!$I$27+(200-Models!$B$27*Models!$I$27)/(1+EXP(Models!$C$27*B19*(Models!$B$4*Models!$F$27+Models!$B$5+Models!$I$27*Models!$G$27))) -> 99.221147 | AN19: =100*EXP(-EXP(Models!$D$64*(ChartData!B19-Models!$C$64+Models!$E$64*Models!$B$4+Models!$F$64*Models!$B$5))) -> 88.786745 | AO19: =Models!$B$28*Models!$I$28+(200-Models!$B$28*Models!$I$28)/(1+EXP(Models!$C$28*B19*(Models!$B$4*Models!$F$28+Models!$B$5+Models!$I$28*Models!$G$28))) -> 97.590714 | AP19: =100*EXP(-EXP(Models!$D$65*(ChartData!B19-Models!$C$65+Models!$E$65*Models!$B$4+Models!$F$65*Models!$B$5))) -> 57.029964 | AQ19: =Models!$B$29*Models!$I$29+(200-Models!$B$29*Models!$I$29)/(1+EXP(Models!$C$29*B19*(Models!$B$4*Models!$F$29+Models!$B$5+Models!$I$29*Models!$G$29))) -> 96.464106 | AR19: =100*EXP(-EXP(Models!$D$66*(ChartData!B19-Models!$C$66+Models!$E$66*Models!$B$4+Models!$F$66*Models!$B$5))) -> 75.703632 | AS19: =Models!$B$30*Models!$I$30+(200-Models!$B$30*Models!$I$30)/(1+EXP(Models!$C$30*B19*(Models!$B$4*Models!$F$30+Models!$B$5+Models!$I$30*Models!$G$30))) -> 100.40976 | AT19: =100*EXP(-EXP(Models!$D$67*(ChartData!B19-Models!$C$67+Models!$E$67*Models!$B$4+Models!$F$67*Models!$B$5))) -> 67.104727
A20: Large broadleaf 15.5 | B20: 240 | C20: =1-'Front Page'!$C$30 -> 0.99630303 | D20: =IF($A$4=1,F20,IF($A$4=2,AB20,IF($A$4=4,AF20,IF($A$4=5,N20,IF($A$4=3,AD20,IF($A$4=6,AQ20,IF($A$4=7,AO20,IF($A$4=8,AS20,IF($A$4=9,AI20,IF($A$4=10,AK20,IF($A$4=11,AM20))))))))))) -> 96.142967 | E20: =IF($A$62="reversed",NA(),IF($A$4=1,G20,IF($A$4=2,AC20,IF($A$4=4,AG20,IF($A$4=5,O20,IF($A$4=3,AE20,IF($A$4=6,AR20,IF($A$4=7,AP20,IF($A$4=8,AT20,IF($A$4=9,AJ20,IF($A$4=10,AL20,IF($A$4=11,AN20)))))))))))) -> 78.160842 | F20: =Equations!$E$4/(1+EXP(Equations!$F$4*ChartData!B20*(Equations!$G$4*Equations!$C$4+Equations!$D$4))) -> 97.708198 | G20: =Equations!$E$7*EXP(-EXP(-Equations!$F$7*(ChartData!B20-Equations!$G$7+Equations!$H$7*Equations!$C$7+Equations!$I$7*Equations!$D$7))) -> 86.440673 | H20: =Models!$B$13+Models!$C$13*EXP(Models!$D$13*ChartData!B20+(Models!$E$13*ChartData!B20*Models!$E$3)) -> 93.03761 | I20: =Models!$B$50*EXP(-EXP(Models!$D$50*(ChartData!B20+Models!$C$50-(Models!$E$50*Models!$B$5)))) -> 75.340698 | J20: =Models!$B$12/(1+EXP(Models!$D$12*(ChartData!B20-Models!$C$12+Models!$E$12*ChartData!B20*Models!$B$5))) -> 120.50294 | K20: =Models!$B$49*EXP(-EXP(Models!$D$49*(ChartData!B20-Models!$C$49+(Models!$E$49*ChartData!B20*Models!$B$5)))) -> 41.059807 | L20: =Models!$B$15/(1+EXP(Models!$D$15*(ChartData!B20*(1+Models!$D$15*Models!$B$5)-Models!$C$15))) -> 74.5454 | M20: =Models!$B$52*EXP(-EXP(Models!$D$52*(ChartData!B20*(1+Models!$D$52*Models!$B$5)-Models!$C$52))) -> 47.269337 | N20: =Models!$B$15/(1+EXP(Models!$D$15*(ChartData!B20-Models!$D$15+Models!$E$15*ChartData!B20*Models!$B$5))) -> 70.050123 | O20: =Models!$B$52*EXP(-EXP(Models!$D$52*(ChartData!B20-Models!$C$52+Models!$E$52*ChartData!B20*Models!$B$5))) -> 53.868586 | P20: =Models!$B$16*Models!$I$16+(100-Models!$B$16*Models!$I$16)/(1+EXP(Models!$C$16*(ChartData!B20-Models!$E$16+Models!$B$4*Models!$F$16+Models!$B$4*Models!$G$16*Models!$I$16+Models!$B$5*Models!$H$16))) -> 97.871448 | Q20: =Models!$B$53*EXP(-EXP(Models!$D$53*(ChartData!B20+Models!$C$53+Models!$B$5*Models!$E$53+Models!$B$4*Models!$F$53))) -> 74.833708 | R20: =Models!$B$17*Models!$I$17+(100-Models!$B$17*Models!$I$17)/(1+EXP(Models!$C$17*(ChartData!B20-Models!$E$17+Models!$B$4*Models!$F$17+Models!$B$4*Models!$G$17*Models!$I$17+Models!$B$5*Models!$H$17))) -> 98.364598 | S20: =Models!$B$54*EXP(-EXP(Models!$D$54*(ChartData!B20+Models!$C$54+Models!$B$5*Models!$E$54+Models!$B$4*Models!$F$54))) -> 59.380132 | T20: =Models!$B$18*Models!$I$18+(100-Models!$B$18*Models!$I$18)/(1+EXP(Models!$C$18*(ChartData!B20-Models!$E$18+Models!$B$4*Models!$F$18+Models!$B$4*Models!$G$18*Models!$I$18+Models!$B$5*Models!$H$18))) -> 98.016378 | U20: =Models!$B$55*EXP(-EXP(Models!$D$55*(ChartData!B20+Models!$C$55+Models!$B$5*Models!$E$55+Models!$B$4*Models!$F$55))) -> 78.161499 | V20: =Models!$B$19*Models!$I$19+(100-Models!$B$19*Models!$I$19)/(1+EXP(Models!$C$19*(ChartData!$B20-Models!$E$19+Models!$B$5*ChartData!$B20*Models!$F$19+Models!$B$4*Models!$G$19))) -> 91.757871 | W20: =Models!$B$56*EXP(-EXP(Models!$D$56*(ChartData!B20+Models!$C$56+Models!$B$5*Models!$E$56+Models!$B$4*Models!$F$56))) -> 84.723583 | X20: =Models!$B$20*Models!$I$20+(100-Models!$B$20*Models!$I$20)/(1+EXP(Models!$C$20*(ChartData!$B20-Models!$E$20+Models!$B$5*ChartData!$B20*Models!$F$20+Models!$B$4*Models!$G$20))) -> 91.125131 | Y20: =Models!$B$57*EXP(-EXP(Models!$D$57*(ChartData!B20+Models!$C$57+Models!$B$5*Models!$E$57+Models!$B$4*Models!$F$57))) -> 89.119628 | Z20: =Models!$B$21*Models!$I$21+(100-Models!$B$21*Models!$I$21)/(1+EXP(Models!$C$21*(ChartData!$B20-Models!$E$21+Models!$B$5*ChartData!$B20*Models!$F$21+Models!$B$4*Models!$G$21))) -> 92.282211 | AA20: =Models!$B$58*EXP(-EXP(Models!$D$58*(ChartData!B20+Models!$C$58+Models!$B$5*Models!$E$58+Models!$B$4*Models!$F$58))) -> 89.683435 | AB20: =200/(1+EXP(Models!$D$22*((Models!$E$22*Models!$B$4+Models!$B$5)*ChartData!B20))) -> 98.325161 | AC20: =100*EXP(-EXP(Models!$D$59*(ChartData!B20-Models!$C$59+Models!$E$59*Models!$B$4+Models!$F$59*Models!$B$5))) -> 77.628413 | AD20: =200/(1+EXP(Models!$D$23*((Models!$E$23*Models!$B$4+Models!$B$5)*ChartData!B20))) -> 97.568762 | AE20: =100*EXP(-EXP(Models!$D$60*(ChartData!B20-Models!$C$60+Models!$E$60*Models!$B$4+Models!$F$60*Models!$B$5))) -> 81.863934 | AF20: =200/(1+EXP(Models!$D$24*((Models!$E$24*Models!$B$4+Models!$B$5)*ChartData!B20))) -> 97.326926 | AG20: =100*EXP(-EXP(Models!$D$61*(ChartData!B20-Models!$C$61+Models!$E$61*Models!$B$4+Models!$F$61*Models!$B$5))) -> 82.728365 | AH20: =IF('Front Page'!$C$31>0,1-'Front Page'!$C$31,"") -> 0.995 | AI20: =Models!$B$25*Models!$I$25+(200-Models!$B$25*Models!$I$25)/(1+EXP(Models!$C$25*B20*(Models!$B$4*Models!$F$25+Models!$B$5+Models!$I$25*Models!$G$25))) -> 97.719935 | AJ20: =100*EXP(-EXP(Models!$D$62*(ChartData!B20-Models!$C$62+Models!$E$62*Models!$B$4+Models!$F$62*Models!$B$5))) -> 84.723428 | AK20: =Models!$B$26*Models!$I$26+(200-Models!$B$26*Models!$I$26)/(1+EXP(Models!$C$26*B20*(Models!$B$4*Models!$F$26+Models!$B$5+Models!$I$26*Models!$G$26))) -> 96.771019 | AL20: =100*EXP(-EXP(Models!$D$63*(ChartData!B20-Models!$C$63+Models!$E$63*Models!$B$4+Models!$F$63*Models!$B$5))) -> 89.119315 | AM20: =Models!$B$27*Models!$I$27+(200-Models!$B$27*Models!$I$27)/(1+EXP(Models!$C$27*B20*(Models!$B$4*Models!$F$27+Models!$B$5+Models!$I$27*Models!$G$27))) -> 98.447534 | AN20: =100*EXP(-EXP(Models!$D$64*(ChartData!B20-Models!$C$64+Models!$E$64*Models!$B$4+Models!$F$64*Models!$B$5))) -> 89.683272 | AO20: =Models!$B$28*Models!$I$28+(200-Models!$B$28*Models!$I$28)/(1+EXP(Models!$C$28*B20*(Models!$B$4*Models!$F$28+Models!$B$5+Models!$I$28*Models!$G$28))) -> 97.371785 | AP20: =100*EXP(-EXP(Models!$D$65*(ChartData!B20-Models!$C$65+Models!$E$65*Models!$B$4+Models!$F$65*Models!$B$5))) -> 59.385948 | AQ20: =Models!$B$29*Models!$I$29+(200-Models!$B$29*Models!$I$29)/(1+EXP(Models!$C$29*B20*(Models!$B$4*Models!$F$29+Models!$B$5+Models!$I$29*Models!$G$29))) -> 96.142967 | AR20: =100*EXP(-EXP(Models!$D$66*(ChartData!B20-Models!$C$66+Models!$E$66*Models!$B$4+Models!$F$66*Models!$B$5))) -> 78.160842 | AS20: =Models!$B$30*Models!$I$30+(200-Models!$B$30*Models!$I$30)/(1+EXP(Models!$C$30*B20*(Models!$B$4*Models!$F$30+Models!$B$5+Models!$I$30*Models!$G$30))) -> 100.01 | AT20: =100*EXP(-EXP(Models!$D$67*(ChartData!B20-Models!$C$67+Models!$E$67*Models!$B$4+Models!$F$67*Models!$B$5))) -> 69.672878
A21: Large broadleaf 12 | B21: 260 | C21: =1-'Front Page'!$C$30 -> 0.99630303 | D21: =IF($A$4=1,F21,IF($A$4=2,AB21,IF($A$4=4,AF21,IF($A$4=5,N21,IF($A$4=3,AD21,IF($A$4=6,AQ21,IF($A$4=7,AO21,IF($A$4=8,AS21,IF($A$4=9,AI21,IF($A$4=10,AK21,IF($A$4=11,AM21))))))))))) -> 95.821907 | E21: =IF($A$62="reversed",NA(),IF($A$4=1,G21,IF($A$4=2,AC21,IF($A$4=4,AG21,IF($A$4=5,O21,IF($A$4=3,AE21,IF($A$4=6,AR21,IF($A$4=7,AP21,IF($A$4=8,AT21,IF($A$4=9,AJ21,IF($A$4=10,AL21,IF($A$4=11,AN21)))))))))))) -> 80.402534 | F21: =Equations!$E$4/(1+EXP(Equations!$F$4*ChartData!B21*(Equations!$G$4*Equations!$C$4+Equations!$D$4))) -> 97.51729 | G21: =Equations!$E$7*EXP(-EXP(-Equations!$F$7*(ChartData!B21-Equations!$G$7+Equations!$H$7*Equations!$C$7+Equations!$I$7*Equations!$D$7))) -> 87.262091 | H21: =Models!$B$13+Models!$C$13*EXP(Models!$D$13*ChartData!B21+(Models!$E$13*ChartData!B21*Models!$E$3)) -> 92.48513 | I21: =Models!$B$50*EXP(-EXP(Models!$D$50*(ChartData!B21+Models!$C$50-(Models!$E$50*Models!$B$5)))) -> 76.293522 | J21: =Models!$B$12/(1+EXP(Models!$D$12*(ChartData!B21-Models!$C$12+Models!$E$12*ChartData!B21*Models!$B$5))) -> 119.97163 | K21: =Models!$B$49*EXP(-EXP(Models!$D$49*(ChartData!B21-Models!$C$49+(Models!$E$49*ChartData!B21*Models!$B$5)))) -> 46.132197 | L21: =Models!$B$15/(1+EXP(Models!$D$15*(ChartData!B21*(1+Models!$D$15*Models!$B$5)-Models!$C$15))) -> 72.408115 | M21: =Models!$B$52*EXP(-EXP(Models!$D$52*(ChartData!B21*(1+Models!$D$52*Models!$B$5)-Models!$C$52))) -> 52.579307 | N21: =Models!$B$15/(1+EXP(Models!$D$15*(ChartData!B21-Models!$D$15+Models!$E$15*ChartData!B21*Models!$B$5))) -> 67.724761 | O21: =Models!$B$52*EXP(-EXP(Models!$D$52*(ChartData!B21-Models!$C$52+Models!$E$52*ChartData!B21*Models!$B$5))) -> 59.314259 | P21: =Models!$B$16*Models!$I$16+(100-Models!$B$16*Models!$I$16)/(1+EXP(Models!$C$16*(ChartData!B21-Models!$E$16+Models!$B$4*Models!$F$16+Models!$B$4*Models!$G$16*Models!$I$16+Models!$B$5*Models!$H$16))) -> 97.77387 | Q21: =Models!$B$53*EXP(-EXP(Models!$D$53*(ChartData!B21+Models!$C$53+Models!$B$5*Models!$E$53+Models!$B$4*Models!$F$53))) -> 77.171304 | R21: =Models!$B$17*Models!$I$17+(100-Models!$B$17*Models!$I$17)/(1+EXP(Models!$C$17*(ChartData!B21-Models!$E$17+Models!$B$4*Models!$F$17+Models!$B$4*Models!$G$17*Models!$I$17+Models!$B$5*Models!$H$17))) -> 98.305117 | S21: =Models!$B$54*EXP(-EXP(Models!$D$54*(ChartData!B21+Models!$C$54+Models!$B$5*Models!$E$54+Models!$B$4*Models!$F$54))) -> 61.653477 | T21: =Models!$B$18*Models!$I$18+(100-Models!$B$18*Models!$I$18)/(1+EXP(Models!$C$18*(ChartData!B21-Models!$E$18+Models!$B$4*Models!$F$18+Models!$B$4*Models!$G$18*Models!$I$18+Models!$B$5*Models!$H$18))) -> 97.908489 | U21: =Models!$B$55*EXP(-EXP(Models!$D$55*(ChartData!B21+Models!$C$55+Models!$B$5*Models!$E$55+Models!$B$4*Models!$F$55))) -> 80.403168 | V21: =Models!$B$19*Models!$I$19+(100-Models!$B$19*Models!$I$19)/(1+EXP(Models!$C$19*(ChartData!$B21-Models!$E$19+Models!$B$5*ChartData!$B21*Models!$F$19+Models!$B$4*Models!$G$19))) -> 91.663132 | W21: =Models!$B$56*EXP(-EXP(Models!$D$56*(ChartData!B21+Models!$C$56+Models!$B$5*Models!$E$56+Models!$B$4*Models!$F$56))) -> 85.482226 | X21: =Models!$B$20*Models!$I$20+(100-Models!$B$20*Models!$I$20)/(1+EXP(Models!$C$20*(ChartData!$B21-Models!$E$20+Models!$B$5*ChartData!$B21*Models!$F$20+Models!$B$4*Models!$G$20))) -> 90.975402 | Y21: =Models!$B$57*EXP(-EXP(Models!$D$57*(ChartData!B21+Models!$C$57+Models!$B$5*Models!$E$57+Models!$B$4*Models!$F$57))) -> 89.946955 | Z21: =Models!$B$21*Models!$I$21+(100-Models!$B$21*Models!$I$21)/(1+EXP(Models!$C$21*(ChartData!$B21-Models!$E$21+Models!$B$5*ChartData!$B21*Models!$F$21+Models!$B$4*Models!$G$21))) -> 92.139074 | AA21: =Models!$B$58*EXP(-EXP(Models!$D$58*(ChartData!B21+Models!$C$58+Models!$B$5*Models!$E$58+Models!$B$4*Models!$F$58))) -> 90.512151 | AB21: =200/(1+EXP(Models!$D$22*((Models!$E$22*Models!$B$4+Models!$B$5)*ChartData!B21))) -> 98.185621 | AC21: =100*EXP(-EXP(Models!$D$59*(ChartData!B21-Models!$C$59+Models!$E$59*Models!$B$4+Models!$F$59*Models!$B$5))) -> 78.378218 | AD21: =200/(1+EXP(Models!$D$23*((Models!$E$23*Models!$B$4+Models!$B$5)*ChartData!B21))) -> 97.366249 | AE21: =100*EXP(-EXP(Models!$D$60*(ChartData!B21-Models!$C$60+Models!$E$60*Models!$B$4+Models!$F$60*Models!$B$5))) -> 82.78271 | AF21: =200/(1+EXP(Models!$D$24*((Models!$E$24*Models!$B$4+Models!$B$5)*ChartData!B21))) -> 97.10429 | AG21: =100*EXP(-EXP(Models!$D$61*(ChartData!B21-Models!$C$61+Models!$E$61*Models!$B$4+Models!$F$61*Models!$B$5))) -> 83.672189 | AH21: =IF('Front Page'!$C$31>0,1-'Front Page'!$C$31,"") -> 0.995 | AI21: =Models!$B$25*Models!$I$25+(200-Models!$B$25*Models!$I$25)/(1+EXP(Models!$C$25*B21*(Models!$B$4*Models!$F$25+Models!$B$5+Models!$I$25*Models!$G$25))) -> 97.530004 | AJ21: =100*EXP(-EXP(Models!$D$62*(ChartData!B21-Models!$C$62+Models!$E$62*Models!$B$4+Models!$F$62*Models!$B$5))) -> 85.482078 | AK21: =Models!$B$26*Models!$I$26+(200-Models!$B$26*Models!$I$26)/(1+EXP(Models!$C$26*B21*(Models!$B$4*Models!$F$26+Models!$B$5+Models!$I$26*Models!$G$26))) -> 96.502149 | AL21: =100*EXP(-EXP(Models!$D$63*(ChartData!B21-Models!$C$63+Models!$E$63*Models!$B$4+Models!$F$63*Models!$B$5))) -> 89.946645 | AM21: =Models!$B$27*Models!$I$27+(200-Models!$B$27*Models!$I$27)/(1+EXP(Models!$C$27*B21*(Models!$B$4*Models!$F$27+Models!$B$5+Models!$I$27*Models!$G$27))) -> 97.675246 | AN21: =100*EXP(-EXP(Models!$D$64*(ChartData!B21-Models!$C$64+Models!$E$64*Models!$B$4+Models!$F$64*Models!$B$5))) -> 90.512 | AO21: =Models!$B$28*Models!$I$28+(200-Models!$B$28*Models!$I$28)/(1+EXP(Models!$C$28*B21*(Models!$B$4*Models!$F$28+Models!$B$5+Models!$I$28*Models!$G$28))) -> 97.152881 | AP21: =100*EXP(-EXP(Models!$D$65*(ChartData!B21-Models!$C$65+Models!$E$65*Models!$B$4+Models!$F$65*Models!$B$5))) -> 61.65908 | AQ21: =Models!$B$29*Models!$I$29+(200-Models!$B$29*Models!$I$29)/(1+EXP(Models!$C$29*B21*(Models!$B$4*Models!$F$29+Models!$B$5+Models!$I$29*Models!$G$29))) -> 95.821907 | AR21: =100*EXP(-EXP(Models!$D$66*(ChartData!B21-Models!$C$66+Models!$E$66*Models!$B$4+Models!$F$66*Models!$B$5))) -> 80.402534 | AS21: =Models!$B$30*Models!$I$30+(200-Models!$B$30*Models!$I$30)/(1+EXP(Models!$C$30*B21*(Models!$B$4*Models!$F$30+Models!$B$5+Models!$I$30*Models!$G$30))) -> 99.610406 | AT21: =100*EXP(-EXP(Models!$D$67*(ChartData!B21-Models!$C$67+Models!$E$67*Models!$B$4+Models!$F$67*Models!$B$5))) -> 72.083986
A22: Large broadleaf 15/32 | B22: 280 | C22: =1-'Front Page'!$C$30 -> 0.99630303 | D22: =IF($A$4=1,F22,IF($A$4=2,AB22,IF($A$4=4,AF22,IF($A$4=5,N22,IF($A$4=3,AD22,IF($A$4=6,AQ22,IF($A$4=7,AO22,IF($A$4=8,AS22,IF($A$4=9,AI22,IF($A$4=10,AK22,IF($A$4=11,AM22))))))))))) -> 95.500934 | E22: =IF($A$62="reversed",NA(),IF($A$4=1,G22,IF($A$4=2,AC22,IF($A$4=4,AG22,IF($A$4=5,O22,IF($A$4=3,AE22,IF($A$4=6,AR22,IF($A$4=7,AP22,IF($A$4=8,AT22,IF($A$4=9,AJ22,IF($A$4=10,AL22,IF($A$4=11,AN22)))))))))))) -> 82.440562 | F22: =Equations!$E$4/(1+EXP(Equations!$F$4*ChartData!B22*(Equations!$G$4*Equations!$C$4+Equations!$D$4))) -> 97.3264 | G22: =Equations!$E$7*EXP(-EXP(-Equations!$F$7*(ChartData!B22-Equations!$G$7+Equations!$H$7*Equations!$C$7+Equations!$I$7*Equations!$D$7))) -> 88.037254 | H22: =Models!$B$13+Models!$C$13*EXP(Models!$D$13*ChartData!B22+(Models!$E$13*ChartData!B22*Models!$E$3)) -> 91.936766 | I22: =Models!$B$50*EXP(-EXP(Models!$D$50*(ChartData!B22+Models!$C$50-(Models!$E$50*Models!$B$5)))) -> 77.215312 | J22: =Models!$B$12/(1+EXP(Models!$D$12*(ChartData!B22-Models!$C$12+Models!$E$12*ChartData!B22*Models!$B$5))) -> 118.88238 | K22: =Models!$B$49*EXP(-EXP(Models!$D$49*(ChartData!B22-Models!$C$49+(Models!$E$49*ChartData!B22*Models!$B$5)))) -> 51.047169 | L22: =Models!$B$15/(1+EXP(Models!$D$15*(ChartData!B22*(1+Models!$D$15*Models!$B$5)-Models!$C$15))) -> 70.297771 | M22: =Models!$B$52*EXP(-EXP(Models!$D$52*(ChartData!B22*(1+Models!$D$52*Models!$B$5)-Models!$C$52))) -> 57.60778 | N22: =Models!$B$15/(1+EXP(Models!$D$15*(ChartData!B22-Models!$D$15+Models!$E$15*ChartData!B22*Models!$B$5))) -> 65.43772 | O22: =Models!$B$52*EXP(-EXP(Models!$D$52*(ChartData!B22-Models!$C$52+Models!$E$52*ChartData!B22*Models!$B$5))) -> 64.338642 | P22: =Models!$B$16*Models!$I$16+(100-Models!$B$16*Models!$I$16)/(1+EXP(Models!$C$16*(ChartData!B22-Models!$E$16+Models!$B$4*Models!$F$16+Models!$B$4*Models!$G$16*Models!$I$16+Models!$B$5*Models!$H$16))) -> 97.671926 | Q22: =Models!$B$53*EXP(-EXP(Models!$D$53*(ChartData!B22+Models!$C$53+Models!$B$5*Models!$E$53+Models!$B$4*Models!$F$53))) -> 79.322618 | R22: =Models!$B$17*Models!$I$17+(100-Models!$B$17*Models!$I$17)/(1+EXP(Models!$C$17*(ChartData!B22-Models!$E$17+Models!$B$4*Models!$F$17+Models!$B$4*Models!$G$17*Models!$I$17+Models!$B$5*Models!$H$17))) -> 98.243511 | S22: =Models!$B$54*EXP(-EXP(Models!$D$54*(ChartData!B22+Models!$C$54+Models!$B$5*Models!$E$54+Models!$B$4*Models!$F$54))) -> 63.840734 | T22: =Models!$B$18*Models!$I$18+(100-Models!$B$18*Models!$I$18)/(1+EXP(Models!$C$18*(ChartData!B22-Models!$E$18+Models!$B$4*Models!$F$18+Models!$B$4*Models!$G$18*Models!$I$18+Models!$B$5*Models!$H$18))) -> 97.794876 | U22: =Models!$B$55*EXP(-EXP(Models!$D$55*(ChartData!B22+Models!$C$55+Models!$B$5*Models!$E$55+Models!$B$4*Models!$F$55))) -> 82.441168 | V22: =Models!$B$19*Models!$I$19+(100-Models!$B$19*Models!$I$19)/(1+EXP(Models!$C$19*(ChartData!$B22-Models!$E$19+Models!$B$5*ChartData!$B22*Models!$F$19+Models!$B$4*Models!$G$19))) -> 91.567404 | W22: =Models!$B$56*EXP(-EXP(Models!$D$56*(ChartData!B22+Models!$C$56+Models!$B$5*Models!$E$56+Models!$B$4*Models!$F$56))) -> 86.206327 | X22: =Models!$B$20*Models!$I$20+(100-Models!$B$20*Models!$I$20)/(1+EXP(Models!$C$20*(ChartData!$B22-Models!$E$20+Models!$B$5*ChartData!$B22*Models!$F$20+Models!$B$4*Models!$G$20))) -> 90.823401 | Y22: =Models!$B$57*EXP(-EXP(Models!$D$57*(ChartData!B22+Models!$C$57+Models!$B$5*Models!$E$57+Models!$B$4*Models!$F$57))) -> 90.714694 | Z22: =Models!$B$21*Models!$I$21+(100-Models!$B$21*Models!$I$21)/(1+EXP(Models!$C$21*(ChartData!$B22-Models!$E$21+Models!$B$5*ChartData!$B22*Models!$F$21+Models!$B$4*Models!$G$21))) -> 91.993551 | AA22: =Models!$B$58*EXP(-EXP(Models!$D$58*(ChartData!B22+Models!$C$58+Models!$B$5*Models!$E$58+Models!$B$4*Models!$F$58))) -> 91.277574 | AB22: =200/(1+EXP(Models!$D$22*((Models!$E$22*Models!$B$4+Models!$B$5)*ChartData!B22))) -> 98.046087 | AC22: =100*EXP(-EXP(Models!$D$59*(ChartData!B22-Models!$C$59+Models!$E$59*Models!$B$4+Models!$F$59*Models!$B$5))) -> 79.106397 | AD22: =200/(1+EXP(Models!$D$23*((Models!$E$23*Models!$B$4+Models!$B$5)*ChartData!B22))) -> 97.163757 | AE22: =100*EXP(-EXP(Models!$D$60*(ChartData!B22-Models!$C$60+Models!$E$60*Models!$B$4+Models!$F$60*Models!$B$5))) -> 83.659707 | AF22: =200/(1+EXP(Models!$D$24*((Models!$E$24*Models!$B$4+Models!$B$5)*ChartData!B22))) -> 96.881682 | AG22: =100*EXP(-EXP(Models!$D$61*(ChartData!B22-Models!$C$61+Models!$E$61*Models!$B$4+Models!$F$61*Models!$B$5))) -> 84.569363 | AH22: =IF('Front Page'!$C$31>0,1-'Front Page'!$C$31,"") -> 0.995 | AI22: =Models!$B$25*Models!$I$25+(200-Models!$B$25*Models!$I$25)/(1+EXP(Models!$C$25*B22*(Models!$B$4*Models!$F$25+Models!$B$5+Models!$I$25*Models!$G$25))) -> 97.340091 | AJ22: =100*EXP(-EXP(Models!$D$62*(ChartData!B22-Models!$C$62+Models!$E$62*Models!$B$4+Models!$F$62*Models!$B$5))) -> 86.206186 | AK22: =Models!$B$26*Models!$I$26+(200-Models!$B$26*Models!$I$26)/(1+EXP(Models!$C$26*B22*(Models!$B$4*Models!$F$26+Models!$B$5+Models!$I$26*Models!$G$26))) -> 96.233329 | AL22: =100*EXP(-EXP(Models!$D$63*(ChartData!B22-Models!$C$63+Models!$E$63*Models!$B$4+Models!$F$63*Models!$B$5))) -> 90.714389 | AM22: =Models!$B$27*Models!$I$27+(200-Models!$B$27*Models!$I$27)/(1+EXP(Models!$C$27*B22*(Models!$B$4*Models!$F$27+Models!$B$5+Models!$I$27*Models!$G$27))) -> 96.904392 | AN22: =100*EXP(-EXP(Models!$D$64*(ChartData!B22-Models!$C$64+Models!$E$64*Models!$B$4+Models!$F$64*Models!$B$5))) -> 91.277434 | AO22: =Models!$B$28*Models!$I$28+(200-Models!$B$28*Models!$I$28)/(1+EXP(Models!$C$28*B22*(Models!$B$4*Models!$F$28+Models!$B$5+Models!$I$28*Models!$G$28))) -> 96.934004 | AP22: =100*EXP(-EXP(Models!$D$65*(ChartData!B22-Models!$C$65+Models!$E$65*Models!$B$4+Models!$F$65*Models!$B$5))) -> 63.846117 | AQ22: =Models!$B$29*Models!$I$29+(200-Models!$B$29*Models!$I$29)/(1+EXP(Models!$C$29*B22*(Models!$B$4*Models!$F$29+Models!$B$5+Models!$I$29*Models!$G$29))) -> 95.500934 | AR22: =100*EXP(-EXP(Models!$D$66*(ChartData!B22-Models!$C$66+Models!$E$66*Models!$B$4+Models!$F$66*Models!$B$5))) -> 82.440562 | AS22: =Models!$B$30*Models!$I$30+(200-Models!$B$30*Models!$I$30)/(1+EXP(Models!$C$30*B22*(Models!$B$4*Models!$F$30+Models!$B$5+Models!$I$30*Models!$G$30))) -> 99.210998 | AT22: =100*EXP(-EXP(Models!$D$67*(ChartData!B22-Models!$C$67+Models!$E$67*Models!$B$4+Models!$F$67*Models!$B$5))) -> 74.340044
A23: Small broadleaf 12 | B23: 300 | C23: =1-'Front Page'!$C$30 -> 0.99630303 | D23: =IF($A$4=1,F23,IF($A$4=2,AB23,IF($A$4=4,AF23,IF($A$4=5,N23,IF($A$4=3,AD23,IF($A$4=6,AQ23,IF($A$4=7,AO23,IF($A$4=8,AS23,IF($A$4=9,AI23,IF($A$4=10,AK23,IF($A$4=11,AM23))))))))))) -> 95.180054 | E23: =IF($A$62="reversed",NA(),IF($A$4=1,G23,IF($A$4=2,AC23,IF($A$4=4,AG23,IF($A$4=5,O23,IF($A$4=3,AE23,IF($A$4=6,AR23,IF($A$4=7,AP23,IF($A$4=8,AT23,IF($A$4=9,AJ23,IF($A$4=10,AL23,IF($A$4=11,AN23)))))))))))) -> 84.287772 | F23: =Equations!$E$4/(1+EXP(Equations!$F$4*ChartData!B23*(Equations!$G$4*Equations!$C$4+Equations!$D$4))) -> 97.13553 | G23: =Equations!$E$7*EXP(-EXP(-Equations!$F$7*(ChartData!B23-Equations!$G$7+Equations!$H$7*Equations!$C$7+Equations!$I$7*Equations!$D$7))) -> 88.768332 | H23: =Models!$B$13+Models!$C$13*EXP(Models!$D$13*ChartData!B23+(Models!$E$13*ChartData!B23*Models!$E$3)) -> 91.392489 | I23: =Models!$B$50*EXP(-EXP(Models!$D$50*(ChartData!B23+Models!$C$50-(Models!$E$50*Models!$B$5)))) -> 78.106593 | J23: =Models!$B$12/(1+EXP(Models!$D$12*(ChartData!B23-Models!$C$12+Models!$E$12*ChartData!B23*Models!$B$5))) -> 116.68092 | K23: =Models!$B$49*EXP(-EXP(Models!$D$49*(ChartData!B23-Models!$C$49+(Models!$E$49*ChartData!B23*Models!$B$5)))) -> 55.742407 | L23: =Models!$B$15/(1+EXP(Models!$D$15*(ChartData!B23*(1+Models!$D$15*Models!$B$5)-Models!$C$15))) -> 68.21605 | M23: =Models!$B$52*EXP(-EXP(Models!$D$52*(ChartData!B23*(1+Models!$D$52*Models!$B$5)-Models!$C$52))) -> 62.303392 | N23: =Models!$B$15/(1+EXP(Models!$D$15*(ChartData!B23-Models!$D$15+Models!$E$15*ChartData!B23*Models!$B$5))) -> 63.191016 | O23: =Models!$B$52*EXP(-EXP(Models!$D$52*(ChartData!B23-Models!$C$52+Models!$E$52*ChartData!B23*Models!$B$5))) -> 68.910827 | P23: =Models!$B$16*Models!$I$16+(100-Models!$B$16*Models!$I$16)/(1+EXP(Models!$C$16*(ChartData!B23-Models!$E$16+Models!$B$4*Models!$F$16+Models!$B$4*Models!$G$16*Models!$I$16+Models!$B$5*Models!$H$16))) -> 97.56543 | Q23: =Models!$B$53*EXP(-EXP(Models!$D$53*(ChartData!B23+Models!$C$53+Models!$B$5*Models!$E$53+Models!$B$4*Models!$F$53))) -> 81.296388 | R23: =Models!$B$17*Models!$I$17+(100-Models!$B$17*Models!$I$17)/(1+EXP(Models!$C$17*(ChartData!B23-Models!$E$17+Models!$B$4*Models!$F$17+Models!$B$4*Models!$G$17*Models!$I$17+Models!$B$5*Models!$H$17))) -> 98.179708 | S23: =Models!$B$54*EXP(-EXP(Models!$D$54*(ChartData!B23+Models!$C$54+Models!$B$5*Models!$E$54+Models!$B$4*Models!$F$54))) -> 65.939678 | T23: =Models!$B$18*Models!$I$18+(100-Models!$B$18*Models!$I$18)/(1+EXP(Models!$C$18*(ChartData!B23-Models!$E$18+Models!$B$4*Models!$F$18+Models!$B$4*Models!$G$18*Models!$I$18+Models!$B$5*Models!$H$18))) -> 97.675252 | U23: =Models!$B$55*EXP(-EXP(Models!$D$55*(ChartData!B23+Models!$C$55+Models!$B$5*Models!$E$55+Models!$B$4*Models!$F$55))) -> 84.288349 | V23: =Models!$B$19*Models!$I$19+(100-Models!$B$19*Models!$I$19)/(1+EXP(Models!$C$19*(ChartData!$B23-Models!$E$19+Models!$B$5*ChartData!$B23*Models!$F$19+Models!$B$4*Models!$G$19))) -> 91.470678 | W23: =Models!$B$56*EXP(-EXP(Models!$D$56*(ChartData!B23+Models!$C$56+Models!$B$5*Models!$E$56+Models!$B$4*Models!$F$56))) -> 86.897137 | X23: =Models!$B$20*Models!$I$20+(100-Models!$B$20*Models!$I$20)/(1+EXP(Models!$C$20*(ChartData!$B23-Models!$E$20+Models!$B$5*ChartData!$B23*Models!$F$20+Models!$B$4*Models!$G$20))) -> 90.669103 | Y23: =Models!$B$57*EXP(-EXP(Models!$D$57*(ChartData!B23+Models!$C$57+Models!$B$5*Models!$E$57+Models!$B$4*Models!$F$57))) -> 91.426629 | Z23: =Models!$B$21*Models!$I$21+(100-Models!$B$21*Models!$I$21)/(1+EXP(Models!$C$21*(ChartData!$B23-Models!$E$21+Models!$B$5*ChartData!$B23*Models!$F$21+Models!$B$4*Models!$G$21))) -> 91.845612 | AA23: =Models!$B$58*EXP(-EXP(Models!$D$58*(ChartData!B23+Models!$C$58+Models!$B$5*Models!$E$58+Models!$B$4*Models!$F$58))) -> 91.984011 | AB23: =200/(1+EXP(Models!$D$22*((Models!$E$22*Models!$B$4+Models!$B$5)*ChartData!B23))) -> 97.906561 | AC23: =100*EXP(-EXP(Models!$D$59*(ChartData!B23-Models!$C$59+Models!$E$59*Models!$B$4+Models!$F$59*Models!$B$5))) -> 79.813319 | AD23: =200/(1+EXP(Models!$D$23*((Models!$E$23*Models!$B$4+Models!$B$5)*ChartData!B23))) -> 96.961289 | AE23: =100*EXP(-EXP(Models!$D$60*(ChartData!B23-Models!$C$60+Models!$E$60*Models!$B$4+Models!$F$60*Models!$B$5))) -> 84.496318 | AF23: =200/(1+EXP(Models!$D$24*((Models!$E$24*Models!$B$4+Models!$B$5)*ChartData!B23))) -> 96.659106 | AG23: =100*EXP(-EXP(Models!$D$61*(ChartData!B23-Models!$C$61+Models!$E$61*Models!$B$4+Models!$F$61*Models!$B$5))) -> 85.421632 | AH23: =IF('Front Page'!$C$31>0,1-'Front Page'!$C$31,"") -> 0.995 | AI23: =Models!$B$25*Models!$I$25+(200-Models!$B$25*Models!$I$25)/(1+EXP(Models!$C$25*B23*(Models!$B$4*Models!$F$25+Models!$B$5+Models!$I$25*Models!$G$25))) -> 97.150197 | AJ23: =100*EXP(-EXP(Models!$D$62*(ChartData!B23-Models!$C$62+Models!$E$62*Models!$B$4+Models!$F$62*Models!$B$5))) -> 86.897003 | AK23: =Models!$B$26*Models!$I$26+(200-Models!$B$26*Models!$I$26)/(1+EXP(Models!$C$26*B23*(Models!$B$4*Models!$F$26+Models!$B$5+Models!$I$26*Models!$G$26))) -> 95.964563 | AL23: =100*EXP(-EXP(Models!$D$63*(ChartData!B23-Models!$C$63+Models!$E$63*Models!$B$4+Models!$F$63*Models!$B$5))) -> 91.42633 | AM23: =Models!$B$27*Models!$I$27+(200-Models!$B$27*Models!$I$27)/(1+EXP(Models!$C$27*B23*(Models!$B$4*Models!$F$27+Models!$B$5+Models!$I$27*Models!$G$27))) -> 96.135078 | AN23: =100*EXP(-EXP(Models!$D$64*(ChartData!B23-Models!$C$64+Models!$E$64*Models!$B$4+Models!$F$64*Models!$B$5))) -> 91.983883 | AO23: =Models!$B$28*Models!$I$28+(200-Models!$B$28*Models!$I$28)/(1+EXP(Models!$C$28*B23*(Models!$B$4*Models!$F$28+Models!$B$5+Models!$I$28*Models!$G$28))) -> 96.715157 | AP23: =100*EXP(-EXP(Models!$D$65*(ChartData!B23-Models!$C$65+Models!$E$65*Models!$B$4+Models!$F$65*Models!$B$5))) -> 65.944838 | AQ23: =Models!$B$29*Models!$I$29+(200-Models!$B$29*Models!$I$29)/(1+EXP(Models!$C$29*B23*(Models!$B$4*Models!$F$29+Models!$B$5+Models!$I$29*Models!$G$29))) -> 95.180054 | AR23: =100*EXP(-EXP(Models!$D$66*(ChartData!B23-Models!$C$66+Models!$E$66*Models!$B$4+Models!$F$66*Models!$B$5))) -> 84.287772 | AS23: =Models!$B$30*Models!$I$30+(200-Models!$B$30*Models!$I$30)/(1+EXP(Models!$C$30*B23*(Models!$B$4*Models!$F$30+Models!$B$5+Models!$I$30*Models!$G$30))) -> 98.811787 | AT23: =100*EXP(-EXP(Models!$D$67*(ChartData!B23-Models!$C$67+Models!$E$67*Models!$B$4+Models!$F$67*Models!$B$5))) -> 76.444593
A24: Small broadleaf 15.5 | B24: 320 | C24: =1-'Front Page'!$C$30 -> 0.99630303 | D24: =IF($A$4=1,F24,IF($A$4=2,AB24,IF($A$4=4,AF24,IF($A$4=5,N24,IF($A$4=3,AD24,IF($A$4=6,AQ24,IF($A$4=7,AO24,IF($A$4=8,AS24,IF($A$4=9,AI24,IF($A$4=10,AK24,IF($A$4=11,AM24))))))))))) -> 94.859273 | E24: =IF($A$62="reversed",NA(),IF($A$4=1,G24,IF($A$4=2,AC24,IF($A$4=4,AG24,IF($A$4=5,O24,IF($A$4=3,AE24,IF($A$4=6,AR24,IF($A$4=7,AP24,IF($A$4=8,AT24,IF($A$4=9,AJ24,IF($A$4=10,AL24,IF($A$4=11,AN24)))))))))))) -> 85.957504 | F24: =Equations!$E$4/(1+EXP(Equations!$F$4*ChartData!B24*(Equations!$G$4*Equations!$C$4+Equations!$D$4))) -> 96.94468 | G24: =Equations!$E$7*EXP(-EXP(-Equations!$F$7*(ChartData!B24-Equations!$G$7+Equations!$H$7*Equations!$C$7+Equations!$I$7*Equations!$D$7))) -> 89.457448 | H24: =Models!$B$13+Models!$C$13*EXP(Models!$D$13*ChartData!B24+(Models!$E$13*ChartData!B24*Models!$E$3)) -> 90.852268 | I24: =Models!$B$50*EXP(-EXP(Models!$D$50*(ChartData!B24+Models!$C$50-(Models!$E$50*Models!$B$5)))) -> 78.967926 | J24: =Models!$B$12/(1+EXP(Models!$D$12*(ChartData!B24-Models!$C$12+Models!$E$12*ChartData!B24*Models!$B$5))) -> 112.35723 | K24: =Models!$B$49*EXP(-EXP(Models!$D$49*(ChartData!B24-Models!$C$49+(Models!$E$49*ChartData!B24*Models!$B$5)))) -> 60.172655 | L24: =Models!$B$15/(1+EXP(Models!$D$15*(ChartData!B24*(1+Models!$D$15*Models!$B$5)-Models!$C$15))) -> 66.164527 | M24: =Models!$B$52*EXP(-EXP(Models!$D$52*(ChartData!B24*(1+Models!$D$52*Models!$B$5)-Models!$C$52))) -> 66.635739 | N24: =Models!$B$15/(1+EXP(Models!$D$15*(ChartData!B24-Models!$D$15+Models!$E$15*ChartData!B24*Models!$B$5))) -> 60.986489 | O24: =Models!$B$52*EXP(-EXP(Models!$D$52*(ChartData!B24-Models!$C$52+Models!$E$52*ChartData!B24*Models!$B$5))) -> 73.02332 | P24: =Models!$B$16*Models!$I$16+(100-Models!$B$16*Models!$I$16)/(1+EXP(Models!$C$16*(ChartData!B24-Models!$E$16+Models!$B$4*Models!$F$16+Models!$B$4*Models!$G$16*Models!$I$16+Models!$B$5*Models!$H$16))) -> 97.454188 | Q24: =Models!$B$53*EXP(-EXP(Models!$D$53*(ChartData!B24+Models!$C$53+Models!$B$5*Models!$E$53+Models!$B$4*Models!$F$53))) -> 83.102273 | R24: =Models!$B$17*Models!$I$17+(100-Models!$B$17*Models!$I$17)/(1+EXP(Models!$C$17*(ChartData!B24-Models!$E$17+Models!$B$4*Models!$F$17+Models!$B$4*Models!$G$17*Models!$I$17+Models!$B$5*Models!$H$17))) -> 98.113631 | S24: =Models!$B$54*EXP(-EXP(Models!$D$54*(ChartData!B24+Models!$C$54+Models!$B$5*Models!$E$54+Models!$B$4*Models!$F$54))) -> 67.949004 | T24: =Models!$B$18*Models!$I$18+(100-Models!$B$18*Models!$I$18)/(1+EXP(Models!$C$18*(ChartData!B24-Models!$E$18+Models!$B$4*Models!$F$18+Models!$B$4*Models!$G$18*Models!$I$18+Models!$B$5*Models!$H$18))) -> 97.549315 | U24: =Models!$B$55*EXP(-EXP(Models!$D$55*(ChartData!B24+Models!$C$55+Models!$B$5*Models!$E$55+Models!$B$4*Models!$F$55))) -> 85.958052 | V24: =Models!$B$19*Models!$I$19+(100-Models!$B$19*Models!$I$19)/(1+EXP(Models!$C$19*(ChartData!$B24-Models!$E$19+Models!$B$5*ChartData!$B24*Models!$F$19+Models!$B$4*Models!$G$19))) -> 91.372948 | W24: =Models!$B$56*EXP(-EXP(Models!$D$56*(ChartData!B24+Models!$C$56+Models!$B$5*Models!$E$56+Models!$B$4*Models!$F$56))) -> 87.555897 | X24: =Models!$B$20*Models!$I$20+(100-Models!$B$20*Models!$I$20)/(1+EXP(Models!$C$20*(ChartData!$B24-Models!$E$20+Models!$B$5*ChartData!$B24*Models!$F$20+Models!$B$4*Models!$G$20))) -> 90.512481 | Y24: =Models!$B$57*EXP(-EXP(Models!$D$57*(ChartData!B24+Models!$C$57+Models!$B$5*Models!$E$57+Models!$B$4*Models!$F$57))) -> 92.086386 | Z24: =Models!$B$21*Models!$I$21+(100-Models!$B$21*Models!$I$21)/(1+EXP(Models!$C$21*(ChartData!$B24-Models!$E$21+Models!$B$5*ChartData!$B24*Models!$F$21+Models!$B$4*Models!$G$21))) -> 91.695226 | AA24: =Models!$B$58*EXP(-EXP(Models!$D$58*(ChartData!B24+Models!$C$58+Models!$B$5*Models!$E$58+Models!$B$4*Models!$F$58))) -> 92.635566 | AB24: =200/(1+EXP(Models!$D$22*((Models!$E$22*Models!$B$4+Models!$B$5)*ChartData!B24))) -> 97.767044 | AC24: =100*EXP(-EXP(Models!$D$59*(ChartData!B24-Models!$C$59+Models!$E$59*Models!$B$4+Models!$F$59*Models!$B$5))) -> 80.499368 | AD24: =200/(1+EXP(Models!$D$23*((Models!$E$23*Models!$B$4+Models!$B$5)*ChartData!B24))) -> 96.758846 | AE24: =100*EXP(-EXP(Models!$D$60*(ChartData!B24-Models!$C$60+Models!$E$60*Models!$B$4+Models!$F$60*Models!$B$5))) -> 85.293948 | AF24: =200/(1+EXP(Models!$D$24*((Models!$E$24*Models!$B$4+Models!$B$5)*ChartData!B24))) -> 96.436562 | AG24: =100*EXP(-EXP(Models!$D$61*(ChartData!B24-Models!$C$61+Models!$E$61*Models!$B$4+Models!$F$61*Models!$B$5))) -> 86.230742 | AH24: =IF('Front Page'!$C$31>0,1-'Front Page'!$C$31,"") -> 0.995 | AI24: =Models!$B$25*Models!$I$25+(200-Models!$B$25*Models!$I$25)/(1+EXP(Models!$C$25*B24*(Models!$B$4*Models!$F$25+Models!$B$5+Models!$I$25*Models!$G$25))) -> 96.960323 | AJ24: =100*EXP(-EXP(Models!$D$62*(ChartData!B24-Models!$C$62+Models!$E$62*Models!$B$4+Models!$F$62*Models!$B$5))) -> 87.555768 | AK24: =Models!$B$26*Models!$I$26+(200-Models!$B$26*Models!$I$26)/(1+EXP(Models!$C$26*B24*(Models!$B$4*Models!$F$26+Models!$B$5+Models!$I$26*Models!$G$26))) -> 95.695856 | AL24: =100*EXP(-EXP(Models!$D$63*(ChartData!B24-Models!$C$63+Models!$E$63*Models!$B$4+Models!$F$63*Models!$B$5))) -> 92.086094 | AM24: =Models!$B$27*Models!$I$27+(200-Models!$B$27*Models!$I$27)/(1+EXP(Models!$C$27*B24*(Models!$B$4*Models!$F$27+Models!$B$5+Models!$I$27*Models!$G$27))) -> 95.367408 | AN24: =100*EXP(-EXP(Models!$D$64*(ChartData!B24-Models!$C$64+Models!$E$64*Models!$B$4+Models!$F$64*Models!$B$5))) -> 92.635447 | AO24: =Models!$B$28*Models!$I$28+(200-Models!$B$28*Models!$I$28)/(1+EXP(Models!$C$28*B24*(Models!$B$4*Models!$F$28+Models!$B$5+Models!$I$28*Models!$G$28))) -> 96.496341 | AP24: =100*EXP(-EXP(Models!$D$65*(ChartData!B24-Models!$C$65+Models!$E$65*Models!$B$4+Models!$F$65*Models!$B$5))) -> 67.953938 | AQ24: =Models!$B$29*Models!$I$29+(200-Models!$B$29*Models!$I$29)/(1+EXP(Models!$C$29*B24*(Models!$B$4*Models!$F$29+Models!$B$5+Models!$I$29*Models!$G$29))) -> 94.859273 | AR24: =100*EXP(-EXP(Models!$D$66*(ChartData!B24-Models!$C$66+Models!$E$66*Models!$B$4+Models!$F$66*Models!$B$5))) -> 85.957504 | AS24: =Models!$B$30*Models!$I$30+(200-Models!$B$30*Models!$I$30)/(1+EXP(Models!$C$30*B24*(Models!$B$4*Models!$F$30+Models!$B$5+Models!$I$30*Models!$G$30))) -> 98.412788 | AT24: =100*EXP(-EXP(Models!$D$67*(ChartData!B24-Models!$C$67+Models!$E$67*Models!$B$4+Models!$F$67*Models!$B$5))) -> 78.40239
A25: Small broadleaf 15/32 | B25: 340 | C25: =1-'Front Page'!$C$30 -> 0.99630303 | D25: =IF($A$4=1,F25,IF($A$4=2,AB25,IF($A$4=4,AF25,IF($A$4=5,N25,IF($A$4=3,AD25,IF($A$4=6,AQ25,IF($A$4=7,AO25,IF($A$4=8,AS25,IF($A$4=9,AI25,IF($A$4=10,AK25,IF($A$4=11,AM25))))))))))) -> 94.538598 | E25: =IF($A$62="reversed",NA(),IF($A$4=1,G25,IF($A$4=2,AC25,IF($A$4=4,AG25,IF($A$4=5,O25,IF($A$4=3,AE25,IF($A$4=6,AR25,IF($A$4=7,AP25,IF($A$4=8,AT25,IF($A$4=9,AJ25,IF($A$4=10,AL25,IF($A$4=11,AN25)))))))))))) -> 87.4632 | F25: =Equations!$E$4/(1+EXP(Equations!$F$4*ChartData!B25*(Equations!$G$4*Equations!$C$4+Equations!$D$4))) -> 96.753853 | G25: =Equations!$E$7*EXP(-EXP(-Equations!$F$7*(ChartData!B25-Equations!$G$7+Equations!$H$7*Equations!$C$7+Equations!$I$7*Equations!$D$7))) -> 90.106675 | H25: =Models!$B$13+Models!$C$13*EXP(Models!$D$13*ChartData!B25+(Models!$E$13*ChartData!B25*Models!$E$3)) -> 90.316073 | I25: =Models!$B$50*EXP(-EXP(Models!$D$50*(ChartData!B25+Models!$C$50-(Models!$E$50*Models!$B$5)))) -> 79.799904 | J25: =Models!$B$12/(1+EXP(Models!$D$12*(ChartData!B25-Models!$C$12+Models!$E$12*ChartData!B25*Models!$B$5))) -> 104.32384 | K25: =Models!$B$49*EXP(-EXP(Models!$D$49*(ChartData!B25-Models!$C$49+(Models!$E$49*ChartData!B25*Models!$B$5)))) -> 64.308209 | L25: =Models!$B$15/(1+EXP(Models!$D$15*(ChartData!B25*(1+Models!$D$15*Models!$B$5)-Models!$C$15))) -> 64.144671 | M25: =Models!$B$52*EXP(-EXP(Models!$D$52*(ChartData!B25*(1+Models!$D$52*Models!$B$5)-Models!$C$52))) -> 70.591869 | N25: =Models!$B$15/(1+EXP(Models!$D$15*(ChartData!B25-Models!$D$15+Models!$E$15*ChartData!B25*Models!$B$5))) -> 58.825801 | O25: =Models!$B$52*EXP(-EXP(Models!$D$52*(ChartData!B25-Models!$C$52+Models!$E$52*ChartData!B25*Models!$B$5))) -> 76.686124 | P25: =Models!$B$16*Models!$I$16+(100-Models!$B$16*Models!$I$16)/(1+EXP(Models!$C$16*(ChartData!B25-Models!$E$16+Models!$B$4*Models!$F$16+Models!$B$4*Models!$G$16*Models!$I$16+Models!$B$5*Models!$H$16))) -> 97.338003 | Q25: =Models!$B$53*EXP(-EXP(Models!$D$53*(ChartData!B25+Models!$C$53+Models!$B$5*Models!$E$53+Models!$B$4*Models!$F$53))) -> 84.750479 | R25: =Models!$B$17*Models!$I$17+(100-Models!$B$17*Models!$I$17)/(1+EXP(Models!$C$17*(ChartData!B25-Models!$E$17+Models!$B$4*Models!$F$17+Models!$B$4*Models!$G$17*Models!$I$17+Models!$B$5*Models!$H$17))) -> 98.045203 | S25: =Models!$B$54*EXP(-EXP(Models!$D$54*(ChartData!B25+Models!$C$54+Models!$B$5*Models!$E$54+Models!$B$4*Models!$F$54))) -> 69.868221 | T25: =Models!$B$18*Models!$I$18+(100-Models!$B$18*Models!$I$18)/(1+EXP(Models!$C$18*(ChartData!B25-Models!$E$18+Models!$B$4*Models!$F$18+Models!$B$4*Models!$G$18*Models!$I$18+Models!$B$5*Models!$H$18))) -> 97.416753 | U25: =Models!$B$55*EXP(-EXP(Models!$D$55*(ChartData!B25+Models!$C$55+Models!$B$5*Models!$E$55+Models!$B$4*Models!$F$55))) -> 87.463716 | V25: =Models!$B$19*Models!$I$19+(100-Models!$B$19*Models!$I$19)/(1+EXP(Models!$C$19*(ChartData!$B25-Models!$E$19+Models!$B$5*ChartData!$B25*Models!$F$19+Models!$B$4*Models!$G$19))) -> 91.274205 | W25: =Models!$B$56*EXP(-EXP(Models!$D$56*(ChartData!B25+Models!$C$56+Models!$B$5*Models!$E$56+Models!$B$4*Models!$F$56))) -> 88.183829 | X25: =Models!$B$20*Models!$I$20+(100-Models!$B$20*Models!$I$20)/(1+EXP(Models!$C$20*(ChartData!$B25-Models!$E$20+Models!$B$5*ChartData!$B25*Models!$F$20+Models!$B$4*Models!$G$20))) -> 90.35351 | Y25: =Models!$B$57*EXP(-EXP(Models!$D$57*(ChartData!B25+Models!$C$57+Models!$B$5*Models!$E$57+Models!$B$4*Models!$F$57))) -> 92.69742 | Z25: =Models!$B$21*Models!$I$21+(100-Models!$B$21*Models!$I$21)/(1+EXP(Models!$C$21*(ChartData!$B25-Models!$E$21+Models!$B$5*ChartData!$B25*Models!$F$21+Models!$B$4*Models!$G$21))) -> 91.542364 | AA25: =Models!$B$58*EXP(-EXP(Models!$D$58*(ChartData!B25+Models!$C$58+Models!$B$5*Models!$E$58+Models!$B$4*Models!$F$58))) -> 93.236126 | AB25: =200/(1+EXP(Models!$D$22*((Models!$E$22*Models!$B$4+Models!$B$5)*ChartData!B25))) -> 97.627535 | AC25: =100*EXP(-EXP(Models!$D$59*(ChartData!B25-Models!$C$59+Models!$E$59*Models!$B$4+Models!$F$59*Models!$B$5))) -> 81.16494 | AD25: =200/(1+EXP(Models!$D$23*((Models!$E$23*Models!$B$4+Models!$B$5)*ChartData!B25))) -> 96.556429 | AE25: =100*EXP(-EXP(Models!$D$60*(ChartData!B25-Models!$C$60+Models!$E$60*Models!$B$4+Models!$F$60*Models!$B$5))) -> 86.054002 | AF25: =200/(1+EXP(Models!$D$24*((Models!$E$24*Models!$B$4+Models!$B$5)*ChartData!B25))) -> 96.214054 | AG25: =100*EXP(-EXP(Models!$D$61*(ChartData!B25-Models!$C$61+Models!$E$61*Models!$B$4+Models!$F$61*Models!$B$5))) -> 86.998431 | AH25: =IF('Front Page'!$C$31>0,1-'Front Page'!$C$31,"") -> 0.995 | AI25: =Models!$B$25*Models!$I$25+(200-Models!$B$25*Models!$I$25)/(1+EXP(Models!$C$25*B25*(Models!$B$4*Models!$F$25+Models!$B$5+Models!$I$25*Models!$G$25))) -> 96.770472 | AJ25: =100*EXP(-EXP(Models!$D$62*(ChartData!B25-Models!$C$62+Models!$E$62*Models!$B$4+Models!$F$62*Models!$B$5))) -> 88.183707 | AK25: =Models!$B$26*Models!$I$26+(200-Models!$B$26*Models!$I$26)/(1+EXP(Models!$C$26*B25*(Models!$B$4*Models!$F$26+Models!$B$5+Models!$I$26*Models!$G$26))) -> 95.427211 | AL25: =100*EXP(-EXP(Models!$D$63*(ChartData!B25-Models!$C$63+Models!$E$63*Models!$B$4+Models!$F$63*Models!$B$5))) -> 92.697135 | AM25: =Models!$B$27*Models!$I$27+(200-Models!$B$27*Models!$I$27)/(1+EXP(Models!$C$27*B25*(Models!$B$4*Models!$F$27+Models!$B$5+Models!$I$27*Models!$G$27))) -> 94.601487 | AN25: =100*EXP(-EXP(Models!$D$64*(ChartData!B25-Models!$C$64+Models!$E$64*Models!$B$4+Models!$F$64*Models!$B$5))) -> 93.236017 | AO25: =Models!$B$28*Models!$I$28+(200-Models!$B$28*Models!$I$28)/(1+EXP(Models!$C$28*B25*(Models!$B$4*Models!$F$28+Models!$B$5+Models!$I$28*Models!$G$28))) -> 96.277558 | AP25: =100*EXP(-EXP(Models!$D$65*(ChartData!B25-Models!$C$65+Models!$E$65*Models!$B$4+Models!$F$65*Models!$B$5))) -> 69.872929 | AQ25: =Models!$B$29*Models!$I$29+(200-Models!$B$29*Models!$I$29)/(1+EXP(Models!$C$29*B25*(Models!$B$4*Models!$F$29+Models!$B$5+Models!$I$29*Models!$G$29))) -> 94.538598 | AR25: =100*EXP(-EXP(Models!$D$66*(ChartData!B25-Models!$C$66+Models!$E$66*Models!$B$4+Models!$F$66*Models!$B$5))) -> 87.4632 | AS25: =Models!$B$30*Models!$I$30+(200-Models!$B$30*Models!$I$30)/(1+EXP(Models!$C$30*B25*(Models!$B$4*Models!$F$30+Models!$B$5+Models!$I$30*Models!$G$30))) -> 98.014015 | AT25: =100*EXP(-EXP(Models!$D$67*(ChartData!B25-Models!$C$67+Models!$E$67*Models!$B$4+Models!$F$67*Models!$B$5))) -> 80.219113
B26: 360 | C26: =1-'Front Page'!$C$30 -> 0.99630303 | D26: =IF($A$4=1,F26,IF($A$4=2,AB26,IF($A$4=4,AF26,IF($A$4=5,N26,IF($A$4=3,AD26,IF($A$4=6,AQ26,IF($A$4=7,AO26,IF($A$4=8,AS26,IF($A$4=9,AI26,IF($A$4=10,AK26,IF($A$4=11,AM26))))))))))) -> 94.218035 | E26: =IF($A$62="reversed",NA(),IF($A$4=1,G26,IF($A$4=2,AC26,IF($A$4=4,AG26,IF($A$4=5,O26,IF($A$4=3,AE26,IF($A$4=6,AR26,IF($A$4=7,AP26,IF($A$4=8,AT26,IF($A$4=9,AJ26,IF($A$4=10,AL26,IF($A$4=11,AN26)))))))))))) -> 88.818096 | F26: =Equations!$E$4/(1+EXP(Equations!$F$4*ChartData!B26*(Equations!$G$4*Equations!$C$4+Equations!$D$4))) -> 96.563049 | G26: =Equations!$E$7*EXP(-EXP(-Equations!$F$7*(ChartData!B26-Equations!$G$7+Equations!$H$7*Equations!$C$7+Equations!$I$7*Equations!$D$7))) -> 90.718025 | H26: =Models!$B$13+Models!$C$13*EXP(Models!$D$13*ChartData!B26+(Models!$E$13*ChartData!B26*Models!$E$3)) -> 89.783874 | I26: =Models!$B$50*EXP(-EXP(Models!$D$50*(ChartData!B26+Models!$C$50-(Models!$E$50*Models!$B$5)))) -> 80.603143 | J26: =Models!$B$12/(1+EXP(Models!$D$12*(ChartData!B26-Models!$C$12+Models!$E$12*ChartData!B26*Models!$B$5))) -> 90.828605 | K26: =Models!$B$49*EXP(-EXP(Models!$D$49*(ChartData!B26-Models!$C$49+(Models!$E$49*ChartData!B26*Models!$B$5)))) -> 68.132788 | L26: =Models!$B$15/(1+EXP(Models!$D$15*(ChartData!B26*(1+Models!$D$15*Models!$B$5)-Models!$C$15))) -> 62.157839 | M26: =Models!$B$52*EXP(-EXP(Models!$D$52*(ChartData!B26*(1+Models!$D$52*Models!$B$5)-Models!$C$52))) -> 74.172588 | N26: =Models!$B$15/(1+EXP(Models!$D$15*(ChartData!B26-Models!$D$15+Models!$E$15*ChartData!B26*Models!$B$5))) -> 56.710436 | O26: =Models!$B$52*EXP(-EXP(Models!$D$52*(ChartData!B26-Models!$C$52+Models!$E$52*ChartData!B26*Models!$B$5))) -> 79.921414 | P26: =Models!$B$16*Models!$I$16+(100-Models!$B$16*Models!$I$16)/(1+EXP(Models!$C$16*(ChartData!B26-Models!$E$16+Models!$B$4*Models!$F$16+Models!$B$4*Models!$G$16*Models!$I$16+Models!$B$5*Models!$H$16))) -> 97.216667 | Q26: =Models!$B$53*EXP(-EXP(Models!$D$53*(ChartData!B26+Models!$C$53+Models!$B$5*Models!$E$53+Models!$B$4*Models!$F$53))) -> 86.251459 | R26: =Models!$B$17*Models!$I$17+(100-Models!$B$17*Models!$I$17)/(1+EXP(Models!$C$17*(ChartData!B26-Models!$E$17+Models!$B$4*Models!$F$17+Models!$B$4*Models!$G$17*Models!$I$17+Models!$B$5*Models!$H$17))) -> 97.974345 | S26: =Models!$B$54*EXP(-EXP(Models!$D$54*(ChartData!B26+Models!$C$54+Models!$B$5*Models!$E$54+Models!$B$4*Models!$F$54))) -> 71.697553 | T26: =Models!$B$18*Models!$I$18+(100-Models!$B$18*Models!$I$18)/(1+EXP(Models!$C$18*(ChartData!B26-Models!$E$18+Models!$B$4*Models!$F$18+Models!$B$4*Models!$G$18*Models!$I$18+Models!$B$5*Models!$H$18))) -> 97.27724 | U26: =Models!$B$55*EXP(-EXP(Models!$D$55*(ChartData!B26+Models!$C$55+Models!$B$5*Models!$E$55+Models!$B$4*Models!$F$55))) -> 88.818581 | V26: =Models!$B$19*Models!$I$19+(100-Models!$B$19*Models!$I$19)/(1+EXP(Models!$C$19*(ChartData!$B26-Models!$E$19+Models!$B$5*ChartData!$B26*Models!$F$19+Models!$B$4*Models!$G$19))) -> 91.174441 | W26: =Models!$B$56*EXP(-EXP(Models!$D$56*(ChartData!B26+Models!$C$56+Models!$B$5*Models!$E$56+Models!$B$4*Models!$F$56))) -> 88.782141 | X26: =Models!$B$20*Models!$I$20+(100-Models!$B$20*Models!$I$20)/(1+EXP(Models!$C$20*(ChartData!$B26-Models!$E$20+Models!$B$5*ChartData!$B26*Models!$F$20+Models!$B$4*Models!$G$20))) -> 90.192164 | Y26: =Models!$B$57*EXP(-EXP(Models!$D$57*(ChartData!B26+Models!$C$57+Models!$B$5*Models!$E$57+Models!$B$4*Models!$F$57))) -> 93.263016 | Z26: =Models!$B$21*Models!$I$21+(100-Models!$B$21*Models!$I$21)/(1+EXP(Models!$C$21*(ChartData!$B26-Models!$E$21+Models!$B$5*ChartData!$B26*Models!$F$21+Models!$B$4*Models!$G$21))) -> 91.386997 | AA26: =Models!$B$58*EXP(-EXP(Models!$D$58*(ChartData!B26+Models!$C$58+Models!$B$5*Models!$E$58+Models!$B$4*Models!$F$58))) -> 93.789366 | AB26: =200/(1+EXP(Models!$D$22*((Models!$E$22*Models!$B$4+Models!$B$5)*ChartData!B26))) -> 97.488035 | AC26: =100*EXP(-EXP(Models!$D$59*(ChartData!B26-Models!$C$59+Models!$E$59*Models!$B$4+Models!$F$59*Models!$B$5))) -> 81.810442 | AD26: =200/(1+EXP(Models!$D$23*((Models!$E$23*Models!$B$4+Models!$B$5)*ChartData!B26))) -> 96.35404 | AE26: =100*EXP(-EXP(Models!$D$60*(ChartData!B26-Models!$C$60+Models!$E$60*Models!$B$4+Models!$F$60*Models!$B$5))) -> 86.777881 | AF26: =200/(1+EXP(Models!$D$24*((Models!$E$24*Models!$B$4+Models!$B$5)*ChartData!B26))) -> 95.991583 | AG26: =100*EXP(-EXP(Models!$D$61*(ChartData!B26-Models!$C$61+Models!$E$61*Models!$B$4+Models!$F$61*Models!$B$5))) -> 87.726423 | AH26: =IF('Front Page'!$C$31>0,1-'Front Page'!$C$31,"") -> 0.995 | AI26: =Models!$B$25*Models!$I$25+(200-Models!$B$25*Models!$I$25)/(1+EXP(Models!$C$25*B26*(Models!$B$4*Models!$F$25+Models!$B$5+Models!$I$25*Models!$G$25))) -> 96.580643 | AJ26: =100*EXP(-EXP(Models!$D$62*(ChartData!B26-Models!$C$62+Models!$E$62*Models!$B$4+Models!$F$62*Models!$B$5))) -> 88.782025 | AK26: =Models!$B$26*Models!$I$26+(200-Models!$B$26*Models!$I$26)/(1+EXP(Models!$C$26*B26*(Models!$B$4*Models!$F$26+Models!$B$5+Models!$I$26*Models!$G$26))) -> 95.158632 | AL26: =100*EXP(-EXP(Models!$D$63*(ChartData!B26-Models!$C$63+Models!$E$63*Models!$B$4+Models!$F$63*Models!$B$5))) -> 93.26274 | AM26: =Models!$B$27*Models!$I$27+(200-Models!$B$27*Models!$I$27)/(1+EXP(Models!$C$27*B26*(Models!$B$4*Models!$F$27+Models!$B$5+Models!$I$27*Models!$G$27))) -> 93.83742 | AN26: =100*EXP(-EXP(Models!$D$64*(ChartData!B26-Models!$C$64+Models!$E$64*Models!$B$4+Models!$F$64*Models!$B$5))) -> 93.789266 | AO26: =Models!$B$28*Models!$I$28+(200-Models!$B$28*Models!$I$28)/(1+EXP(Models!$C$28*B26*(Models!$B$4*Models!$F$28+Models!$B$5+Models!$I$28*Models!$G$28))) -> 96.058812 | AP26: =100*EXP(-EXP(Models!$D$65*(ChartData!B26-Models!$C$65+Models!$E$65*Models!$B$4+Models!$F$65*Models!$B$5))) -> 71.702035 | AQ26: =Models!$B$29*Models!$I$29+(200-Models!$B$29*Models!$I$29)/(1+EXP(Models!$C$29*B26*(Models!$B$4*Models!$F$29+Models!$B$5+Models!$I$29*Models!$G$29))) -> 94.218035 | AR26: =100*EXP(-EXP(Models!$D$66*(ChartData!B26-Models!$C$66+Models!$E$66*Models!$B$4+Models!$F$66*Models!$B$5))) -> 88.818096 | AS26: =Models!$B$30*Models!$I$30+(200-Models!$B$30*Models!$I$30)/(1+EXP(Models!$C$30*B26*(Models!$B$4*Models!$F$30+Models!$B$5+Models!$I$30*Models!$G$30))) -> 97.615482 | AT26: =100*EXP(-EXP(Models!$D$67*(ChartData!B26-Models!$C$67+Models!$E$67*Models!$B$4+Models!$F$67*Models!$B$5))) -> 81.90111
B27: 380 | C27: =1-'Front Page'!$C$30 -> 0.99630303 | D27: =IF($A$4=1,F27,IF($A$4=2,AB27,IF($A$4=4,AF27,IF($A$4=5,N27,IF($A$4=3,AD27,IF($A$4=6,AQ27,IF($A$4=7,AO27,IF($A$4=8,AS27,IF($A$4=9,AI27,IF($A$4=10,AK27,IF($A$4=11,AM27))))))))))) -> 93.897592 | E27: =IF($A$62="reversed",NA(),IF($A$4=1,G27,IF($A$4=2,AC27,IF($A$4=4,AG27,IF($A$4=5,O27,IF($A$4=3,AE27,IF($A$4=6,AR27,IF($A$4=7,AP27,IF($A$4=8,AT27,IF($A$4=9,AJ27,IF($A$4=10,AL27,IF($A$4=11,AN27)))))))))))) -> 90.035008 | F27: =Equations!$E$4/(1+EXP(Equations!$F$4*ChartData!B27*(Equations!$G$4*Equations!$C$4+Equations!$D$4))) -> 96.372271 | G27: =Equations!$E$7*EXP(-EXP(-Equations!$F$7*(ChartData!B27-Equations!$G$7+Equations!$H$7*Equations!$C$7+Equations!$I$7*Equations!$D$7))) -> 91.293445 | H27: =Models!$B$13+Models!$C$13*EXP(Models!$D$13*ChartData!B27+(Models!$E$13*ChartData!B27*Models!$E$3)) -> 89.255641 | I27: =Models!$B$50*EXP(-EXP(Models!$D$50*(ChartData!B27+Models!$C$50-(Models!$E$50*Models!$B$5)))) -> 81.378284 | J27: =Models!$B$12/(1+EXP(Models!$D$12*(ChartData!B27-Models!$C$12+Models!$E$12*ChartData!B27*Models!$B$5))) -> 71.585248 | K27: =Models!$B$49*EXP(-EXP(Models!$D$49*(ChartData!B27-Models!$C$49+(Models!$E$49*ChartData!B27*Models!$B$5)))) -> 71.64118 | L27: =Models!$B$15/(1+EXP(Models!$D$15*(ChartData!B27*(1+Models!$D$15*Models!$B$5)-Models!$C$15))) -> 60.205275 | M27: =Models!$B$52*EXP(-EXP(Models!$D$52*(ChartData!B27*(1+Models!$D$52*Models!$B$5)-Models!$C$52))) -> 77.388974 | N27: =Models!$B$15/(1+EXP(Models!$D$15*(ChartData!B27-Models!$D$15+Models!$E$15*ChartData!B27*Models!$B$5))) -> 54.641696 | O27: =Models!$B$52*EXP(-EXP(Models!$D$52*(ChartData!B27-Models!$C$52+Models!$E$52*ChartData!B27*Models!$B$5))) -> 82.759104 | P27: =Models!$B$16*Models!$I$16+(100-Models!$B$16*Models!$I$16)/(1+EXP(Models!$C$16*(ChartData!B27-Models!$E$16+Models!$B$4*Models!$F$16+Models!$B$4*Models!$G$16*Models!$I$16+Models!$B$5*Models!$H$16))) -> 97.089965 | Q27: =Models!$B$53*EXP(-EXP(Models!$D$53*(ChartData!B27+Models!$C$53+Models!$B$5*Models!$E$53+Models!$B$4*Models!$F$53))) -> 87.615669 | R27: =Models!$B$17*Models!$I$17+(100-Models!$B$17*Models!$I$17)/(1+EXP(Models!$C$17*(ChartData!B27-Models!$E$17+Models!$B$4*Models!$F$17+Models!$B$4*Models!$G$17*Models!$I$17+Models!$B$5*Models!$H$17))) -> 97.900973 | S27: =Models!$B$54*EXP(-EXP(Models!$D$54*(ChartData!B27+Models!$C$54+Models!$B$5*Models!$E$54+Models!$B$4*Models!$F$54))) -> 73.437837 | T27: =Models!$B$18*Models!$I$18+(100-Models!$B$18*Models!$I$18)/(1+EXP(Models!$C$18*(ChartData!B27-Models!$E$18+Models!$B$4*Models!$F$18+Models!$B$4*Models!$G$18*Models!$I$18+Models!$B$5*Models!$H$18))) -> 97.130433 | U27: =Models!$B$55*EXP(-EXP(Models!$D$55*(ChartData!B27+Models!$C$55+Models!$B$5*Models!$E$55+Models!$B$4*Models!$F$55))) -> 90.035463 | V27: =Models!$B$19*Models!$I$19+(100-Models!$B$19*Models!$I$19)/(1+EXP(Models!$C$19*(ChartData!$B27-Models!$E$19+Models!$B$5*ChartData!$B27*Models!$F$19+Models!$B$4*Models!$G$19))) -> 91.073648 | W27: =Models!$B$56*EXP(-EXP(Models!$D$56*(ChartData!B27+Models!$C$56+Models!$B$5*Models!$E$56+Models!$B$4*Models!$F$56))) -> 89.352017 | X27: =Models!$B$20*Models!$I$20+(100-Models!$B$20*Models!$I$20)/(1+EXP(Models!$C$20*(ChartData!$B27-Models!$E$20+Models!$B$5*ChartData!$B27*Models!$F$20+Models!$B$4*Models!$G$20))) -> 90.028417 | Y27: =Models!$B$57*EXP(-EXP(Models!$D$57*(ChartData!B27+Models!$C$57+Models!$B$5*Models!$E$57+Models!$B$4*Models!$F$57))) -> 93.786287 | Z27: =Models!$B$21*Models!$I$21+(100-Models!$B$21*Models!$I$21)/(1+EXP(Models!$C$21*(ChartData!$B27-Models!$E$21+Models!$B$5*ChartData!$B27*Models!$F$21+Models!$B$4*Models!$G$21))) -> 91.229094 | AA27: =Models!$B$58*EXP(-EXP(Models!$D$58*(ChartData!B27+Models!$C$58+Models!$B$5*Models!$E$58+Models!$B$4*Models!$F$58))) -> 94.29875 | AB27: =200/(1+EXP(Models!$D$22*((Models!$E$22*Models!$B$4+Models!$B$5)*ChartData!B27))) -> 97.348545 | AC27: =100*EXP(-EXP(Models!$D$59*(ChartData!B27-Models!$C$59+Models!$E$59*Models!$B$4+Models!$F$59*Models!$B$5))) -> 82.436285 | AD27: =200/(1+EXP(Models!$D$23*((Models!$E$23*Models!$B$4+Models!$B$5)*ChartData!B27))) -> 96.151682 | AE27: =100*EXP(-EXP(Models!$D$60*(ChartData!B27-Models!$C$60+Models!$E$60*Models!$B$4+Models!$F$60*Models!$B$5))) -> 87.466977 | AF27: =200/(1+EXP(Models!$D$24*((Models!$E$24*Models!$B$4+Models!$B$5)*ChartData!B27))) -> 95.769152 | AG27: =100*EXP(-EXP(Models!$D$61*(ChartData!B27-Models!$C$61+Models!$E$61*Models!$B$4+Models!$F$61*Models!$B$5))) -> 88.416414 | AH27: =IF('Front Page'!$C$31>0,1-'Front Page'!$C$31,"") -> 0.995 | AI27: =Models!$B$25*Models!$I$25+(200-Models!$B$25*Models!$I$25)/(1+EXP(Models!$C$25*B27*(Models!$B$4*Models!$F$25+Models!$B$5+Models!$I$25*Models!$G$25))) -> 96.39084 | AJ27: =100*EXP(-EXP(Models!$D$62*(ChartData!B27-Models!$C$62+Models!$E$62*Models!$B$4+Models!$F$62*Models!$B$5))) -> 89.351907 | AK27: =Models!$B$26*Models!$I$26+(200-Models!$B$26*Models!$I$26)/(1+EXP(Models!$C$26*B27*(Models!$B$4*Models!$F$26+Models!$B$5+Models!$I$26*Models!$G$26))) -> 94.890124 | AL27: =100*EXP(-EXP(Models!$D$63*(ChartData!B27-Models!$C$63+Models!$E$63*Models!$B$4+Models!$F$63*Models!$B$5))) -> 93.786019 | AM27: =Models!$B$27*Models!$I$27+(200-Models!$B$27*Models!$I$27)/(1+EXP(Models!$C$27*B27*(Models!$B$4*Models!$F$27+Models!$B$5+Models!$I$27*Models!$G$27))) -> 93.075307 | AN27: =100*EXP(-EXP(Models!$D$64*(ChartData!B27-Models!$C$64+Models!$E$64*Models!$B$4+Models!$F$64*Models!$B$5))) -> 94.298658 | AO27: =Models!$B$28*Models!$I$28+(200-Models!$B$28*Models!$I$28)/(1+EXP(Models!$C$28*B27*(Models!$B$4*Models!$F$28+Models!$B$5+Models!$I$28*Models!$G$28))) -> 95.840103 | AP27: =100*EXP(-EXP(Models!$D$65*(ChartData!B27-Models!$C$65+Models!$E$65*Models!$B$4+Models!$F$65*Models!$B$5))) -> 73.442098 | AQ27: =Models!$B$29*Models!$I$29+(200-Models!$B$29*Models!$I$29)/(1+EXP(Models!$C$29*B27*(Models!$B$4*Models!$F$29+Models!$B$5+Models!$I$29*Models!$G$29))) -> 93.897592 | AR27: =100*EXP(-EXP(Models!$D$66*(ChartData!B27-Models!$C$66+Models!$E$66*Models!$B$4+Models!$F$66*Models!$B$5))) -> 90.035008 | AS27: =Models!$B$30*Models!$I$30+(200-Models!$B$30*Models!$I$30)/(1+EXP(Models!$C$30*B27*(Models!$B$4*Models!$F$30+Models!$B$5+Models!$I$30*Models!$G$30))) -> 97.217203 | AT27: =100*EXP(-EXP(Models!$D$67*(ChartData!B27-Models!$C$67+Models!$E$67*Models!$B$4+Models!$F$67*Models!$B$5))) -> 83.455176
A28: Current calc yield loss: | B28: 400 | C28: =1-'Front Page'!$C$30 -> 0.99630303 | D28: =IF($A$4=1,F28,IF($A$4=2,AB28,IF($A$4=4,AF28,IF($A$4=5,N28,IF($A$4=3,AD28,IF($A$4=6,AQ28,IF($A$4=7,AO28,IF($A$4=8,AS28,IF($A$4=9,AI28,IF($A$4=10,AK28,IF($A$4=11,AM28))))))))))) -> 93.577275 | E28: =IF($A$62="reversed",NA(),IF($A$4=1,G28,IF($A$4=2,AC28,IF($A$4=4,AG28,IF($A$4=5,O28,IF($A$4=3,AE28,IF($A$4=6,AR28,IF($A$4=7,AP28,IF($A$4=8,AT28,IF($A$4=9,AJ28,IF($A$4=10,AL28,IF($A$4=11,AN28)))))))))))) -> 91.126174 | F28: =Equations!$E$4/(1+EXP(Equations!$F$4*ChartData!B28*(Equations!$G$4*Equations!$C$4+Equations!$D$4))) -> 96.181519 | G28: =Equations!$E$7*EXP(-EXP(-Equations!$F$7*(ChartData!B28-Equations!$G$7+Equations!$H$7*Equations!$C$7+Equations!$I$7*Equations!$D$7))) -> 91.834818 | H28: =Models!$B$13+Models!$C$13*EXP(Models!$D$13*ChartData!B28+(Models!$E$13*ChartData!B28*Models!$E$3)) -> 88.731344 | I28: =Models!$B$50*EXP(-EXP(Models!$D$50*(ChartData!B28+Models!$C$50-(Models!$E$50*Models!$B$5)))) -> 82.125985 | J28: =Models!$B$12/(1+EXP(Models!$D$12*(ChartData!B28-Models!$C$12+Models!$E$12*ChartData!B28*Models!$B$5))) -> 49.702677 | K28: =Models!$B$49*EXP(-EXP(Models!$D$49*(ChartData!B28-Models!$C$49+(Models!$E$49*ChartData!B28*Models!$B$5)))) -> 74.836893 | L28: =Models!$B$15/(1+EXP(Models!$D$15*(ChartData!B28*(1+Models!$D$15*Models!$B$5)-Models!$C$15))) -> 58.288111 | M28: =Models!$B$52*EXP(-EXP(Models!$D$52*(ChartData!B28*(1+Models!$D$52*Models!$B$5)-Models!$C$52))) -> 80.259311 | N28: =Models!$B$15/(1+EXP(Models!$D$15*(ChartData!B28-Models!$D$15+Models!$E$15*ChartData!B28*Models!$B$5))) -> 52.620708 | O28: =Models!$B$52*EXP(-EXP(Models!$D$52*(ChartData!B28-Models!$C$52+Models!$E$52*ChartData!B28*Models!$B$5))) -> 85.233351 | P28: =Models!$B$16*Models!$I$16+(100-Models!$B$16*Models!$I$16)/(1+EXP(Models!$C$16*(ChartData!B28-Models!$E$16+Models!$B$4*Models!$F$16+Models!$B$4*Models!$G$16*Models!$I$16+Models!$B$5*Models!$H$16))) -> 96.957676 | Q28: =Models!$B$53*EXP(-EXP(Models!$D$53*(ChartData!B28+Models!$C$53+Models!$B$5*Models!$E$53+Models!$B$4*Models!$F$53))) -> 88.853387 | R28: =Models!$B$17*Models!$I$17+(100-Models!$B$17*Models!$I$17)/(1+EXP(Models!$C$17*(ChartData!B28-Models!$E$17+Models!$B$4*Models!$F$17+Models!$B$4*Models!$G$17*Models!$I$17+Models!$B$5*Models!$H$17))) -> 97.825002 | S28: =Models!$B$54*EXP(-EXP(Models!$D$54*(ChartData!B28+Models!$C$54+Models!$B$5*Models!$E$54+Models!$B$4*Models!$F$54))) -> 75.090441 | T28: =Models!$B$18*Models!$I$18+(100-Models!$B$18*Models!$I$18)/(1+EXP(Models!$C$18*(ChartData!B28-Models!$E$18+Models!$B$4*Models!$F$18+Models!$B$4*Models!$G$18*Models!$I$18+Models!$B$5*Models!$H$18))) -> 96.97598 | U28: =Models!$B$55*EXP(-EXP(Models!$D$55*(ChartData!B28+Models!$C$55+Models!$B$5*Models!$E$55+Models!$B$4*Models!$F$55))) -> 91.126598 | V28: =Models!$B$19*Models!$I$19+(100-Models!$B$19*Models!$I$19)/(1+EXP(Models!$C$19*(ChartData!$B28-Models!$E$19+Models!$B$5*ChartData!$B28*Models!$F$19+Models!$B$4*Models!$G$19))) -> 90.971817 | W28: =Models!$B$56*EXP(-EXP(Models!$D$56*(ChartData!B28+Models!$C$56+Models!$B$5*Models!$E$56+Models!$B$4*Models!$F$56))) -> 89.894616 | X28: =Models!$B$20*Models!$I$20+(100-Models!$B$20*Models!$I$20)/(1+EXP(Models!$C$20*(ChartData!$B28-Models!$E$20+Models!$B$5*ChartData!$B28*Models!$F$20+Models!$B$4*Models!$G$20))) -> 89.862243 | Y28: =Models!$B$57*EXP(-EXP(Models!$D$57*(ChartData!B28+Models!$C$57+Models!$B$5*Models!$E$57+Models!$B$4*Models!$F$57))) -> 94.270173 | Z28: =Models!$B$21*Models!$I$21+(100-Models!$B$21*Models!$I$21)/(1+EXP(Models!$C$21*(ChartData!$B28-Models!$E$21+Models!$B$5*ChartData!$B28*Models!$F$21+Models!$B$4*Models!$G$21))) -> 91.068625 | AA28: =Models!$B$58*EXP(-EXP(Models!$D$58*(ChartData!B28+Models!$C$58+Models!$B$5*Models!$E$58+Models!$B$4*Models!$F$58))) -> 94.767529 | AB28: =200/(1+EXP(Models!$D$22*((Models!$E$22*Models!$B$4+Models!$B$5)*ChartData!B28))) -> 97.209066 | AC28: =100*EXP(-EXP(Models!$D$59*(ChartData!B28-Models!$C$59+Models!$E$59*Models!$B$4+Models!$F$59*Models!$B$5))) -> 83.042891 | AD28: =200/(1+EXP(Models!$D$23*((Models!$E$23*Models!$B$4+Models!$B$5)*ChartData!B28))) -> 95.949355 | AE28: =100*EXP(-EXP(Models!$D$60*(ChartData!B28-Models!$C$60+Models!$E$60*Models!$B$4+Models!$F$60*Models!$B$5))) -> 88.122662 | AF28: =200/(1+EXP(Models!$D$24*((Models!$E$24*Models!$B$4+Models!$B$5)*ChartData!B28))) -> 95.546763 | AG28: =100*EXP(-EXP(Models!$D$61*(ChartData!B28-Models!$C$61+Models!$E$61*Models!$B$4+Models!$F$61*Models!$B$5))) -> 89.070073 | AH28: =IF('Front Page'!$C$31>0,1-'Front Page'!$C$31,"") -> 0.995 | AI28: =Models!$B$25*Models!$I$25+(200-Models!$B$25*Models!$I$25)/(1+EXP(Models!$C$25*B28*(Models!$B$4*Models!$F$25+Models!$B$5+Models!$I$25*Models!$G$25))) -> 96.201062 | AJ28: =100*EXP(-EXP(Models!$D$62*(ChartData!B28-Models!$C$62+Models!$E$62*Models!$B$4+Models!$F$62*Models!$B$5))) -> 89.894511 | AK28: =Models!$B$26*Models!$I$26+(200-Models!$B$26*Models!$I$26)/(1+EXP(Models!$C$26*B28*(Models!$B$4*Models!$F$26+Models!$B$5+Models!$I$26*Models!$G$26))) -> 94.621689 | AL28: =100*EXP(-EXP(Models!$D$63*(ChartData!B28-Models!$C$63+Models!$E$63*Models!$B$4+Models!$F$63*Models!$B$5))) -> 94.269914 | AM28: =Models!$B$27*Models!$I$27+(200-Models!$B$27*Models!$I$27)/(1+EXP(Models!$C$27*B28*(Models!$B$4*Models!$F$27+Models!$B$5+Models!$I$27*Models!$G$27))) -> 92.315252 | AN28: =100*EXP(-EXP(Models!$D$64*(ChartData!B28-Models!$C$64+Models!$E$64*Models!$B$4+Models!$F$64*Models!$B$5))) -> 94.767444 | AO28: =Models!$B$28*Models!$I$28+(200-Models!$B$28*Models!$I$28)/(1+EXP(Models!$C$28*B28*(Models!$B$4*Models!$F$28+Models!$B$5+Models!$I$28*Models!$G$28))) -> 95.621434 | AP28: =100*EXP(-EXP(Models!$D$65*(ChartData!B28-Models!$C$65+Models!$E$65*Models!$B$4+Models!$F$65*Models!$B$5))) -> 75.094483 | AQ28: =Models!$B$29*Models!$I$29+(200-Models!$B$29*Models!$I$29)/(1+EXP(Models!$C$29*B28*(Models!$B$4*Models!$F$29+Models!$B$5+Models!$I$29*Models!$G$29))) -> 93.577275 | AR28: =100*EXP(-EXP(Models!$D$66*(ChartData!B28-Models!$C$66+Models!$E$66*Models!$B$4+Models!$F$66*Models!$B$5))) -> 91.126174 | AS28: =Models!$B$30*Models!$I$30+(200-Models!$B$30*Models!$I$30)/(1+EXP(Models!$C$30*B28*(Models!$B$4*Models!$F$30+Models!$B$5+Models!$I$30*Models!$G$30))) -> 96.819191 | AT28: =100*EXP(-EXP(Models!$D$67*(ChartData!B28-Models!$C$67+Models!$E$67*Models!$B$4+Models!$F$67*Models!$B$5))) -> 84.888371
A29: =MAX(IF(D73<E73,D73,E73),0) -> 1.6077562 | B29: 450 | C29: =1-'Front Page'!$C$30 -> 0.99630303 | D29: =IF($A$4=1,F29,IF($A$4=2,AB29,IF($A$4=4,AF29,IF($A$4=5,N29,IF($A$4=3,AD29,IF($A$4=6,AQ29,IF($A$4=7,AO29,IF($A$4=8,AS29,IF($A$4=9,AI29,IF($A$4=10,AK29,IF($A$4=11,AM29))))))))))) -> 92.777074 | E29: =IF($A$62="reversed",NA(),IF($A$4=1,G29,IF($A$4=2,AC29,IF($A$4=4,AG29,IF($A$4=5,O29,IF($A$4=3,AE29,IF($A$4=6,AR29,IF($A$4=7,AP29,IF($A$4=8,AT29,IF($A$4=9,AJ29,IF($A$4=10,AL29,IF($A$4=11,AN29)))))))))))) -> 93.377937 | F29: =Equations!$E$4/(1+EXP(Equations!$F$4*ChartData!B29*(Equations!$G$4*Equations!$C$4+Equations!$D$4))) -> 95.704763 | G29: =Equations!$E$7*EXP(-EXP(-Equations!$F$7*(ChartData!B29-Equations!$G$7+Equations!$H$7*Equations!$C$7+Equations!$I$7*Equations!$D$7))) -> 93.051012 | H29: =Models!$B$13+Models!$C$13*EXP(Models!$D$13*ChartData!B29+(Models!$E$13*ChartData!B29*Models!$E$3)) -> 87.437632 | I29: =Models!$B$50*EXP(-EXP(Models!$D$50*(ChartData!B29+Models!$C$50-(Models!$E$50*Models!$B$5)))) -> 83.879622 | J29: =Models!$B$12/(1+EXP(Models!$D$12*(ChartData!B29-Models!$C$12+Models!$E$12*ChartData!B29*Models!$B$5))) -> 12.185477 | K29: =Models!$B$49*EXP(-EXP(Models!$D$49*(ChartData!B29-Models!$C$49+(Models!$E$49*ChartData!B29*Models!$B$5)))) -> 81.535333 | L29: =Models!$B$15/(1+EXP(Models!$D$15*(ChartData!B29*(1+Models!$D$15*Models!$B$5)-Models!$C$15))) -> 53.656465 | M29: =Models!$B$52*EXP(-EXP(Models!$D$52*(ChartData!B29*(1+Models!$D$52*Models!$B$5)-Models!$C$52))) -> 86.077719 | N29: =Models!$B$15/(1+EXP(Models!$D$15*(ChartData!B29-Models!$D$15+Models!$E$15*ChartData!B29*Models!$B$5))) -> 47.782976 | O29: =Models!$B$52*EXP(-EXP(Models!$D$52*(ChartData!B29-Models!$C$52+Models!$E$52*ChartData!B29*Models!$B$5))) -> 90.062797 | P29: =Models!$B$16*Models!$I$16+(100-Models!$B$16*Models!$I$16)/(1+EXP(Models!$C$16*(ChartData!B29-Models!$E$16+Models!$B$4*Models!$F$16+Models!$B$4*Models!$G$16*Models!$I$16+Models!$B$5*Models!$H$16))) -> 96.600984 | Q29: =Models!$B$53*EXP(-EXP(Models!$D$53*(ChartData!B29+Models!$C$53+Models!$B$5*Models!$E$53+Models!$B$4*Models!$F$53))) -> 91.458597 | R29: =Models!$B$17*Models!$I$17+(100-Models!$B$17*Models!$I$17)/(1+EXP(Models!$C$17*(ChartData!B29-Models!$E$17+Models!$B$4*Models!$F$17+Models!$B$4*Models!$G$17*Models!$I$17+Models!$B$5*Models!$H$17))) -> 97.623124 | S29: =Models!$B$54*EXP(-EXP(Models!$D$54*(ChartData!B29+Models!$C$54+Models!$B$5*Models!$E$54+Models!$B$4*Models!$F$54))) -> 78.851065 | T29: =Models!$B$18*Models!$I$18+(100-Models!$B$18*Models!$I$18)/(1+EXP(Models!$C$18*(ChartData!B29-Models!$E$18+Models!$B$4*Models!$F$18+Models!$B$4*Models!$G$18*Models!$I$18+Models!$B$5*Models!$H$18))) -> 96.553938 | U29: =Models!$B$55*EXP(-EXP(Models!$D$55*(ChartData!B29+Models!$C$55+Models!$B$5*Models!$E$55+Models!$B$4*Models!$F$55))) -> 93.37829 | V29: =Models!$B$19*Models!$I$19+(100-Models!$B$19*Models!$I$19)/(1+EXP(Models!$C$19*(ChartData!$B29-Models!$E$19+Models!$B$5*ChartData!$B29*Models!$F$19+Models!$B$4*Models!$G$19))) -> 90.712651 | W29: =Models!$B$56*EXP(-EXP(Models!$D$56*(ChartData!B29+Models!$C$56+Models!$B$5*Models!$E$56+Models!$B$4*Models!$F$56))) -> 91.13914 | X29: =Models!$B$20*Models!$I$20+(100-Models!$B$20*Models!$I$20)/(1+EXP(Models!$C$20*(ChartData!$B29-Models!$E$20+Models!$B$5*ChartData!$B29*Models!$F$20+Models!$B$4*Models!$G$20))) -> 89.436025 | Y29: =Models!$B$57*EXP(-EXP(Models!$D$57*(ChartData!B29+Models!$C$57+Models!$B$5*Models!$E$57+Models!$B$4*Models!$F$57))) -> 95.325364 | Z29: =Models!$B$21*Models!$I$21+(100-Models!$B$21*Models!$I$21)/(1+EXP(Models!$C$21*(ChartData!$B29-Models!$E$21+Models!$B$5*ChartData!$B29*Models!$F$21+Models!$B$4*Models!$G$21))) -> 90.656039 | AA29: =Models!$B$58*EXP(-EXP(Models!$D$58*(ChartData!B29+Models!$C$58+Models!$B$5*Models!$E$58+Models!$B$4*Models!$F$58))) -> 95.781345 | AB29: =200/(1+EXP(Models!$D$22*((Models!$E$22*Models!$B$4+Models!$B$5)*ChartData!B29))) -> 96.860415 | AC29: =100*EXP(-EXP(Models!$D$59*(ChartData!B29-Models!$C$59+Models!$E$59*Models!$B$4+Models!$F$59*Models!$B$5))) -> 84.478031 | AD29: =200/(1+EXP(Models!$D$23*((Models!$E$23*Models!$B$4+Models!$B$5)*ChartData!B29))) -> 95.443686 | AE29: =100*EXP(-EXP(Models!$D$60*(ChartData!B29-Models!$C$60+Models!$E$60*Models!$B$4+Models!$F$60*Models!$B$5))) -> 89.624516 | AF29: =200/(1+EXP(Models!$D$24*((Models!$E$24*Models!$B$4+Models!$B$5)*ChartData!B29))) -> 94.990988 | AG29: =100*EXP(-EXP(Models!$D$61*(ChartData!B29-Models!$C$61+Models!$E$61*Models!$B$4+Models!$F$61*Models!$B$5))) -> 90.55587 | AH29: =IF('Front Page'!$C$31>0,1-'Front Page'!$C$31,"") -> 0.995 | AI29: =Models!$B$25*Models!$I$25+(200-Models!$B$25*Models!$I$25)/(1+EXP(Models!$C$25*B29*(Models!$B$4*Models!$F$25+Models!$B$5+Models!$I$25*Models!$G$25))) -> 95.726741 | AJ29: =100*EXP(-EXP(Models!$D$62*(ChartData!B29-Models!$C$62+Models!$E$62*Models!$B$4+Models!$F$62*Models!$B$5))) -> 91.139047 | AK29: =Models!$B$26*Models!$I$26+(200-Models!$B$26*Models!$I$26)/(1+EXP(Models!$C$26*B29*(Models!$B$4*Models!$F$26+Models!$B$5+Models!$I$26*Models!$G$26))) -> 93.95095 | AL29: =100*EXP(-EXP(Models!$D$63*(ChartData!B29-Models!$C$63+Models!$E$63*Models!$B$4+Models!$F$63*Models!$B$5))) -> 95.325129 | AM29: =Models!$B$27*Models!$I$27+(200-Models!$B$27*Models!$I$27)/(1+EXP(Models!$C$27*B29*(Models!$B$4*Models!$F$27+Models!$B$5+Models!$I$27*Models!$G$27))) -> 90.424766 | AN29: =100*EXP(-EXP(Models!$D$64*(ChartData!B29-Models!$C$64+Models!$E$64*Models!$B$4+Models!$F$64*Models!$B$5))) -> 95.781277 | AO29: =Models!$B$28*Models!$I$28+(200-Models!$B$28*Models!$I$28)/(1+EXP(Models!$C$28*B29*(Models!$B$4*Models!$F$28+Models!$B$5+Models!$I$28*Models!$G$28))) -> 95.074949 | AP29: =100*EXP(-EXP(Models!$D$65*(ChartData!B29-Models!$C$65+Models!$E$65*Models!$B$4+Models!$F$65*Models!$B$5))) -> 78.854586 | AQ29: =Models!$B$29*Models!$I$29+(200-Models!$B$29*Models!$I$29)/(1+EXP(Models!$C$29*B29*(Models!$B$4*Models!$F$29+Models!$B$5+Models!$I$29*Models!$G$29))) -> 92.777074 | AR29: =100*EXP(-EXP(Models!$D$66*(ChartData!B29-Models!$C$66+Models!$E$66*Models!$B$4+Models!$F$66*Models!$B$5))) -> 93.377937 | AS29: =Models!$B$30*Models!$I$30+(200-Models!$B$30*Models!$I$30)/(1+EXP(Models!$C$30*B29*(Models!$B$4*Models!$F$30+Models!$B$5+Models!$I$30*Models!$G$30))) -> 95.825423 | AT29: =100*EXP(-EXP(Models!$D$67*(ChartData!B29-Models!$C$67+Models!$E$67*Models!$B$4+Models!$F$67*Models!$B$5))) -> 87.989585
B30: 500 | C30: =1-'Front Page'!$C$30 -> 0.99630303 | D30: =IF($A$4=1,F30,IF($A$4=2,AB30,IF($A$4=4,AF30,IF($A$4=5,N30,IF($A$4=3,AD30,IF($A$4=6,AQ30,IF($A$4=7,AO30,IF($A$4=8,AS30,IF($A$4=9,AI30,IF($A$4=10,AK30,IF($A$4=11,AM30))))))))))) -> 91.977802 | E30: =IF($A$62="reversed",NA(),IF($A$4=1,G30,IF($A$4=2,AC30,IF($A$4=4,AG30,IF($A$4=5,O30,IF($A$4=3,AE30,IF($A$4=6,AR30,IF($A$4=7,AP30,IF($A$4=8,AT30,IF($A$4=9,AJ30,IF($A$4=10,AL30,IF($A$4=11,AN30)))))))))))) -> 95.073757 | F30: =Equations!$E$4/(1+EXP(Equations!$F$4*ChartData!B30*(Equations!$G$4*Equations!$C$4+Equations!$D$4))) -> 95.228203 | G30: =Equations!$E$7*EXP(-EXP(-Equations!$F$7*(ChartData!B30-Equations!$G$7+Equations!$H$7*Equations!$C$7+Equations!$I$7*Equations!$D$7))) -> 94.091916 | H30: =Models!$B$13+Models!$C$13*EXP(Models!$D$13*ChartData!B30+(Models!$E$13*ChartData!B30*Models!$E$3)) -> 86.167887 | I30: =Models!$B$50*EXP(-EXP(Models!$D$50*(ChartData!B30+Models!$C$50-(Models!$E$50*Models!$B$5)))) -> 85.476712 | J30: =Models!$B$12/(1+EXP(Models!$D$12*(ChartData!B30-Models!$C$12+Models!$E$12*ChartData!B30*Models!$B$5))) -> 2.138194 | K30: =Models!$B$49*EXP(-EXP(Models!$D$49*(ChartData!B30-Models!$C$49+(Models!$E$49*ChartData!B30*Models!$B$5)))) -> 86.609434 | L30: =Models!$B$15/(1+EXP(Models!$D$15*(ChartData!B30*(1+Models!$D$15*Models!$B$5)-Models!$C$15))) -> 49.26491 | M30: =Models!$B$52*EXP(-EXP(Models!$D$52*(ChartData!B30*(1+Models!$D$52*Models!$B$5)-Models!$C$52))) -> 90.284344 | N30: =Models!$B$15/(1+EXP(Models!$D$15*(ChartData!B30-Models!$D$15+Models!$E$15*ChartData!B30*Models!$B$5))) -> 43.259457 | O30: =Models!$B$52*EXP(-EXP(Models!$D$52*(ChartData!B30-Models!$C$52+Models!$E$52*ChartData!B30*Models!$B$5))) -> 93.373738 | P30: =Models!$B$16*Models!$I$16+(100-Models!$B$16*Models!$I$16)/(1+EXP(Models!$C$16*(ChartData!B30-Models!$E$16+Models!$B$4*Models!$F$16+Models!$B$4*Models!$G$16*Models!$I$16+Models!$B$5*Models!$H$16))) -> 96.204109 | Q30: =Models!$B$53*EXP(-EXP(Models!$D$53*(ChartData!B30+Models!$C$53+Models!$B$5*Models!$E$53+Models!$B$4*Models!$F$53))) -> 93.477297 | R30: =Models!$B$17*Models!$I$17+(100-Models!$B$17*Models!$I$17)/(1+EXP(Models!$C$17*(ChartData!B30-Models!$E$17+Models!$B$4*Models!$F$17+Models!$B$4*Models!$G$17*Models!$I$17+Models!$B$5*Models!$H$17))) -> 97.403006 | S30: =Models!$B$54*EXP(-EXP(Models!$D$54*(ChartData!B30+Models!$C$54+Models!$B$5*Models!$E$54+Models!$B$4*Models!$F$54))) -> 82.112684 | T30: =Models!$B$18*Models!$I$18+(100-Models!$B$18*Models!$I$18)/(1+EXP(Models!$C$18*(ChartData!B30-Models!$E$18+Models!$B$4*Models!$F$18+Models!$B$4*Models!$G$18*Models!$I$18+Models!$B$5*Models!$H$18))) -> 96.075596 | U30: =Models!$B$55*EXP(-EXP(Models!$D$55*(ChartData!B30+Models!$C$55+Models!$B$5*Models!$E$55+Models!$B$4*Models!$F$55))) -> 95.074046 | V30: =Models!$B$19*Models!$I$19+(100-Models!$B$19*Models!$I$19)/(1+EXP(Models!$C$19*(ChartData!$B30-Models!$E$19+Models!$B$5*ChartData!$B30*Models!$F$19+Models!$B$4*Models!$G$19))) -> 90.446827 | W30: =Models!$B$56*EXP(-EXP(Models!$D$56*(ChartData!B30+Models!$C$56+Models!$B$5*Models!$E$56+Models!$B$4*Models!$F$56))) -> 92.237072 | X30: =Models!$B$20*Models!$I$20+(100-Models!$B$20*Models!$I$20)/(1+EXP(Models!$C$20*(ChartData!$B30-Models!$E$20+Models!$B$5*ChartData!$B30*Models!$F$20+Models!$B$4*Models!$G$20))) -> 88.994082 | Y30: =Models!$B$57*EXP(-EXP(Models!$D$57*(ChartData!B30+Models!$C$57+Models!$B$5*Models!$E$57+Models!$B$4*Models!$F$57))) -> 96.190171 | Z30: =Models!$B$21*Models!$I$21+(100-Models!$B$21*Models!$I$21)/(1+EXP(Models!$C$21*(ChartData!$B30-Models!$E$21+Models!$B$5*ChartData!$B30*Models!$F$21+Models!$B$4*Models!$G$21))) -> 90.226779 | AA30: =Models!$B$58*EXP(-EXP(Models!$D$58*(ChartData!B30+Models!$C$58+Models!$B$5*Models!$E$58+Models!$B$4*Models!$F$58))) -> 96.602259 | AB30: =200/(1+EXP(Models!$D$22*((Models!$E$22*Models!$B$4+Models!$B$5)*ChartData!B30))) -> 96.511842 | AC30: =100*EXP(-EXP(Models!$D$59*(ChartData!B30-Models!$C$59+Models!$E$59*Models!$B$4+Models!$F$59*Models!$B$5))) -> 85.802299 | AD30: =200/(1+EXP(Models!$D$23*((Models!$E$23*Models!$B$4+Models!$B$5)*ChartData!B30))) -> 94.938251 | AE30: =100*EXP(-EXP(Models!$D$60*(ChartData!B30-Models!$C$60+Models!$E$60*Models!$B$4+Models!$F$60*Models!$B$5))) -> 90.94632 | AF30: =200/(1+EXP(Models!$D$24*((Models!$E$24*Models!$B$4+Models!$B$5)*ChartData!B30))) -> 94.435524 | AG30: =100*EXP(-EXP(Models!$D$61*(ChartData!B30-Models!$C$61+Models!$E$61*Models!$B$4+Models!$F$61*Models!$B$5))) -> 91.849013 | AH30: =IF('Front Page'!$C$31>0,1-'Front Page'!$C$31,"") -> 0.995 | AI30: =Models!$B$25*Models!$I$25+(200-Models!$B$25*Models!$I$25)/(1+EXP(Models!$C$25*B30*(Models!$B$4*Models!$F$25+Models!$B$5+Models!$I$25*Models!$G$25))) -> 95.252613 | AJ30: =100*EXP(-EXP(Models!$D$62*(ChartData!B30-Models!$C$62+Models!$E$62*Models!$B$4+Models!$F$62*Models!$B$5))) -> 92.23699 | AK30: =Models!$B$26*Models!$I$26+(200-Models!$B$26*Models!$I$26)/(1+EXP(Models!$C$26*B30*(Models!$B$4*Models!$F$26+Models!$B$5+Models!$I$26*Models!$G$26))) -> 93.280757 | AL30: =100*EXP(-EXP(Models!$D$63*(ChartData!B30-Models!$C$63+Models!$E$63*Models!$B$4+Models!$F$63*Models!$B$5))) -> 96.18996 | AM30: =Models!$B$27*Models!$I$27+(200-Models!$B$27*Models!$I$27)/(1+EXP(Models!$C$27*B30*(Models!$B$4*Models!$F$27+Models!$B$5+Models!$I$27*Models!$G$27))) -> 88.549292 | AN30: =100*EXP(-EXP(Models!$D$64*(ChartData!B30-Models!$C$64+Models!$E$64*Models!$B$4+Models!$F$64*Models!$B$5))) -> 96.602204 | AO30: =Models!$B$28*Models!$I$28+(200-Models!$B$28*Models!$I$28)/(1+EXP(Models!$C$28*B30*(Models!$B$4*Models!$F$28+Models!$B$5+Models!$I$28*Models!$G$28))) -> 94.52876 | AP30: =100*EXP(-EXP(Models!$D$65*(ChartData!B30-Models!$C$65+Models!$E$65*Models!$B$4+Models!$F$65*Models!$B$5))) -> 82.115725 | AQ30: =Models!$B$29*Models!$I$29+(200-Models!$B$29*Models!$I$29)/(1+EXP(Models!$C$29*B30*(Models!$B$4*Models!$F$29+Models!$B$5+Models!$I$29*Models!$G$29))) -> 91.977802 | AR30: =100*EXP(-EXP(Models!$D$66*(ChartData!B30-Models!$C$66+Models!$E$66*Models!$B$4+Models!$F$66*Models!$B$5))) -> 95.073757 | AS30: =Models!$B$30*Models!$I$30+(200-Models!$B$30*Models!$I$30)/(1+EXP(Models!$C$30*B30*(Models!$B$4*Models!$F$30+Models!$B$5+Models!$I$30*Models!$G$30))) -> 94.833627 | AT30: =100*EXP(-EXP(Models!$D$67*(ChartData!B30-Models!$C$67+Models!$E$67*Models!$B$4+Models!$F$67*Models!$B$5))) -> 90.490183
A31: Display Model Selections: | B31: 550 | C31: =1-'Front Page'!$C$30 -> 0.99630303 | D31: =IF($A$4=1,F31,IF($A$4=2,AB31,IF($A$4=4,AF31,IF($A$4=5,N31,IF($A$4=3,AD31,IF($A$4=6,AQ31,IF($A$4=7,AO31,IF($A$4=8,AS31,IF($A$4=9,AI31,IF($A$4=10,AK31,IF($A$4=11,AM31))))))))))) -> 91.179561 | E31: =IF($A$62="reversed",NA(),IF($A$4=1,G31,IF($A$4=2,AC31,IF($A$4=4,AG31,IF($A$4=5,O31,IF($A$4=3,AE31,IF($A$4=6,AR31,IF($A$4=7,AP31,IF($A$4=8,AT31,IF($A$4=9,AJ31,IF($A$4=10,AL31,IF($A$4=11,AN31)))))))))))) -> 96.343805 | F31: =Equations!$E$4/(1+EXP(Equations!$F$4*ChartData!B31*(Equations!$G$4*Equations!$C$4+Equations!$D$4))) -> 94.75186 | G31: =Equations!$E$7*EXP(-EXP(-Equations!$F$7*(ChartData!B31-Equations!$G$7+Equations!$H$7*Equations!$C$7+Equations!$I$7*Equations!$D$7))) -> 94.981126 | H31: =Models!$B$13+Models!$C$13*EXP(Models!$D$13*ChartData!B31+(Models!$E$13*ChartData!B31*Models!$E$3)) -> 84.921666 | I31: =Models!$B$50*EXP(-EXP(Models!$D$50*(ChartData!B31+Models!$C$50-(Models!$E$50*Models!$B$5)))) -> 86.928113 | J31: =Models!$B$12/(1+EXP(Models!$D$12*(ChartData!B31-Models!$C$12+Models!$E$12*ChartData!B31*Models!$B$5))) -> 0.34864712 | K31: =Models!$B$49*EXP(-EXP(Models!$D$49*(ChartData!B31-Models!$C$49+(Models!$E$49*ChartData!B31*Models!$B$5)))) -> 90.371233 | L31: =Models!$B$15/(1+EXP(Models!$D$15*(ChartData!B31*(1+Models!$D$15*Models!$B$5)-Models!$C$15))) -> 45.121963 | M31: =Models!$B$52*EXP(-EXP(Models!$D$52*(ChartData!B31*(1+Models!$D$52*Models!$B$5)-Models!$C$52))) -> 93.269414 | N31: =Models!$B$15/(1+EXP(Models!$D$15*(ChartData!B31-Models!$D$15+Models!$E$15*ChartData!B31*Models!$B$5))) -> 39.054298 | O31: =Models!$B$52*EXP(-EXP(Models!$D$52*(ChartData!B31-Models!$C$52+Models!$E$52*ChartData!B31*Models!$B$5))) -> 95.608292 | P31: =Models!$B$16*Models!$I$16+(100-Models!$B$16*Models!$I$16)/(1+EXP(Models!$C$16*(ChartData!B31-Models!$E$16+Models!$B$4*Models!$F$16+Models!$B$4*Models!$G$16*Models!$I$16+Models!$B$5*Models!$H$16))) -> 95.762927 | Q31: =Models!$B$53*EXP(-EXP(Models!$D$53*(ChartData!B31+Models!$C$53+Models!$B$5*Models!$E$53+Models!$B$4*Models!$F$53))) -> 95.031866 | R31: =Models!$B$17*Models!$I$17+(100-Models!$B$17*Models!$I$17)/(1+EXP(Models!$C$17*(ChartData!B31-Models!$E$17+Models!$B$4*Models!$F$17+Models!$B$4*Models!$G$17*Models!$I$17+Models!$B$5*Models!$H$17))) -> 97.163095 | S31: =Models!$B$54*EXP(-EXP(Models!$D$54*(ChartData!B31+Models!$C$54+Models!$B$5*Models!$E$54+Models!$B$4*Models!$F$54))) -> 84.920051 | T31: =Models!$B$18*Models!$I$18+(100-Models!$B$18*Models!$I$18)/(1+EXP(Models!$C$18*(ChartData!B31-Models!$E$18+Models!$B$4*Models!$F$18+Models!$B$4*Models!$G$18*Models!$I$18+Models!$B$5*Models!$H$18))) -> 95.534213 | U31: =Models!$B$55*EXP(-EXP(Models!$D$55*(ChartData!B31+Models!$C$55+Models!$B$5*Models!$E$55+Models!$B$4*Models!$F$55))) -> 96.344038 | V31: =Models!$B$19*Models!$I$19+(100-Models!$B$19*Models!$I$19)/(1+EXP(Models!$C$19*(ChartData!$B31-Models!$E$19+Models!$B$5*ChartData!$B31*Models!$F$19+Models!$B$4*Models!$G$19))) -> 90.174218 | W31: =Models!$B$56*EXP(-EXP(Models!$D$56*(ChartData!B31+Models!$C$56+Models!$B$5*Models!$E$56+Models!$B$4*Models!$F$56))) -> 93.204073 | X31: =Models!$B$20*Models!$I$20+(100-Models!$B$20*Models!$I$20)/(1+EXP(Models!$C$20*(ChartData!$B31-Models!$E$20+Models!$B$5*ChartData!$B31*Models!$F$20+Models!$B$4*Models!$G$20))) -> 88.536021 | Y31: =Models!$B$57*EXP(-EXP(Models!$D$57*(ChartData!B31+Models!$C$57+Models!$B$5*Models!$E$57+Models!$B$4*Models!$F$57))) -> 96.897598 | Z31: =Models!$B$21*Models!$I$21+(100-Models!$B$21*Models!$I$21)/(1+EXP(Models!$C$21*(ChartData!$B31-Models!$E$21+Models!$B$5*ChartData!$B31*Models!$F$21+Models!$B$4*Models!$G$21))) -> 89.780393 | AA31: =Models!$B$58*EXP(-EXP(Models!$D$58*(ChartData!B31+Models!$C$58+Models!$B$5*Models!$E$58+Models!$B$4*Models!$F$58))) -> 97.265714 | AB31: =200/(1+EXP(Models!$D$22*((Models!$E$22*Models!$B$4+Models!$B$5)*ChartData!B31))) -> 96.163353 | AC31: =100*EXP(-EXP(Models!$D$59*(ChartData!B31-Models!$C$59+Models!$E$59*Models!$B$4+Models!$F$59*Models!$B$5))) -> 87.02242 | AD31: =200/(1+EXP(Models!$D$23*((Models!$E$23*Models!$B$4+Models!$B$5)*ChartData!B31))) -> 94.433075 | AE31: =100*EXP(-EXP(Models!$D$60*(ChartData!B31-Models!$C$60+Models!$E$60*Models!$B$4+Models!$F$60*Models!$B$5))) -> 92.107211 | AF31: =200/(1+EXP(Models!$D$24*((Models!$E$24*Models!$B$4+Models!$B$5)*ChartData!B31))) -> 93.880403 | AG31: =100*EXP(-EXP(Models!$D$61*(ChartData!B31-Models!$C$61+Models!$E$61*Models!$B$4+Models!$F$61*Models!$B$5))) -> 92.972013 | AH31: =IF('Front Page'!$C$31>0,1-'Front Page'!$C$31,"") -> 0.995 | AI31: =Models!$B$25*Models!$I$25+(200-Models!$B$25*Models!$I$25)/(1+EXP(Models!$C$25*B31*(Models!$B$4*Models!$F$25+Models!$B$5+Models!$I$25*Models!$G$25))) -> 94.778698 | AJ31: =100*EXP(-EXP(Models!$D$62*(ChartData!B31-Models!$C$62+Models!$E$62*Models!$B$4+Models!$F$62*Models!$B$5))) -> 93.204 | AK31: =Models!$B$26*Models!$I$26+(200-Models!$B$26*Models!$I$26)/(1+EXP(Models!$C$26*B31*(Models!$B$4*Models!$F$26+Models!$B$5+Models!$I$26*Models!$G$26))) -> 92.61117 | AL31: =100*EXP(-EXP(Models!$D$63*(ChartData!B31-Models!$C$63+Models!$E$63*Models!$B$4+Models!$F$63*Models!$B$5))) -> 96.89741 | AM31: =Models!$B$27*Models!$I$27+(200-Models!$B$27*Models!$I$27)/(1+EXP(Models!$C$27*B31*(Models!$B$4*Models!$F$27+Models!$B$5+Models!$I$27*Models!$G$27))) -> 86.690311 | AN31: =100*EXP(-EXP(Models!$D$64*(ChartData!B31-Models!$C$64+Models!$E$64*Models!$B$4+Models!$F$64*Models!$B$5))) -> 97.265669 | AO31: =Models!$B$28*Models!$I$28+(200-Models!$B$28*Models!$I$28)/(1+EXP(Models!$C$28*B31*(Models!$B$4*Models!$F$28+Models!$B$5+Models!$I$28*Models!$G$28))) -> 93.982897 | AP31: =100*EXP(-EXP(Models!$D$65*(ChartData!B31-Models!$C$65+Models!$E$65*Models!$B$4+Models!$F$65*Models!$B$5))) -> 84.92266 | AQ31: =Models!$B$29*Models!$I$29+(200-Models!$B$29*Models!$I$29)/(1+EXP(Models!$C$29*B31*(Models!$B$4*Models!$F$29+Models!$B$5+Models!$I$29*Models!$G$29))) -> 91.179561 | AR31: =100*EXP(-EXP(Models!$D$66*(ChartData!B31-Models!$C$66+Models!$E$66*Models!$B$4+Models!$F$66*Models!$B$5))) -> 96.343805 | AS31: =Models!$B$30*Models!$I$30+(200-Models!$B$30*Models!$I$30)/(1+EXP(Models!$C$30*B31*(Models!$B$4*Models!$F$30+Models!$B$5+Models!$I$30*Models!$G$30))) -> 93.844018 | AT31: =100*EXP(-EXP(Models!$D$67*(ChartData!B31-Models!$C$67+Models!$E$67*Models!$B$4+Models!$F$67*Models!$B$5))) -> 92.492443
